BEGIN:VCALENDAR
VERSION:2.0
PRODID:-//Harrigan&#039;s Hunter Valley - ECPv6.15.7//NONSGML v1.0//EN
CALSCALE:GREGORIAN
METHOD:PUBLISH
X-ORIGINAL-URL:https://www.harriganshuntervalley.com.au
X-WR-CALDESC:Events for Harrigan&#039;s Hunter Valley
REFRESH-INTERVAL;VALUE=DURATION:PT1H
X-Robots-Tag:noindex
X-PUBLISHED-TTL:PT1H
BEGIN:VTIMEZONE
TZID:Australia/Sydney
BEGIN:STANDARD
TZOFFSETFROM:+1100
TZOFFSETTO:+1000
TZNAME:AEST
DTSTART:20250405T160000
END:STANDARD
BEGIN:DAYLIGHT
TZOFFSETFROM:+1000
TZOFFSETTO:+1100
TZNAME:AEDT
DTSTART:20251004T160000
END:DAYLIGHT
BEGIN:STANDARD
TZOFFSETFROM:+1100
TZOFFSETTO:+1000
TZNAME:AEST
DTSTART:20260404T160000
END:STANDARD
BEGIN:DAYLIGHT
TZOFFSETFROM:+1000
TZOFFSETTO:+1100
TZNAME:AEDT
DTSTART:20261003T160000
END:DAYLIGHT
BEGIN:STANDARD
TZOFFSETFROM:+1100
TZOFFSETTO:+1000
TZNAME:AEST
DTSTART:20270403T160000
END:STANDARD
BEGIN:DAYLIGHT
TZOFFSETFROM:+1000
TZOFFSETTO:+1100
TZNAME:AEDT
DTSTART:20271002T160000
END:DAYLIGHT
END:VTIMEZONE
BEGIN:VEVENT
DTSTART;TZID=Australia/Sydney:20261125T173000
DTEND;TZID=Australia/Sydney:20261125T210000
DTSTAMP:20260420T120155
CREATED:20230626T012249Z
LAST-MODIFIED:20260224T043742Z
UID:10002324-1795627800-1795640400@www.harriganshuntervalley.com.au
SUMMARY:Ribs Night
DESCRIPTION:Wednesday Ribs Night\nWednesday night is Ribs Night at Harrigan’s Hunter Valley! \nEvery Wednesday\, between 5:30pm and 9pm\, enjoy our 1/2 rack of pork ribs for just $30 or upsize to a full rack for $52. Served with our creamy slaw and chips. \nT&C apply. Specials not available on public holidays. \nBook Now
URL:https://www.harriganshuntervalley.com.au/event/ribs-night/2026-11-25/
LOCATION:Harrigan’s Hunter Valley\, Broke Road\, Pokolbin\, NSW\, 2320\, Australia
CATEGORIES:Food Specials,Weekly Events
ATTACH;FMTTYPE=image/jpeg:https://www.harriganshuntervalley.com.au/wp-content/uploads/2023/06/HHV2025_123_wednesday_ribs_night_web_800x600.jpg
END:VEVENT
BEGIN:VEVENT
DTSTART;TZID=Australia/Sydney:20261125T183000
DTEND;TZID=Australia/Sydney:20261125T203000
DTSTAMP:20260420T120155
CREATED:20240517T062109Z
LAST-MODIFIED:20251029T021810Z
UID:10004637-1795631400-1795638600@www.harriganshuntervalley.com.au
SUMMARY:Trivia Night
DESCRIPTION:Have you got what it takes? Grab your friends & test your knowledge! Laughs\, prizes\, and brain-bursting fun awaits. \nStarting Wednesday 12th of June\, join us weekly on Wednesdays from 6:30pm to 8:30pm. \nTriva Nights won’t be held on State of Origin game nights\, the dates impacted are 26th of June & 17th of July.
URL:https://www.harriganshuntervalley.com.au/event/trivia-night/2026-11-25/
LOCATION:Harrigan’s Hunter Valley\, Broke Road\, Pokolbin\, NSW\, 2320\, Australia
CATEGORIES:Weekly Events
ATTACH;FMTTYPE=image/jpeg:https://www.harriganshuntervalley.com.au/wp-content/uploads/2024/05/harrigans_hv_trivia_night_web_440x300.jpg
END:VEVENT
BEGIN:VEVENT
DTSTART;TZID=Australia/Sydney:20261126T120000
DTEND;TZID=Australia/Sydney:20261126T150000
DTSTAMP:20260420T120155
CREATED:20230626T013043Z
LAST-MODIFIED:20260318T082126Z
UID:10009836-1795694400-1795705200@www.harriganshuntervalley.com.au
SUMMARY:Lunch Specials
DESCRIPTION:Lunch Specials from $20\nFrom Monday to Thursday\, between 12pm and 3pm\, join us at Harrigan’s Hunter Valley for our fantastic range of lunch specials starting at just $20. \nWe’ve got everything from pizzas\, wraps and burgers to salads and fish and chips. See the bistro menu for selection. \nT&C apply. Specials not available on public holidays. \nBook Now
URL:https://www.harriganshuntervalley.com.au/event/lunch-specials/2026-11-26/
LOCATION:Harrigan’s Hunter Valley\, Broke Road\, Pokolbin\, NSW\, 2320\, Australia
CATEGORIES:Food Specials,Weekly Events
ATTACH;FMTTYPE=image/jpeg:https://www.harriganshuntervalley.com.au/wp-content/uploads/2023/06/HHV2025_123_weekdays_lunch_specials_web_800x600.jpg
END:VEVENT
BEGIN:VEVENT
DTSTART;TZID=Australia/Sydney:20261126T150000
DTEND;TZID=Australia/Sydney:20261126T170000
DTSTAMP:20260420T120156
CREATED:20220606T025124Z
LAST-MODIFIED:20260224T043800Z
UID:10008432-1795705200-1795712400@www.harriganshuntervalley.com.au
SUMMARY:Happy Hour
DESCRIPTION:Happy Hour Weekdays\nJoin us Monday to Friday between 3pm and 5pm for Harrigan’s Happy Hour\, when we serve pints at schooner prices. \nT&C apply. Specials not available on public holidays.
URL:https://www.harriganshuntervalley.com.au/event/happy-hour/2026-11-26/
LOCATION:Harrigan’s Hunter Valley\, Broke Road\, Pokolbin\, NSW\, 2320\, Australia
CATEGORIES:Drinks Specials,Food Specials,Weekly Events
ATTACH;FMTTYPE=image/jpeg:https://www.harriganshuntervalley.com.au/wp-content/uploads/2022/06/HHV2025_123_weekdays_happy_hour_web_800x600.jpg
END:VEVENT
BEGIN:VEVENT
DTSTART;TZID=Australia/Sydney:20261126T173000
DTEND;TZID=Australia/Sydney:20261126T210000
DTSTAMP:20260420T120156
CREATED:20230626T012552Z
LAST-MODIFIED:20260224T050648Z
UID:10002606-1795714200-1795726800@www.harriganshuntervalley.com.au
SUMMARY:Steak Night
DESCRIPTION:Thursday Steak Night\nThursday night is Steak Night at Harrigan’s Hunter Valley! \nEvery Thursday\, between 5:30pm and 9pm\, enjoy a delicious 250g rump steak dinner for just $30. Served with chips\, salad\, and your choice of sauce. \nT&C apply. Specials not available on public holidays. \nBook Now
URL:https://www.harriganshuntervalley.com.au/event/steak-night/2026-11-26/
LOCATION:Harrigan’s Hunter Valley\, Broke Road\, Pokolbin\, NSW\, 2320\, Australia
CATEGORIES:Food Specials,Weekly Events
ATTACH;FMTTYPE=image/jpeg:https://www.harriganshuntervalley.com.au/wp-content/uploads/2023/06/HHV2025_123_thursday_steak_night_web_800x600.jpg
END:VEVENT
BEGIN:VEVENT
DTSTART;TZID=Australia/Sydney:20261127T150000
DTEND;TZID=Australia/Sydney:20261127T170000
DTSTAMP:20260420T120156
CREATED:20220606T025124Z
LAST-MODIFIED:20260224T043800Z
UID:10008433-1795791600-1795798800@www.harriganshuntervalley.com.au
SUMMARY:Happy Hour
DESCRIPTION:Happy Hour Weekdays\nJoin us Monday to Friday between 3pm and 5pm for Harrigan’s Happy Hour\, when we serve pints at schooner prices. \nT&C apply. Specials not available on public holidays.
URL:https://www.harriganshuntervalley.com.au/event/happy-hour/2026-11-27/
LOCATION:Harrigan’s Hunter Valley\, Broke Road\, Pokolbin\, NSW\, 2320\, Australia
CATEGORIES:Drinks Specials,Food Specials,Weekly Events
ATTACH;FMTTYPE=image/jpeg:https://www.harriganshuntervalley.com.au/wp-content/uploads/2022/06/HHV2025_123_weekdays_happy_hour_web_800x600.jpg
END:VEVENT
BEGIN:VEVENT
DTSTART;TZID=Australia/Sydney:20261127T160000
DTEND;TZID=Australia/Sydney:20261127T180000
DTSTAMP:20260420T120156
CREATED:20231123T015034Z
LAST-MODIFIED:20260224T043714Z
UID:10004006-1795795200-1795802400@www.harriganshuntervalley.com.au
SUMMARY:Cocktail Hour
DESCRIPTION:Cocktail Hour\nGet classic cocktails for just $18 on Fridays from 4pm-6pm and Saturdays from 3pm-5pm. \nCheck out who’s playing on Friday and Saturday nights here. \nT&C apply. Specials not available on public holidays.
URL:https://www.harriganshuntervalley.com.au/event/cocktail-hour/2026-11-27/
LOCATION:Harrigan’s Hunter Valley\, Broke Road\, Pokolbin\, NSW\, 2320\, Australia
CATEGORIES:Drinks Specials,Food Specials,Weekly Events
ATTACH;FMTTYPE=image/jpeg:https://www.harriganshuntervalley.com.au/wp-content/uploads/2023/11/HHV2025_123_cocktail_hour_web_800x600.jpg
END:VEVENT
BEGIN:VEVENT
DTSTART;TZID=Australia/Sydney:20261128T150000
DTEND;TZID=Australia/Sydney:20261128T170000
DTSTAMP:20260420T120156
CREATED:20241003T012534Z
LAST-MODIFIED:20260224T043828Z
UID:10005473-1795878000-1795885200@www.harriganshuntervalley.com.au
SUMMARY:Cocktail Hour
DESCRIPTION:Cocktail Hour\nGet classic cocktails for just $18 on Fridays from 4pm-6pm and Saturdays from 3pm-5pm. \nCheck out who’s playing on Friday and Saturday nights here. \nT&C apply. Specials not available on public holidays.
URL:https://www.harriganshuntervalley.com.au/event/cocktail-hour-2/2026-11-28/
LOCATION:Harrigan’s Hunter Valley\, Broke Road\, Pokolbin\, NSW\, 2320\, Australia
CATEGORIES:Drinks Specials,Food Specials,Weekly Events
ATTACH;FMTTYPE=image/jpeg:https://www.harriganshuntervalley.com.au/wp-content/uploads/2023/11/HHV2025_123_cocktail_hour_web_800x600.jpg
END:VEVENT
BEGIN:VEVENT
DTSTART;TZID=Australia/Sydney:20261129T173000
DTEND;TZID=Australia/Sydney:20261129T210000
DTSTAMP:20260420T120156
CREATED:20250409T025433Z
LAST-MODIFIED:20260224T035057Z
UID:10006069-1795973400-1795986000@www.harriganshuntervalley.com.au
SUMMARY:Roast Night
DESCRIPTION:Sunday Roast Night\nSunday night is Roast Night at Harrigan’s Hunter Valley! \nEvery Sunday\, between 5:30pm and 9pm\, you can stop in for a classic roast dinner for just $24. Served with chef’s selection of sides. \nT&C apply. Specials not available on public holidays. \nBook Now
URL:https://www.harriganshuntervalley.com.au/event/roast-special/2026-11-29/
LOCATION:Harrigan’s Hunter Valley\, Broke Road\, Pokolbin\, NSW\, 2320\, Australia
CATEGORIES:Food Specials,Weekly Events
ATTACH;FMTTYPE=image/jpeg:https://www.harriganshuntervalley.com.au/wp-content/uploads/2025/04/HHV2025_123_sunday_roast_night_web_800x600.jpg
END:VEVENT
BEGIN:VEVENT
DTSTART;TZID=Australia/Sydney:20261130T120000
DTEND;TZID=Australia/Sydney:20261130T150000
DTSTAMP:20260420T120156
CREATED:20230626T013043Z
LAST-MODIFIED:20260318T082126Z
UID:10009837-1796040000-1796050800@www.harriganshuntervalley.com.au
SUMMARY:Lunch Specials
DESCRIPTION:Lunch Specials from $20\nFrom Monday to Thursday\, between 12pm and 3pm\, join us at Harrigan’s Hunter Valley for our fantastic range of lunch specials starting at just $20. \nWe’ve got everything from pizzas\, wraps and burgers to salads and fish and chips. See the bistro menu for selection. \nT&C apply. Specials not available on public holidays. \nBook Now
URL:https://www.harriganshuntervalley.com.au/event/lunch-specials/2026-11-30/
LOCATION:Harrigan’s Hunter Valley\, Broke Road\, Pokolbin\, NSW\, 2320\, Australia
CATEGORIES:Food Specials,Weekly Events
ATTACH;FMTTYPE=image/jpeg:https://www.harriganshuntervalley.com.au/wp-content/uploads/2023/06/HHV2025_123_weekdays_lunch_specials_web_800x600.jpg
END:VEVENT
BEGIN:VEVENT
DTSTART;TZID=Australia/Sydney:20261130T150000
DTEND;TZID=Australia/Sydney:20261130T170000
DTSTAMP:20260420T120156
CREATED:20220606T025124Z
LAST-MODIFIED:20260224T043800Z
UID:10001481-1796050800-1796058000@www.harriganshuntervalley.com.au
SUMMARY:Happy Hour
DESCRIPTION:Happy Hour Weekdays\nJoin us Monday to Friday between 3pm and 5pm for Harrigan’s Happy Hour\, when we serve pints at schooner prices. \nT&C apply. Specials not available on public holidays.
URL:https://www.harriganshuntervalley.com.au/event/happy-hour/2026-11-30/
LOCATION:Harrigan’s Hunter Valley\, Broke Road\, Pokolbin\, NSW\, 2320\, Australia
CATEGORIES:Drinks Specials,Food Specials,Weekly Events
ATTACH;FMTTYPE=image/jpeg:https://www.harriganshuntervalley.com.au/wp-content/uploads/2022/06/HHV2025_123_weekdays_happy_hour_web_800x600.jpg
END:VEVENT
BEGIN:VEVENT
DTSTART;TZID=Australia/Sydney:20261130T173000
DTEND;TZID=Australia/Sydney:20261130T210000
DTSTAMP:20260420T120156
CREATED:20250409T030110Z
LAST-MODIFIED:20260225T020205Z
UID:10006591-1796059800-1796072400@www.harriganshuntervalley.com.au
SUMMARY:Curry Night
DESCRIPTION:Monday Curry Night\nMonday night is Curry Night at Harrigan’s Hunter Valley! \nEvery Monday\, between 5:30pm and 9pm\, enjoy a delicious chef’s selection curry for just $20. Served with rice and papadum. \nT&C apply. Specials not available on public holidays. \nBook Now
URL:https://www.harriganshuntervalley.com.au/event/curry-special/2026-11-30/
LOCATION:Harrigan’s Hunter Valley\, Broke Road\, Pokolbin\, NSW\, 2320\, Australia
CATEGORIES:Food Specials,Weekly Events
ATTACH;FMTTYPE=image/jpeg:https://www.harriganshuntervalley.com.au/wp-content/uploads/2025/04/HHV2025_123_curry_night_web_800x600.jpg
END:VEVENT
BEGIN:VEVENT
DTSTART;TZID=Australia/Sydney:20261201T120000
DTEND;TZID=Australia/Sydney:20261201T150000
DTSTAMP:20260420T120156
CREATED:20230626T013043Z
LAST-MODIFIED:20260318T082126Z
UID:10003374-1796126400-1796137200@www.harriganshuntervalley.com.au
SUMMARY:Lunch Specials
DESCRIPTION:Lunch Specials from $20\nFrom Monday to Thursday\, between 12pm and 3pm\, join us at Harrigan’s Hunter Valley for our fantastic range of lunch specials starting at just $20. \nWe’ve got everything from pizzas\, wraps and burgers to salads and fish and chips. See the bistro menu for selection. \nT&C apply. Specials not available on public holidays. \nBook Now
URL:https://www.harriganshuntervalley.com.au/event/lunch-specials/2026-12-01/
LOCATION:Harrigan’s Hunter Valley\, Broke Road\, Pokolbin\, NSW\, 2320\, Australia
CATEGORIES:Food Specials,Weekly Events
ATTACH;FMTTYPE=image/jpeg:https://www.harriganshuntervalley.com.au/wp-content/uploads/2023/06/HHV2025_123_weekdays_lunch_specials_web_800x600.jpg
END:VEVENT
BEGIN:VEVENT
DTSTART;TZID=Australia/Sydney:20261201T150000
DTEND;TZID=Australia/Sydney:20261201T170000
DTSTAMP:20260420T120156
CREATED:20220606T025124Z
LAST-MODIFIED:20260224T043800Z
UID:10008434-1796137200-1796144400@www.harriganshuntervalley.com.au
SUMMARY:Happy Hour
DESCRIPTION:Happy Hour Weekdays\nJoin us Monday to Friday between 3pm and 5pm for Harrigan’s Happy Hour\, when we serve pints at schooner prices. \nT&C apply. Specials not available on public holidays.
URL:https://www.harriganshuntervalley.com.au/event/happy-hour/2026-12-01/
LOCATION:Harrigan’s Hunter Valley\, Broke Road\, Pokolbin\, NSW\, 2320\, Australia
CATEGORIES:Drinks Specials,Food Specials,Weekly Events
ATTACH;FMTTYPE=image/jpeg:https://www.harriganshuntervalley.com.au/wp-content/uploads/2022/06/HHV2025_123_weekdays_happy_hour_web_800x600.jpg
END:VEVENT
BEGIN:VEVENT
DTSTART;TZID=Australia/Sydney:20261201T173000
DTEND;TZID=Australia/Sydney:20261201T210000
DTSTAMP:20260420T120156
CREATED:20240508T030650Z
LAST-MODIFIED:20260224T043753Z
UID:10004302-1796146200-1796158800@www.harriganshuntervalley.com.au
SUMMARY:Schnitty Night
DESCRIPTION:Tuesday Schnitty Night\nTuesday night is Schnitty Night at Harrigan’s Hunter Valley! \nEvery Tuesday\, between 5:30pm and 9pm\, enjoy a classic schnitzel dinner for just $20. Served with chips\, salad and gravy\, or make it a parmigiana for an extra $4. \nT&C apply. Specials not available on public holidays. \nBook Now
URL:https://www.harriganshuntervalley.com.au/event/schnitty-night/2026-12-01/
LOCATION:Harrigan’s Hunter Valley\, Broke Road\, Pokolbin\, NSW\, 2320\, Australia
CATEGORIES:Food Specials,Weekly Events
ATTACH;FMTTYPE=image/jpeg:https://www.harriganshuntervalley.com.au/wp-content/uploads/2024/05/HHV2025_123_tuesday_schnitty_night_web_800x600.jpg
END:VEVENT
BEGIN:VEVENT
DTSTART;TZID=Australia/Sydney:20261202T120000
DTEND;TZID=Australia/Sydney:20261202T150000
DTSTAMP:20260420T120156
CREATED:20230626T013043Z
LAST-MODIFIED:20260318T082126Z
UID:10009838-1796212800-1796223600@www.harriganshuntervalley.com.au
SUMMARY:Lunch Specials
DESCRIPTION:Lunch Specials from $20\nFrom Monday to Thursday\, between 12pm and 3pm\, join us at Harrigan’s Hunter Valley for our fantastic range of lunch specials starting at just $20. \nWe’ve got everything from pizzas\, wraps and burgers to salads and fish and chips. See the bistro menu for selection. \nT&C apply. Specials not available on public holidays. \nBook Now
URL:https://www.harriganshuntervalley.com.au/event/lunch-specials/2026-12-02/
LOCATION:Harrigan’s Hunter Valley\, Broke Road\, Pokolbin\, NSW\, 2320\, Australia
CATEGORIES:Food Specials,Weekly Events
ATTACH;FMTTYPE=image/jpeg:https://www.harriganshuntervalley.com.au/wp-content/uploads/2023/06/HHV2025_123_weekdays_lunch_specials_web_800x600.jpg
END:VEVENT
BEGIN:VEVENT
DTSTART;TZID=Australia/Sydney:20261202T150000
DTEND;TZID=Australia/Sydney:20261202T170000
DTSTAMP:20260420T120156
CREATED:20220606T025124Z
LAST-MODIFIED:20260224T043800Z
UID:10008435-1796223600-1796230800@www.harriganshuntervalley.com.au
SUMMARY:Happy Hour
DESCRIPTION:Happy Hour Weekdays\nJoin us Monday to Friday between 3pm and 5pm for Harrigan’s Happy Hour\, when we serve pints at schooner prices. \nT&C apply. Specials not available on public holidays.
URL:https://www.harriganshuntervalley.com.au/event/happy-hour/2026-12-02/
LOCATION:Harrigan’s Hunter Valley\, Broke Road\, Pokolbin\, NSW\, 2320\, Australia
CATEGORIES:Drinks Specials,Food Specials,Weekly Events
ATTACH;FMTTYPE=image/jpeg:https://www.harriganshuntervalley.com.au/wp-content/uploads/2022/06/HHV2025_123_weekdays_happy_hour_web_800x600.jpg
END:VEVENT
BEGIN:VEVENT
DTSTART;TZID=Australia/Sydney:20261202T173000
DTEND;TZID=Australia/Sydney:20261202T210000
DTSTAMP:20260420T120156
CREATED:20230626T012249Z
LAST-MODIFIED:20260224T043742Z
UID:10002325-1796232600-1796245200@www.harriganshuntervalley.com.au
SUMMARY:Ribs Night
DESCRIPTION:Wednesday Ribs Night\nWednesday night is Ribs Night at Harrigan’s Hunter Valley! \nEvery Wednesday\, between 5:30pm and 9pm\, enjoy our 1/2 rack of pork ribs for just $30 or upsize to a full rack for $52. Served with our creamy slaw and chips. \nT&C apply. Specials not available on public holidays. \nBook Now
URL:https://www.harriganshuntervalley.com.au/event/ribs-night/2026-12-02/
LOCATION:Harrigan’s Hunter Valley\, Broke Road\, Pokolbin\, NSW\, 2320\, Australia
CATEGORIES:Food Specials,Weekly Events
ATTACH;FMTTYPE=image/jpeg:https://www.harriganshuntervalley.com.au/wp-content/uploads/2023/06/HHV2025_123_wednesday_ribs_night_web_800x600.jpg
END:VEVENT
BEGIN:VEVENT
DTSTART;TZID=Australia/Sydney:20261202T183000
DTEND;TZID=Australia/Sydney:20261202T203000
DTSTAMP:20260420T120156
CREATED:20240517T062109Z
LAST-MODIFIED:20251029T021810Z
UID:10004638-1796236200-1796243400@www.harriganshuntervalley.com.au
SUMMARY:Trivia Night
DESCRIPTION:Have you got what it takes? Grab your friends & test your knowledge! Laughs\, prizes\, and brain-bursting fun awaits. \nStarting Wednesday 12th of June\, join us weekly on Wednesdays from 6:30pm to 8:30pm. \nTriva Nights won’t be held on State of Origin game nights\, the dates impacted are 26th of June & 17th of July.
URL:https://www.harriganshuntervalley.com.au/event/trivia-night/2026-12-02/
LOCATION:Harrigan’s Hunter Valley\, Broke Road\, Pokolbin\, NSW\, 2320\, Australia
CATEGORIES:Weekly Events
ATTACH;FMTTYPE=image/jpeg:https://www.harriganshuntervalley.com.au/wp-content/uploads/2024/05/harrigans_hv_trivia_night_web_440x300.jpg
END:VEVENT
BEGIN:VEVENT
DTSTART;TZID=Australia/Sydney:20261203T120000
DTEND;TZID=Australia/Sydney:20261203T150000
DTSTAMP:20260420T120156
CREATED:20230626T013043Z
LAST-MODIFIED:20260318T082126Z
UID:10009839-1796299200-1796310000@www.harriganshuntervalley.com.au
SUMMARY:Lunch Specials
DESCRIPTION:Lunch Specials from $20\nFrom Monday to Thursday\, between 12pm and 3pm\, join us at Harrigan’s Hunter Valley for our fantastic range of lunch specials starting at just $20. \nWe’ve got everything from pizzas\, wraps and burgers to salads and fish and chips. See the bistro menu for selection. \nT&C apply. Specials not available on public holidays. \nBook Now
URL:https://www.harriganshuntervalley.com.au/event/lunch-specials/2026-12-03/
LOCATION:Harrigan’s Hunter Valley\, Broke Road\, Pokolbin\, NSW\, 2320\, Australia
CATEGORIES:Food Specials,Weekly Events
ATTACH;FMTTYPE=image/jpeg:https://www.harriganshuntervalley.com.au/wp-content/uploads/2023/06/HHV2025_123_weekdays_lunch_specials_web_800x600.jpg
END:VEVENT
BEGIN:VEVENT
DTSTART;TZID=Australia/Sydney:20261203T150000
DTEND;TZID=Australia/Sydney:20261203T170000
DTSTAMP:20260420T120156
CREATED:20220606T025124Z
LAST-MODIFIED:20260224T043800Z
UID:10008436-1796310000-1796317200@www.harriganshuntervalley.com.au
SUMMARY:Happy Hour
DESCRIPTION:Happy Hour Weekdays\nJoin us Monday to Friday between 3pm and 5pm for Harrigan’s Happy Hour\, when we serve pints at schooner prices. \nT&C apply. Specials not available on public holidays.
URL:https://www.harriganshuntervalley.com.au/event/happy-hour/2026-12-03/
LOCATION:Harrigan’s Hunter Valley\, Broke Road\, Pokolbin\, NSW\, 2320\, Australia
CATEGORIES:Drinks Specials,Food Specials,Weekly Events
ATTACH;FMTTYPE=image/jpeg:https://www.harriganshuntervalley.com.au/wp-content/uploads/2022/06/HHV2025_123_weekdays_happy_hour_web_800x600.jpg
END:VEVENT
BEGIN:VEVENT
DTSTART;TZID=Australia/Sydney:20261203T173000
DTEND;TZID=Australia/Sydney:20261203T210000
DTSTAMP:20260420T120156
CREATED:20230626T012552Z
LAST-MODIFIED:20260224T050648Z
UID:10002607-1796319000-1796331600@www.harriganshuntervalley.com.au
SUMMARY:Steak Night
DESCRIPTION:Thursday Steak Night\nThursday night is Steak Night at Harrigan’s Hunter Valley! \nEvery Thursday\, between 5:30pm and 9pm\, enjoy a delicious 250g rump steak dinner for just $30. Served with chips\, salad\, and your choice of sauce. \nT&C apply. Specials not available on public holidays. \nBook Now
URL:https://www.harriganshuntervalley.com.au/event/steak-night/2026-12-03/
LOCATION:Harrigan’s Hunter Valley\, Broke Road\, Pokolbin\, NSW\, 2320\, Australia
CATEGORIES:Food Specials,Weekly Events
ATTACH;FMTTYPE=image/jpeg:https://www.harriganshuntervalley.com.au/wp-content/uploads/2023/06/HHV2025_123_thursday_steak_night_web_800x600.jpg
END:VEVENT
BEGIN:VEVENT
DTSTART;TZID=Australia/Sydney:20261204T150000
DTEND;TZID=Australia/Sydney:20261204T170000
DTSTAMP:20260420T120156
CREATED:20220606T025124Z
LAST-MODIFIED:20260224T043800Z
UID:10008437-1796396400-1796403600@www.harriganshuntervalley.com.au
SUMMARY:Happy Hour
DESCRIPTION:Happy Hour Weekdays\nJoin us Monday to Friday between 3pm and 5pm for Harrigan’s Happy Hour\, when we serve pints at schooner prices. \nT&C apply. Specials not available on public holidays.
URL:https://www.harriganshuntervalley.com.au/event/happy-hour/2026-12-04/
LOCATION:Harrigan’s Hunter Valley\, Broke Road\, Pokolbin\, NSW\, 2320\, Australia
CATEGORIES:Drinks Specials,Food Specials,Weekly Events
ATTACH;FMTTYPE=image/jpeg:https://www.harriganshuntervalley.com.au/wp-content/uploads/2022/06/HHV2025_123_weekdays_happy_hour_web_800x600.jpg
END:VEVENT
BEGIN:VEVENT
DTSTART;TZID=Australia/Sydney:20261204T160000
DTEND;TZID=Australia/Sydney:20261204T180000
DTSTAMP:20260420T120156
CREATED:20231123T015034Z
LAST-MODIFIED:20260224T043714Z
UID:10004007-1796400000-1796407200@www.harriganshuntervalley.com.au
SUMMARY:Cocktail Hour
DESCRIPTION:Cocktail Hour\nGet classic cocktails for just $18 on Fridays from 4pm-6pm and Saturdays from 3pm-5pm. \nCheck out who’s playing on Friday and Saturday nights here. \nT&C apply. Specials not available on public holidays.
URL:https://www.harriganshuntervalley.com.au/event/cocktail-hour/2026-12-04/
LOCATION:Harrigan’s Hunter Valley\, Broke Road\, Pokolbin\, NSW\, 2320\, Australia
CATEGORIES:Drinks Specials,Food Specials,Weekly Events
ATTACH;FMTTYPE=image/jpeg:https://www.harriganshuntervalley.com.au/wp-content/uploads/2023/11/HHV2025_123_cocktail_hour_web_800x600.jpg
END:VEVENT
BEGIN:VEVENT
DTSTART;TZID=Australia/Sydney:20261205T150000
DTEND;TZID=Australia/Sydney:20261205T170000
DTSTAMP:20260420T120156
CREATED:20241003T012534Z
LAST-MODIFIED:20260224T043828Z
UID:10005474-1796482800-1796490000@www.harriganshuntervalley.com.au
SUMMARY:Cocktail Hour
DESCRIPTION:Cocktail Hour\nGet classic cocktails for just $18 on Fridays from 4pm-6pm and Saturdays from 3pm-5pm. \nCheck out who’s playing on Friday and Saturday nights here. \nT&C apply. Specials not available on public holidays.
URL:https://www.harriganshuntervalley.com.au/event/cocktail-hour-2/2026-12-05/
LOCATION:Harrigan’s Hunter Valley\, Broke Road\, Pokolbin\, NSW\, 2320\, Australia
CATEGORIES:Drinks Specials,Food Specials,Weekly Events
ATTACH;FMTTYPE=image/jpeg:https://www.harriganshuntervalley.com.au/wp-content/uploads/2023/11/HHV2025_123_cocktail_hour_web_800x600.jpg
END:VEVENT
BEGIN:VEVENT
DTSTART;TZID=Australia/Sydney:20261206T173000
DTEND;TZID=Australia/Sydney:20261206T210000
DTSTAMP:20260420T120156
CREATED:20250409T025433Z
LAST-MODIFIED:20260224T035057Z
UID:10006070-1796578200-1796590800@www.harriganshuntervalley.com.au
SUMMARY:Roast Night
DESCRIPTION:Sunday Roast Night\nSunday night is Roast Night at Harrigan’s Hunter Valley! \nEvery Sunday\, between 5:30pm and 9pm\, you can stop in for a classic roast dinner for just $24. Served with chef’s selection of sides. \nT&C apply. Specials not available on public holidays. \nBook Now
URL:https://www.harriganshuntervalley.com.au/event/roast-special/2026-12-06/
LOCATION:Harrigan’s Hunter Valley\, Broke Road\, Pokolbin\, NSW\, 2320\, Australia
CATEGORIES:Food Specials,Weekly Events
ATTACH;FMTTYPE=image/jpeg:https://www.harriganshuntervalley.com.au/wp-content/uploads/2025/04/HHV2025_123_sunday_roast_night_web_800x600.jpg
END:VEVENT
BEGIN:VEVENT
DTSTART;TZID=Australia/Sydney:20261207T120000
DTEND;TZID=Australia/Sydney:20261207T150000
DTSTAMP:20260420T120156
CREATED:20230626T013043Z
LAST-MODIFIED:20260318T082126Z
UID:10009840-1796644800-1796655600@www.harriganshuntervalley.com.au
SUMMARY:Lunch Specials
DESCRIPTION:Lunch Specials from $20\nFrom Monday to Thursday\, between 12pm and 3pm\, join us at Harrigan’s Hunter Valley for our fantastic range of lunch specials starting at just $20. \nWe’ve got everything from pizzas\, wraps and burgers to salads and fish and chips. See the bistro menu for selection. \nT&C apply. Specials not available on public holidays. \nBook Now
URL:https://www.harriganshuntervalley.com.au/event/lunch-specials/2026-12-07/
LOCATION:Harrigan’s Hunter Valley\, Broke Road\, Pokolbin\, NSW\, 2320\, Australia
CATEGORIES:Food Specials,Weekly Events
ATTACH;FMTTYPE=image/jpeg:https://www.harriganshuntervalley.com.au/wp-content/uploads/2023/06/HHV2025_123_weekdays_lunch_specials_web_800x600.jpg
END:VEVENT
BEGIN:VEVENT
DTSTART;TZID=Australia/Sydney:20261207T150000
DTEND;TZID=Australia/Sydney:20261207T170000
DTSTAMP:20260420T120156
CREATED:20220606T025124Z
LAST-MODIFIED:20260224T043800Z
UID:10001482-1796655600-1796662800@www.harriganshuntervalley.com.au
SUMMARY:Happy Hour
DESCRIPTION:Happy Hour Weekdays\nJoin us Monday to Friday between 3pm and 5pm for Harrigan’s Happy Hour\, when we serve pints at schooner prices. \nT&C apply. Specials not available on public holidays.
URL:https://www.harriganshuntervalley.com.au/event/happy-hour/2026-12-07/
LOCATION:Harrigan’s Hunter Valley\, Broke Road\, Pokolbin\, NSW\, 2320\, Australia
CATEGORIES:Drinks Specials,Food Specials,Weekly Events
ATTACH;FMTTYPE=image/jpeg:https://www.harriganshuntervalley.com.au/wp-content/uploads/2022/06/HHV2025_123_weekdays_happy_hour_web_800x600.jpg
END:VEVENT
BEGIN:VEVENT
DTSTART;TZID=Australia/Sydney:20261207T173000
DTEND;TZID=Australia/Sydney:20261207T210000
DTSTAMP:20260420T120156
CREATED:20250409T030110Z
LAST-MODIFIED:20260225T020205Z
UID:10006592-1796664600-1796677200@www.harriganshuntervalley.com.au
SUMMARY:Curry Night
DESCRIPTION:Monday Curry Night\nMonday night is Curry Night at Harrigan’s Hunter Valley! \nEvery Monday\, between 5:30pm and 9pm\, enjoy a delicious chef’s selection curry for just $20. Served with rice and papadum. \nT&C apply. Specials not available on public holidays. \nBook Now
URL:https://www.harriganshuntervalley.com.au/event/curry-special/2026-12-07/
LOCATION:Harrigan’s Hunter Valley\, Broke Road\, Pokolbin\, NSW\, 2320\, Australia
CATEGORIES:Food Specials,Weekly Events
ATTACH;FMTTYPE=image/jpeg:https://www.harriganshuntervalley.com.au/wp-content/uploads/2025/04/HHV2025_123_curry_night_web_800x600.jpg
END:VEVENT
BEGIN:VEVENT
DTSTART;TZID=Australia/Sydney:20261208T120000
DTEND;TZID=Australia/Sydney:20261208T150000
DTSTAMP:20260420T120156
CREATED:20230626T013043Z
LAST-MODIFIED:20260318T082126Z
UID:10003378-1796731200-1796742000@www.harriganshuntervalley.com.au
SUMMARY:Lunch Specials
DESCRIPTION:Lunch Specials from $20\nFrom Monday to Thursday\, between 12pm and 3pm\, join us at Harrigan’s Hunter Valley for our fantastic range of lunch specials starting at just $20. \nWe’ve got everything from pizzas\, wraps and burgers to salads and fish and chips. See the bistro menu for selection. \nT&C apply. Specials not available on public holidays. \nBook Now
URL:https://www.harriganshuntervalley.com.au/event/lunch-specials/2026-12-08/
LOCATION:Harrigan’s Hunter Valley\, Broke Road\, Pokolbin\, NSW\, 2320\, Australia
CATEGORIES:Food Specials,Weekly Events
ATTACH;FMTTYPE=image/jpeg:https://www.harriganshuntervalley.com.au/wp-content/uploads/2023/06/HHV2025_123_weekdays_lunch_specials_web_800x600.jpg
END:VEVENT
END:VCALENDAR