BEGIN:VCALENDAR
VERSION:2.0
PRODID:-//Harrigan&#039;s Hunter Valley - ECPv6.15.7//NONSGML v1.0//EN
CALSCALE:GREGORIAN
METHOD:PUBLISH
X-WR-CALNAME:Harrigan&#039;s Hunter Valley
X-ORIGINAL-URL:https://www.harriganshuntervalley.com.au
X-WR-CALDESC:Events for Harrigan&#039;s Hunter Valley
REFRESH-INTERVAL;VALUE=DURATION:PT1H
X-Robots-Tag:noindex
X-PUBLISHED-TTL:PT1H
BEGIN:VTIMEZONE
TZID:Australia/Sydney
BEGIN:STANDARD
TZOFFSETFROM:+1100
TZOFFSETTO:+1000
TZNAME:AEST
DTSTART:20230401T160000
END:STANDARD
BEGIN:DAYLIGHT
TZOFFSETFROM:+1000
TZOFFSETTO:+1100
TZNAME:AEDT
DTSTART:20230930T160000
END:DAYLIGHT
BEGIN:STANDARD
TZOFFSETFROM:+1100
TZOFFSETTO:+1000
TZNAME:AEST
DTSTART:20240406T160000
END:STANDARD
BEGIN:DAYLIGHT
TZOFFSETFROM:+1000
TZOFFSETTO:+1100
TZNAME:AEDT
DTSTART:20241005T160000
END:DAYLIGHT
BEGIN:STANDARD
TZOFFSETFROM:+1100
TZOFFSETTO:+1000
TZNAME:AEST
DTSTART:20250405T160000
END:STANDARD
BEGIN:DAYLIGHT
TZOFFSETFROM:+1000
TZOFFSETTO:+1100
TZNAME:AEDT
DTSTART:20251004T160000
END:DAYLIGHT
END:VTIMEZONE
BEGIN:VEVENT
DTSTART;TZID=Australia/Sydney:20240327T150000
DTEND;TZID=Australia/Sydney:20240327T170000
DTSTAMP:20260424T001210
CREATED:20220606T025124Z
LAST-MODIFIED:20260422T084526Z
UID:10007875-1711551600-1711558800@www.harriganshuntervalley.com.au
SUMMARY:Happy Hour
DESCRIPTION:Happy Hour Weekdays\nJoin us Monday to Friday between 3pm and 5pm for Harrigan’s Happy Hour. \nWe’ve got domestic beers from $7 and premium and craft beers from $8.50! \nT&C apply. Specials not available on public holidays.
URL:https://www.harriganshuntervalley.com.au/event/happy-hour/2024-03-27/
LOCATION:Harrigan’s Hunter Valley\, Broke Road\, Pokolbin\, NSW\, 2320\, Australia
CATEGORIES:Drinks Specials,Food Specials,Weekly Events
ATTACH;FMTTYPE=image/jpeg:https://www.harriganshuntervalley.com.au/wp-content/uploads/2022/06/HHV2026_035_happy_hour_website_800x600.jpg
END:VEVENT
BEGIN:VEVENT
DTSTART;TZID=Australia/Sydney:20240327T120000
DTEND;TZID=Australia/Sydney:20240327T150000
DTSTAMP:20260424T001210
CREATED:20230626T013043Z
LAST-MODIFIED:20260318T082126Z
UID:10009418-1711540800-1711551600@www.harriganshuntervalley.com.au
SUMMARY:Lunch Specials
DESCRIPTION:Lunch Specials from $20\nFrom Monday to Thursday\, between 12pm and 3pm\, join us at Harrigan’s Hunter Valley for our fantastic range of lunch specials starting at just $20. \nWe’ve got everything from pizzas\, wraps and burgers to salads and fish and chips. See the bistro menu for selection. \nT&C apply. Specials not available on public holidays. \nBook Now
URL:https://www.harriganshuntervalley.com.au/event/lunch-specials/2024-03-27/
LOCATION:Harrigan’s Hunter Valley\, Broke Road\, Pokolbin\, NSW\, 2320\, Australia
CATEGORIES:Food Specials,Weekly Events
ATTACH;FMTTYPE=image/jpeg:https://www.harriganshuntervalley.com.au/wp-content/uploads/2023/06/HHV2025_123_weekdays_lunch_specials_web_800x600.jpg
END:VEVENT
BEGIN:VEVENT
DTSTART;TZID=Australia/Sydney:20240326T173000
DTEND;TZID=Australia/Sydney:20240326T210000
DTSTAMP:20260424T001210
CREATED:20230626T011924Z
LAST-MODIFIED:20230626T011924Z
UID:10001902-1711474200-1711486800@www.harriganshuntervalley.com.au
SUMMARY:Tuesday - Pizza Night
DESCRIPTION:Join us at Harrigan’s every Tuesday night for a delicious Chef selection of pizzas!\nFor $20 each. From 5:30pm to 9pm. \nT&C apply. \nReserve your table today.\nBook Now
URL:https://www.harriganshuntervalley.com.au/event/tuesday-pizza-night/2024-03-26/
LOCATION:Harrigan’s Hunter Valley\, Broke Road\, Pokolbin\, NSW\, 2320\, Australia
CATEGORIES:Food Specials
ATTACH;FMTTYPE=image/jpeg:https://www.harriganshuntervalley.com.au/wp-content/uploads/2023/06/tuesday_440x300px.jpg
END:VEVENT
BEGIN:VEVENT
DTSTART;TZID=Australia/Sydney:20240326T150000
DTEND;TZID=Australia/Sydney:20240326T170000
DTSTAMP:20260424T001210
CREATED:20220606T025124Z
LAST-MODIFIED:20260422T084526Z
UID:10007874-1711465200-1711472400@www.harriganshuntervalley.com.au
SUMMARY:Happy Hour
DESCRIPTION:Happy Hour Weekdays\nJoin us Monday to Friday between 3pm and 5pm for Harrigan’s Happy Hour. \nWe’ve got domestic beers from $7 and premium and craft beers from $8.50! \nT&C apply. Specials not available on public holidays.
URL:https://www.harriganshuntervalley.com.au/event/happy-hour/2024-03-26/
LOCATION:Harrigan’s Hunter Valley\, Broke Road\, Pokolbin\, NSW\, 2320\, Australia
CATEGORIES:Drinks Specials,Food Specials,Weekly Events
ATTACH;FMTTYPE=image/jpeg:https://www.harriganshuntervalley.com.au/wp-content/uploads/2022/06/HHV2026_035_happy_hour_website_800x600.jpg
END:VEVENT
BEGIN:VEVENT
DTSTART;TZID=Australia/Sydney:20240326T120000
DTEND;TZID=Australia/Sydney:20240326T150000
DTSTAMP:20260424T001210
CREATED:20230626T013043Z
LAST-MODIFIED:20260318T082126Z
UID:10002819-1711454400-1711465200@www.harriganshuntervalley.com.au
SUMMARY:Lunch Specials
DESCRIPTION:Lunch Specials from $20\nFrom Monday to Thursday\, between 12pm and 3pm\, join us at Harrigan’s Hunter Valley for our fantastic range of lunch specials starting at just $20. \nWe’ve got everything from pizzas\, wraps and burgers to salads and fish and chips. See the bistro menu for selection. \nT&C apply. Specials not available on public holidays. \nBook Now
URL:https://www.harriganshuntervalley.com.au/event/lunch-specials/2024-03-26/
LOCATION:Harrigan’s Hunter Valley\, Broke Road\, Pokolbin\, NSW\, 2320\, Australia
CATEGORIES:Food Specials,Weekly Events
ATTACH;FMTTYPE=image/jpeg:https://www.harriganshuntervalley.com.au/wp-content/uploads/2023/06/HHV2025_123_weekdays_lunch_specials_web_800x600.jpg
END:VEVENT
BEGIN:VEVENT
DTSTART;TZID=Australia/Sydney:20240325T173000
DTEND;TZID=Australia/Sydney:20240325T210000
DTSTAMP:20260424T001210
CREATED:20230626T010609Z
LAST-MODIFIED:20250409T025421Z
UID:10001623-1711387800-1711400400@www.harriganshuntervalley.com.au
SUMMARY:$24 Roast Special
DESCRIPTION:$24 ROAST SPECIAL (Chef’s Selection)\nSunday 5:30pm-9pm. Served with chef’s selection of sides.\nT&C apply. Specials not available on public holidays. \nBook Now
URL:https://www.harriganshuntervalley.com.au/event/monday-roast/2024-03-25/
LOCATION:Harrigan’s Hunter Valley\, Broke Road\, Pokolbin\, NSW\, 2320\, Australia
CATEGORIES:Food Specials
ATTACH;FMTTYPE=image/jpeg:https://www.harriganshuntervalley.com.au/wp-content/uploads/2023/06/HHV2025_029_specials-update_web_440x300px2.jpg
END:VEVENT
BEGIN:VEVENT
DTSTART;TZID=Australia/Sydney:20240325T150000
DTEND;TZID=Australia/Sydney:20240325T170000
DTSTAMP:20260424T001210
CREATED:20220606T025124Z
LAST-MODIFIED:20260422T084526Z
UID:10001341-1711378800-1711386000@www.harriganshuntervalley.com.au
SUMMARY:Happy Hour
DESCRIPTION:Happy Hour Weekdays\nJoin us Monday to Friday between 3pm and 5pm for Harrigan’s Happy Hour. \nWe’ve got domestic beers from $7 and premium and craft beers from $8.50! \nT&C apply. Specials not available on public holidays.
URL:https://www.harriganshuntervalley.com.au/event/happy-hour/2024-03-25/
LOCATION:Harrigan’s Hunter Valley\, Broke Road\, Pokolbin\, NSW\, 2320\, Australia
CATEGORIES:Drinks Specials,Food Specials,Weekly Events
ATTACH;FMTTYPE=image/jpeg:https://www.harriganshuntervalley.com.au/wp-content/uploads/2022/06/HHV2026_035_happy_hour_website_800x600.jpg
END:VEVENT
BEGIN:VEVENT
DTSTART;TZID=Australia/Sydney:20240325T120000
DTEND;TZID=Australia/Sydney:20240325T150000
DTSTAMP:20260424T001210
CREATED:20230626T013043Z
LAST-MODIFIED:20260318T082126Z
UID:10009417-1711368000-1711378800@www.harriganshuntervalley.com.au
SUMMARY:Lunch Specials
DESCRIPTION:Lunch Specials from $20\nFrom Monday to Thursday\, between 12pm and 3pm\, join us at Harrigan’s Hunter Valley for our fantastic range of lunch specials starting at just $20. \nWe’ve got everything from pizzas\, wraps and burgers to salads and fish and chips. See the bistro menu for selection. \nT&C apply. Specials not available on public holidays. \nBook Now
URL:https://www.harriganshuntervalley.com.au/event/lunch-specials/2024-03-25/
LOCATION:Harrigan’s Hunter Valley\, Broke Road\, Pokolbin\, NSW\, 2320\, Australia
CATEGORIES:Food Specials,Weekly Events
ATTACH;FMTTYPE=image/jpeg:https://www.harriganshuntervalley.com.au/wp-content/uploads/2023/06/HHV2025_123_weekdays_lunch_specials_web_800x600.jpg
END:VEVENT
BEGIN:VEVENT
DTSTART;TZID=Australia/Sydney:20240324T073000
DTEND;TZID=Australia/Sydney:20240324T073000
DTSTAMP:20260424T001210
CREATED:20240226T054334Z
LAST-MODIFIED:20240226T054334Z
UID:10004139-1711265400-1711265400@www.harriganshuntervalley.com.au
SUMMARY:Auldberry
DESCRIPTION:Live music every weekend at Harrigan’s Hunter Valley
URL:https://www.harriganshuntervalley.com.au/event/auldberry-2/
LOCATION:ac\, Broke Road\, Pokolbin\, NSW\, 2320\, Australia
CATEGORIES:Live Music
ATTACH;FMTTYPE=image/jpeg:https://www.harriganshuntervalley.com.au/wp-content/uploads/2024/02/Auldberry.jpg
END:VEVENT
BEGIN:VEVENT
DTSTART;TZID=Australia/Sydney:20240323T150000
DTEND;TZID=Australia/Sydney:20240323T170000
DTSTAMP:20260424T001210
CREATED:20241003T012534Z
LAST-MODIFIED:20260224T043828Z
UID:10005333-1711206000-1711213200@www.harriganshuntervalley.com.au
SUMMARY:Cocktail Hour
DESCRIPTION:Cocktail Hour\nGet classic cocktails for just $18 on Fridays from 4pm-6pm and Saturdays from 3pm-5pm. \nCheck out who’s playing on Friday and Saturday nights here. \nT&C apply. Specials not available on public holidays.
URL:https://www.harriganshuntervalley.com.au/event/cocktail-hour-2/2024-03-23/
LOCATION:Harrigan’s Hunter Valley\, Broke Road\, Pokolbin\, NSW\, 2320\, Australia
CATEGORIES:Drinks Specials,Food Specials,Weekly Events
ATTACH;FMTTYPE=image/jpeg:https://www.harriganshuntervalley.com.au/wp-content/uploads/2023/11/HHV2025_123_cocktail_hour_web_800x600.jpg
END:VEVENT
BEGIN:VEVENT
DTSTART;TZID=Australia/Sydney:20240323T073000
DTEND;TZID=Australia/Sydney:20240323T073000
DTSTAMP:20260424T001210
CREATED:20240226T054134Z
LAST-MODIFIED:20240226T054134Z
UID:10004138-1711179000-1711179000@www.harriganshuntervalley.com.au
SUMMARY:CC Lee & The Groove
DESCRIPTION:Live music every weekend at Harrigan’s Hunter Valley
URL:https://www.harriganshuntervalley.com.au/event/cc-lee-the-groove/
LOCATION:ac\, Broke Road\, Pokolbin\, NSW\, 2320\, Australia
CATEGORIES:Live Music
ATTACH;FMTTYPE=image/jpeg:https://www.harriganshuntervalley.com.au/wp-content/uploads/2024/02/CC-Lee-and-the-Groove.jpg
END:VEVENT
BEGIN:VEVENT
DTSTART;TZID=Australia/Sydney:20240322T160000
DTEND;TZID=Australia/Sydney:20240322T180000
DTSTAMP:20260424T001210
CREATED:20231123T015034Z
LAST-MODIFIED:20260224T043714Z
UID:10003866-1711123200-1711130400@www.harriganshuntervalley.com.au
SUMMARY:Cocktail Hour
DESCRIPTION:Cocktail Hour\nGet classic cocktails for just $18 on Fridays from 4pm-6pm and Saturdays from 3pm-5pm. \nCheck out who’s playing on Friday and Saturday nights here. \nT&C apply. Specials not available on public holidays.
URL:https://www.harriganshuntervalley.com.au/event/cocktail-hour/2024-03-22/
LOCATION:Harrigan’s Hunter Valley\, Broke Road\, Pokolbin\, NSW\, 2320\, Australia
CATEGORIES:Drinks Specials,Food Specials,Weekly Events
ATTACH;FMTTYPE=image/jpeg:https://www.harriganshuntervalley.com.au/wp-content/uploads/2023/11/HHV2025_123_cocktail_hour_web_800x600.jpg
END:VEVENT
BEGIN:VEVENT
DTSTART;TZID=Australia/Sydney:20240322T150000
DTEND;TZID=Australia/Sydney:20240322T170000
DTSTAMP:20260424T001210
CREATED:20220606T025124Z
LAST-MODIFIED:20260422T084526Z
UID:10007873-1711119600-1711126800@www.harriganshuntervalley.com.au
SUMMARY:Happy Hour
DESCRIPTION:Happy Hour Weekdays\nJoin us Monday to Friday between 3pm and 5pm for Harrigan’s Happy Hour. \nWe’ve got domestic beers from $7 and premium and craft beers from $8.50! \nT&C apply. Specials not available on public holidays.
URL:https://www.harriganshuntervalley.com.au/event/happy-hour/2024-03-22/
LOCATION:Harrigan’s Hunter Valley\, Broke Road\, Pokolbin\, NSW\, 2320\, Australia
CATEGORIES:Drinks Specials,Food Specials,Weekly Events
ATTACH;FMTTYPE=image/jpeg:https://www.harriganshuntervalley.com.au/wp-content/uploads/2022/06/HHV2026_035_happy_hour_website_800x600.jpg
END:VEVENT
BEGIN:VEVENT
DTSTART;TZID=Australia/Sydney:20240321T173000
DTEND;TZID=Australia/Sydney:20240321T210000
DTSTAMP:20260424T001210
CREATED:20230626T012552Z
LAST-MODIFIED:20260224T050648Z
UID:10002467-1711042200-1711054800@www.harriganshuntervalley.com.au
SUMMARY:Steak Night
DESCRIPTION:Thursday Steak Night\nThursday night is Steak Night at Harrigan’s Hunter Valley! \nEvery Thursday\, between 5:30pm and 9pm\, enjoy a delicious 250g rump steak dinner for just $30. Served with chips\, salad\, and your choice of sauce. \nT&C apply. Specials not available on public holidays. \nBook Now
URL:https://www.harriganshuntervalley.com.au/event/steak-night/2024-03-21/
LOCATION:Harrigan’s Hunter Valley\, Broke Road\, Pokolbin\, NSW\, 2320\, Australia
CATEGORIES:Food Specials,Weekly Events
ATTACH;FMTTYPE=image/jpeg:https://www.harriganshuntervalley.com.au/wp-content/uploads/2023/06/HHV2025_123_thursday_steak_night_web_800x600.jpg
END:VEVENT
BEGIN:VEVENT
DTSTART;TZID=Australia/Sydney:20240321T150000
DTEND;TZID=Australia/Sydney:20240321T170000
DTSTAMP:20260424T001210
CREATED:20220606T025124Z
LAST-MODIFIED:20260422T084526Z
UID:10007872-1711033200-1711040400@www.harriganshuntervalley.com.au
SUMMARY:Happy Hour
DESCRIPTION:Happy Hour Weekdays\nJoin us Monday to Friday between 3pm and 5pm for Harrigan’s Happy Hour. \nWe’ve got domestic beers from $7 and premium and craft beers from $8.50! \nT&C apply. Specials not available on public holidays.
URL:https://www.harriganshuntervalley.com.au/event/happy-hour/2024-03-21/
LOCATION:Harrigan’s Hunter Valley\, Broke Road\, Pokolbin\, NSW\, 2320\, Australia
CATEGORIES:Drinks Specials,Food Specials,Weekly Events
ATTACH;FMTTYPE=image/jpeg:https://www.harriganshuntervalley.com.au/wp-content/uploads/2022/06/HHV2026_035_happy_hour_website_800x600.jpg
END:VEVENT
BEGIN:VEVENT
DTSTART;TZID=Australia/Sydney:20240321T120000
DTEND;TZID=Australia/Sydney:20240321T150000
DTSTAMP:20260424T001210
CREATED:20230626T013043Z
LAST-MODIFIED:20260318T082126Z
UID:10009416-1711022400-1711033200@www.harriganshuntervalley.com.au
SUMMARY:Lunch Specials
DESCRIPTION:Lunch Specials from $20\nFrom Monday to Thursday\, between 12pm and 3pm\, join us at Harrigan’s Hunter Valley for our fantastic range of lunch specials starting at just $20. \nWe’ve got everything from pizzas\, wraps and burgers to salads and fish and chips. See the bistro menu for selection. \nT&C apply. Specials not available on public holidays. \nBook Now
URL:https://www.harriganshuntervalley.com.au/event/lunch-specials/2024-03-21/
LOCATION:Harrigan’s Hunter Valley\, Broke Road\, Pokolbin\, NSW\, 2320\, Australia
CATEGORIES:Food Specials,Weekly Events
ATTACH;FMTTYPE=image/jpeg:https://www.harriganshuntervalley.com.au/wp-content/uploads/2023/06/HHV2025_123_weekdays_lunch_specials_web_800x600.jpg
END:VEVENT
BEGIN:VEVENT
DTSTART;TZID=Australia/Sydney:20240320T173000
DTEND;TZID=Australia/Sydney:20240320T210000
DTSTAMP:20260424T001210
CREATED:20230626T012249Z
LAST-MODIFIED:20260224T043742Z
UID:10002184-1710955800-1710968400@www.harriganshuntervalley.com.au
SUMMARY:Ribs Night
DESCRIPTION:Wednesday Ribs Night\nWednesday night is Ribs Night at Harrigan’s Hunter Valley! \nEvery Wednesday\, between 5:30pm and 9pm\, enjoy our 1/2 rack of pork ribs for just $30 or upsize to a full rack for $52. Served with our creamy slaw and chips. \nT&C apply. Specials not available on public holidays. \nBook Now
URL:https://www.harriganshuntervalley.com.au/event/ribs-night/2024-03-20/
LOCATION:Harrigan’s Hunter Valley\, Broke Road\, Pokolbin\, NSW\, 2320\, Australia
CATEGORIES:Food Specials,Weekly Events
ATTACH;FMTTYPE=image/jpeg:https://www.harriganshuntervalley.com.au/wp-content/uploads/2023/06/HHV2025_123_wednesday_ribs_night_web_800x600.jpg
END:VEVENT
BEGIN:VEVENT
DTSTART;TZID=Australia/Sydney:20240320T150000
DTEND;TZID=Australia/Sydney:20240320T170000
DTSTAMP:20260424T001210
CREATED:20220606T025124Z
LAST-MODIFIED:20260422T084526Z
UID:10007871-1710946800-1710954000@www.harriganshuntervalley.com.au
SUMMARY:Happy Hour
DESCRIPTION:Happy Hour Weekdays\nJoin us Monday to Friday between 3pm and 5pm for Harrigan’s Happy Hour. \nWe’ve got domestic beers from $7 and premium and craft beers from $8.50! \nT&C apply. Specials not available on public holidays.
URL:https://www.harriganshuntervalley.com.au/event/happy-hour/2024-03-20/
LOCATION:Harrigan’s Hunter Valley\, Broke Road\, Pokolbin\, NSW\, 2320\, Australia
CATEGORIES:Drinks Specials,Food Specials,Weekly Events
ATTACH;FMTTYPE=image/jpeg:https://www.harriganshuntervalley.com.au/wp-content/uploads/2022/06/HHV2026_035_happy_hour_website_800x600.jpg
END:VEVENT
BEGIN:VEVENT
DTSTART;TZID=Australia/Sydney:20240320T120000
DTEND;TZID=Australia/Sydney:20240320T150000
DTSTAMP:20260424T001210
CREATED:20230626T013043Z
LAST-MODIFIED:20260318T082126Z
UID:10009415-1710936000-1710946800@www.harriganshuntervalley.com.au
SUMMARY:Lunch Specials
DESCRIPTION:Lunch Specials from $20\nFrom Monday to Thursday\, between 12pm and 3pm\, join us at Harrigan’s Hunter Valley for our fantastic range of lunch specials starting at just $20. \nWe’ve got everything from pizzas\, wraps and burgers to salads and fish and chips. See the bistro menu for selection. \nT&C apply. Specials not available on public holidays. \nBook Now
URL:https://www.harriganshuntervalley.com.au/event/lunch-specials/2024-03-20/
LOCATION:Harrigan’s Hunter Valley\, Broke Road\, Pokolbin\, NSW\, 2320\, Australia
CATEGORIES:Food Specials,Weekly Events
ATTACH;FMTTYPE=image/jpeg:https://www.harriganshuntervalley.com.au/wp-content/uploads/2023/06/HHV2025_123_weekdays_lunch_specials_web_800x600.jpg
END:VEVENT
BEGIN:VEVENT
DTSTART;TZID=Australia/Sydney:20240319T173000
DTEND;TZID=Australia/Sydney:20240319T210000
DTSTAMP:20260424T001210
CREATED:20230626T011924Z
LAST-MODIFIED:20230626T011924Z
UID:10001901-1710869400-1710882000@www.harriganshuntervalley.com.au
SUMMARY:Tuesday - Pizza Night
DESCRIPTION:Join us at Harrigan’s every Tuesday night for a delicious Chef selection of pizzas!\nFor $20 each. From 5:30pm to 9pm. \nT&C apply. \nReserve your table today.\nBook Now
URL:https://www.harriganshuntervalley.com.au/event/tuesday-pizza-night/2024-03-19/
LOCATION:Harrigan’s Hunter Valley\, Broke Road\, Pokolbin\, NSW\, 2320\, Australia
CATEGORIES:Food Specials
ATTACH;FMTTYPE=image/jpeg:https://www.harriganshuntervalley.com.au/wp-content/uploads/2023/06/tuesday_440x300px.jpg
END:VEVENT
BEGIN:VEVENT
DTSTART;TZID=Australia/Sydney:20240319T150000
DTEND;TZID=Australia/Sydney:20240319T170000
DTSTAMP:20260424T001210
CREATED:20220606T025124Z
LAST-MODIFIED:20260422T084526Z
UID:10007870-1710860400-1710867600@www.harriganshuntervalley.com.au
SUMMARY:Happy Hour
DESCRIPTION:Happy Hour Weekdays\nJoin us Monday to Friday between 3pm and 5pm for Harrigan’s Happy Hour. \nWe’ve got domestic beers from $7 and premium and craft beers from $8.50! \nT&C apply. Specials not available on public holidays.
URL:https://www.harriganshuntervalley.com.au/event/happy-hour/2024-03-19/
LOCATION:Harrigan’s Hunter Valley\, Broke Road\, Pokolbin\, NSW\, 2320\, Australia
CATEGORIES:Drinks Specials,Food Specials,Weekly Events
ATTACH;FMTTYPE=image/jpeg:https://www.harriganshuntervalley.com.au/wp-content/uploads/2022/06/HHV2026_035_happy_hour_website_800x600.jpg
END:VEVENT
BEGIN:VEVENT
DTSTART;TZID=Australia/Sydney:20240319T120000
DTEND;TZID=Australia/Sydney:20240319T150000
DTSTAMP:20260424T001210
CREATED:20230626T013043Z
LAST-MODIFIED:20260318T082126Z
UID:10002815-1710849600-1710860400@www.harriganshuntervalley.com.au
SUMMARY:Lunch Specials
DESCRIPTION:Lunch Specials from $20\nFrom Monday to Thursday\, between 12pm and 3pm\, join us at Harrigan’s Hunter Valley for our fantastic range of lunch specials starting at just $20. \nWe’ve got everything from pizzas\, wraps and burgers to salads and fish and chips. See the bistro menu for selection. \nT&C apply. Specials not available on public holidays. \nBook Now
URL:https://www.harriganshuntervalley.com.au/event/lunch-specials/2024-03-19/
LOCATION:Harrigan’s Hunter Valley\, Broke Road\, Pokolbin\, NSW\, 2320\, Australia
CATEGORIES:Food Specials,Weekly Events
ATTACH;FMTTYPE=image/jpeg:https://www.harriganshuntervalley.com.au/wp-content/uploads/2023/06/HHV2025_123_weekdays_lunch_specials_web_800x600.jpg
END:VEVENT
BEGIN:VEVENT
DTSTART;TZID=Australia/Sydney:20240318T173000
DTEND;TZID=Australia/Sydney:20240318T210000
DTSTAMP:20260424T001210
CREATED:20230626T010609Z
LAST-MODIFIED:20250409T025421Z
UID:10001622-1710783000-1710795600@www.harriganshuntervalley.com.au
SUMMARY:$24 Roast Special
DESCRIPTION:$24 ROAST SPECIAL (Chef’s Selection)\nSunday 5:30pm-9pm. Served with chef’s selection of sides.\nT&C apply. Specials not available on public holidays. \nBook Now
URL:https://www.harriganshuntervalley.com.au/event/monday-roast/2024-03-18/
LOCATION:Harrigan’s Hunter Valley\, Broke Road\, Pokolbin\, NSW\, 2320\, Australia
CATEGORIES:Food Specials
ATTACH;FMTTYPE=image/jpeg:https://www.harriganshuntervalley.com.au/wp-content/uploads/2023/06/HHV2025_029_specials-update_web_440x300px2.jpg
END:VEVENT
BEGIN:VEVENT
DTSTART;TZID=Australia/Sydney:20240318T150000
DTEND;TZID=Australia/Sydney:20240318T170000
DTSTAMP:20260424T001210
CREATED:20220606T025124Z
LAST-MODIFIED:20260422T084526Z
UID:10001340-1710774000-1710781200@www.harriganshuntervalley.com.au
SUMMARY:Happy Hour
DESCRIPTION:Happy Hour Weekdays\nJoin us Monday to Friday between 3pm and 5pm for Harrigan’s Happy Hour. \nWe’ve got domestic beers from $7 and premium and craft beers from $8.50! \nT&C apply. Specials not available on public holidays.
URL:https://www.harriganshuntervalley.com.au/event/happy-hour/2024-03-18/
LOCATION:Harrigan’s Hunter Valley\, Broke Road\, Pokolbin\, NSW\, 2320\, Australia
CATEGORIES:Drinks Specials,Food Specials,Weekly Events
ATTACH;FMTTYPE=image/jpeg:https://www.harriganshuntervalley.com.au/wp-content/uploads/2022/06/HHV2026_035_happy_hour_website_800x600.jpg
END:VEVENT
BEGIN:VEVENT
DTSTART;TZID=Australia/Sydney:20240318T120000
DTEND;TZID=Australia/Sydney:20240318T150000
DTSTAMP:20260424T001210
CREATED:20230626T013043Z
LAST-MODIFIED:20260318T082126Z
UID:10009414-1710763200-1710774000@www.harriganshuntervalley.com.au
SUMMARY:Lunch Specials
DESCRIPTION:Lunch Specials from $20\nFrom Monday to Thursday\, between 12pm and 3pm\, join us at Harrigan’s Hunter Valley for our fantastic range of lunch specials starting at just $20. \nWe’ve got everything from pizzas\, wraps and burgers to salads and fish and chips. See the bistro menu for selection. \nT&C apply. Specials not available on public holidays. \nBook Now
URL:https://www.harriganshuntervalley.com.au/event/lunch-specials/2024-03-18/
LOCATION:Harrigan’s Hunter Valley\, Broke Road\, Pokolbin\, NSW\, 2320\, Australia
CATEGORIES:Food Specials,Weekly Events
ATTACH;FMTTYPE=image/jpeg:https://www.harriganshuntervalley.com.au/wp-content/uploads/2023/06/HHV2025_123_weekdays_lunch_specials_web_800x600.jpg
END:VEVENT
BEGIN:VEVENT
DTSTART;TZID=Australia/Sydney:20240317T070000
DTEND;TZID=Australia/Sydney:20240317T220000
DTSTAMP:20260424T001210
CREATED:20240304T234614Z
LAST-MODIFIED:20240304T234614Z
UID:10004159-1710658800-1710712800@www.harriganshuntervalley.com.au
SUMMARY:St. Patrick's Day
DESCRIPTION:Celebrate St. Patrick’s Day at Harrigan’s Hunter Valley!\nCome and join in the festivities. We’ve got live music\, Irish dancers\, food and drink specials\, plus so much more! \nSunday 17th March 2024 \n? Raggle Taggle Gypsies – from 12pm to 3pm\n? Irish Dancers – at 11:45am\, 12:45pm & 1:45pm\n? Circus Duo – 4pm to 7pm \n? Drink Specials\nGuinness & Kilkenny pints at schooner prices \n?Food Specials \nBook Now
URL:https://www.harriganshuntervalley.com.au/event/st-patricks-day/
LOCATION:Harrigan’s Hunter Valley\, Broke Road\, Pokolbin\, NSW\, 2320\, Australia
CATEGORIES:Special Events
ATTACH;FMTTYPE=image/jpeg:https://www.harriganshuntervalley.com.au/wp-content/uploads/2024/03/hhv_st_pats_440x300.jpg
END:VEVENT
BEGIN:VEVENT
DTSTART;TZID=Australia/Sydney:20240316T150000
DTEND;TZID=Australia/Sydney:20240316T170000
DTSTAMP:20260424T001210
CREATED:20241003T012534Z
LAST-MODIFIED:20260224T043828Z
UID:10005332-1710601200-1710608400@www.harriganshuntervalley.com.au
SUMMARY:Cocktail Hour
DESCRIPTION:Cocktail Hour\nGet classic cocktails for just $18 on Fridays from 4pm-6pm and Saturdays from 3pm-5pm. \nCheck out who’s playing on Friday and Saturday nights here. \nT&C apply. Specials not available on public holidays.
URL:https://www.harriganshuntervalley.com.au/event/cocktail-hour-2/2024-03-16/
LOCATION:Harrigan’s Hunter Valley\, Broke Road\, Pokolbin\, NSW\, 2320\, Australia
CATEGORIES:Drinks Specials,Food Specials,Weekly Events
ATTACH;FMTTYPE=image/jpeg:https://www.harriganshuntervalley.com.au/wp-content/uploads/2023/11/HHV2025_123_cocktail_hour_web_800x600.jpg
END:VEVENT
BEGIN:VEVENT
DTSTART;TZID=Australia/Sydney:20240316T073000
DTEND;TZID=Australia/Sydney:20240316T073000
DTSTAMP:20260424T001210
CREATED:20240226T054119Z
LAST-MODIFIED:20240226T054119Z
UID:10004137-1710574200-1710574200@www.harriganshuntervalley.com.au
SUMMARY:Houseband
DESCRIPTION:Live music every weekend at Harrigan’s Hunter Valley
URL:https://www.harriganshuntervalley.com.au/event/houseband-3/
LOCATION:ac\, Broke Road\, Pokolbin\, NSW\, 2320\, Australia
CATEGORIES:Live Music
ATTACH;FMTTYPE=image/jpeg:https://www.harriganshuntervalley.com.au/wp-content/uploads/2024/01/Houseband.jpg
END:VEVENT
BEGIN:VEVENT
DTSTART;TZID=Australia/Sydney:20240315T160000
DTEND;TZID=Australia/Sydney:20240315T180000
DTSTAMP:20260424T001210
CREATED:20231123T015034Z
LAST-MODIFIED:20260224T043714Z
UID:10003865-1710518400-1710525600@www.harriganshuntervalley.com.au
SUMMARY:Cocktail Hour
DESCRIPTION:Cocktail Hour\nGet classic cocktails for just $18 on Fridays from 4pm-6pm and Saturdays from 3pm-5pm. \nCheck out who’s playing on Friday and Saturday nights here. \nT&C apply. Specials not available on public holidays.
URL:https://www.harriganshuntervalley.com.au/event/cocktail-hour/2024-03-15/
LOCATION:Harrigan’s Hunter Valley\, Broke Road\, Pokolbin\, NSW\, 2320\, Australia
CATEGORIES:Drinks Specials,Food Specials,Weekly Events
ATTACH;FMTTYPE=image/jpeg:https://www.harriganshuntervalley.com.au/wp-content/uploads/2023/11/HHV2025_123_cocktail_hour_web_800x600.jpg
END:VEVENT
BEGIN:VEVENT
DTSTART;TZID=Australia/Sydney:20240315T150000
DTEND;TZID=Australia/Sydney:20240315T170000
DTSTAMP:20260424T001210
CREATED:20220606T025124Z
LAST-MODIFIED:20260422T084526Z
UID:10007869-1710514800-1710522000@www.harriganshuntervalley.com.au
SUMMARY:Happy Hour
DESCRIPTION:Happy Hour Weekdays\nJoin us Monday to Friday between 3pm and 5pm for Harrigan’s Happy Hour. \nWe’ve got domestic beers from $7 and premium and craft beers from $8.50! \nT&C apply. Specials not available on public holidays.
URL:https://www.harriganshuntervalley.com.au/event/happy-hour/2024-03-15/
LOCATION:Harrigan’s Hunter Valley\, Broke Road\, Pokolbin\, NSW\, 2320\, Australia
CATEGORIES:Drinks Specials,Food Specials,Weekly Events
ATTACH;FMTTYPE=image/jpeg:https://www.harriganshuntervalley.com.au/wp-content/uploads/2022/06/HHV2026_035_happy_hour_website_800x600.jpg
END:VEVENT
END:VCALENDAR