BEGIN:VCALENDAR
VERSION:2.0
PRODID:-//Harrigan&#039;s Hunter Valley - ECPv6.15.7//NONSGML v1.0//EN
CALSCALE:GREGORIAN
METHOD:PUBLISH
X-WR-CALNAME:Harrigan&#039;s Hunter Valley
X-ORIGINAL-URL:https://www.harriganshuntervalley.com.au
X-WR-CALDESC:Events for Harrigan&#039;s Hunter Valley
REFRESH-INTERVAL;VALUE=DURATION:PT1H
X-Robots-Tag:noindex
X-PUBLISHED-TTL:PT1H
BEGIN:VTIMEZONE
TZID:Australia/Sydney
BEGIN:STANDARD
TZOFFSETFROM:+1100
TZOFFSETTO:+1000
TZNAME:AEST
DTSTART:20230401T160000
END:STANDARD
BEGIN:DAYLIGHT
TZOFFSETFROM:+1000
TZOFFSETTO:+1100
TZNAME:AEDT
DTSTART:20230930T160000
END:DAYLIGHT
BEGIN:STANDARD
TZOFFSETFROM:+1100
TZOFFSETTO:+1000
TZNAME:AEST
DTSTART:20240406T160000
END:STANDARD
BEGIN:DAYLIGHT
TZOFFSETFROM:+1000
TZOFFSETTO:+1100
TZNAME:AEDT
DTSTART:20241005T160000
END:DAYLIGHT
BEGIN:STANDARD
TZOFFSETFROM:+1100
TZOFFSETTO:+1000
TZNAME:AEST
DTSTART:20250405T160000
END:STANDARD
BEGIN:DAYLIGHT
TZOFFSETFROM:+1000
TZOFFSETTO:+1100
TZNAME:AEDT
DTSTART:20251004T160000
END:DAYLIGHT
END:VTIMEZONE
BEGIN:VEVENT
DTSTART;TZID=Australia/Sydney:20240403T150000
DTEND;TZID=Australia/Sydney:20240403T170000
DTSTAMP:20260423T213552
CREATED:20220606T025124Z
LAST-MODIFIED:20260422T084526Z
UID:10007879-1712156400-1712163600@www.harriganshuntervalley.com.au
SUMMARY:Happy Hour
DESCRIPTION:Happy Hour Weekdays\nJoin us Monday to Friday between 3pm and 5pm for Harrigan’s Happy Hour. \nWe’ve got domestic beers from $7 and premium and craft beers from $8.50! \nT&C apply. Specials not available on public holidays.
URL:https://www.harriganshuntervalley.com.au/event/happy-hour/2024-04-03/
LOCATION:Harrigan’s Hunter Valley\, Broke Road\, Pokolbin\, NSW\, 2320\, Australia
CATEGORIES:Drinks Specials,Food Specials,Weekly Events
ATTACH;FMTTYPE=image/jpeg:https://www.harriganshuntervalley.com.au/wp-content/uploads/2022/06/HHV2026_035_happy_hour_website_800x600.jpg
END:VEVENT
BEGIN:VEVENT
DTSTART;TZID=Australia/Sydney:20240403T120000
DTEND;TZID=Australia/Sydney:20240403T150000
DTSTAMP:20260423T213552
CREATED:20230626T013043Z
LAST-MODIFIED:20260318T082126Z
UID:10009421-1712145600-1712156400@www.harriganshuntervalley.com.au
SUMMARY:Lunch Specials
DESCRIPTION:Lunch Specials from $20\nFrom Monday to Thursday\, between 12pm and 3pm\, join us at Harrigan’s Hunter Valley for our fantastic range of lunch specials starting at just $20. \nWe’ve got everything from pizzas\, wraps and burgers to salads and fish and chips. See the bistro menu for selection. \nT&C apply. Specials not available on public holidays. \nBook Now
URL:https://www.harriganshuntervalley.com.au/event/lunch-specials/2024-04-03/
LOCATION:Harrigan’s Hunter Valley\, Broke Road\, Pokolbin\, NSW\, 2320\, Australia
CATEGORIES:Food Specials,Weekly Events
ATTACH;FMTTYPE=image/jpeg:https://www.harriganshuntervalley.com.au/wp-content/uploads/2023/06/HHV2025_123_weekdays_lunch_specials_web_800x600.jpg
END:VEVENT
BEGIN:VEVENT
DTSTART;TZID=Australia/Sydney:20240402T173000
DTEND;TZID=Australia/Sydney:20240402T210000
DTSTAMP:20260423T213552
CREATED:20230626T011924Z
LAST-MODIFIED:20230626T011924Z
UID:10001903-1712079000-1712091600@www.harriganshuntervalley.com.au
SUMMARY:Tuesday - Pizza Night
DESCRIPTION:Join us at Harrigan’s every Tuesday night for a delicious Chef selection of pizzas!\nFor $20 each. From 5:30pm to 9pm. \nT&C apply. \nReserve your table today.\nBook Now
URL:https://www.harriganshuntervalley.com.au/event/tuesday-pizza-night/2024-04-02/
LOCATION:Harrigan’s Hunter Valley\, Broke Road\, Pokolbin\, NSW\, 2320\, Australia
CATEGORIES:Food Specials
ATTACH;FMTTYPE=image/jpeg:https://www.harriganshuntervalley.com.au/wp-content/uploads/2023/06/tuesday_440x300px.jpg
END:VEVENT
BEGIN:VEVENT
DTSTART;TZID=Australia/Sydney:20240402T150000
DTEND;TZID=Australia/Sydney:20240402T170000
DTSTAMP:20260423T213552
CREATED:20220606T025124Z
LAST-MODIFIED:20260422T084526Z
UID:10007878-1712070000-1712077200@www.harriganshuntervalley.com.au
SUMMARY:Happy Hour
DESCRIPTION:Happy Hour Weekdays\nJoin us Monday to Friday between 3pm and 5pm for Harrigan’s Happy Hour. \nWe’ve got domestic beers from $7 and premium and craft beers from $8.50! \nT&C apply. Specials not available on public holidays.
URL:https://www.harriganshuntervalley.com.au/event/happy-hour/2024-04-02/
LOCATION:Harrigan’s Hunter Valley\, Broke Road\, Pokolbin\, NSW\, 2320\, Australia
CATEGORIES:Drinks Specials,Food Specials,Weekly Events
ATTACH;FMTTYPE=image/jpeg:https://www.harriganshuntervalley.com.au/wp-content/uploads/2022/06/HHV2026_035_happy_hour_website_800x600.jpg
END:VEVENT
BEGIN:VEVENT
DTSTART;TZID=Australia/Sydney:20240402T120000
DTEND;TZID=Australia/Sydney:20240402T150000
DTSTAMP:20260423T213552
CREATED:20230626T013043Z
LAST-MODIFIED:20260318T082126Z
UID:10002822-1712059200-1712070000@www.harriganshuntervalley.com.au
SUMMARY:Lunch Specials
DESCRIPTION:Lunch Specials from $20\nFrom Monday to Thursday\, between 12pm and 3pm\, join us at Harrigan’s Hunter Valley for our fantastic range of lunch specials starting at just $20. \nWe’ve got everything from pizzas\, wraps and burgers to salads and fish and chips. See the bistro menu for selection. \nT&C apply. Specials not available on public holidays. \nBook Now
URL:https://www.harriganshuntervalley.com.au/event/lunch-specials/2024-04-02/
LOCATION:Harrigan’s Hunter Valley\, Broke Road\, Pokolbin\, NSW\, 2320\, Australia
CATEGORIES:Food Specials,Weekly Events
ATTACH;FMTTYPE=image/jpeg:https://www.harriganshuntervalley.com.au/wp-content/uploads/2023/06/HHV2025_123_weekdays_lunch_specials_web_800x600.jpg
END:VEVENT
BEGIN:VEVENT
DTSTART;TZID=Australia/Sydney:20240401T150000
DTEND;TZID=Australia/Sydney:20240401T170000
DTSTAMP:20260423T213552
CREATED:20220606T025124Z
LAST-MODIFIED:20260422T084526Z
UID:10001342-1711983600-1711990800@www.harriganshuntervalley.com.au
SUMMARY:Happy Hour
DESCRIPTION:Happy Hour Weekdays\nJoin us Monday to Friday between 3pm and 5pm for Harrigan’s Happy Hour. \nWe’ve got domestic beers from $7 and premium and craft beers from $8.50! \nT&C apply. Specials not available on public holidays.
URL:https://www.harriganshuntervalley.com.au/event/happy-hour/2024-04-01/
LOCATION:Harrigan’s Hunter Valley\, Broke Road\, Pokolbin\, NSW\, 2320\, Australia
CATEGORIES:Drinks Specials,Food Specials,Weekly Events
ATTACH;FMTTYPE=image/jpeg:https://www.harriganshuntervalley.com.au/wp-content/uploads/2022/06/HHV2026_035_happy_hour_website_800x600.jpg
END:VEVENT
BEGIN:VEVENT
DTSTART;TZID=Australia/Sydney:20240401T120000
DTEND;TZID=Australia/Sydney:20240401T150000
DTSTAMP:20260423T213552
CREATED:20230626T013043Z
LAST-MODIFIED:20260318T082126Z
UID:10009420-1711972800-1711983600@www.harriganshuntervalley.com.au
SUMMARY:Lunch Specials
DESCRIPTION:Lunch Specials from $20\nFrom Monday to Thursday\, between 12pm and 3pm\, join us at Harrigan’s Hunter Valley for our fantastic range of lunch specials starting at just $20. \nWe’ve got everything from pizzas\, wraps and burgers to salads and fish and chips. See the bistro menu for selection. \nT&C apply. Specials not available on public holidays. \nBook Now
URL:https://www.harriganshuntervalley.com.au/event/lunch-specials/2024-04-01/
LOCATION:Harrigan’s Hunter Valley\, Broke Road\, Pokolbin\, NSW\, 2320\, Australia
CATEGORIES:Food Specials,Weekly Events
ATTACH;FMTTYPE=image/jpeg:https://www.harriganshuntervalley.com.au/wp-content/uploads/2023/06/HHV2025_123_weekdays_lunch_specials_web_800x600.jpg
END:VEVENT
BEGIN:VEVENT
DTSTART;TZID=Australia/Sydney:20240401T070000
DTEND;TZID=Australia/Sydney:20240401T233000
DTSTAMP:20260423T213552
CREATED:20240214T010045Z
LAST-MODIFIED:20240214T010045Z
UID:10004136-1711954800-1712014200@www.harriganshuntervalley.com.au
SUMMARY:Easter Long Weekend
DESCRIPTION:Celebrate Easter at Harrigan’s Hunter Valley!\nJoin us at Harrigan’s Hunter Valley across the Easter long weekend for stacks of Easter fun! 29th March – 1st April. \nWe will have a special appearance from the Easter Bunny\, Face Painting and Balloon Animals on Sunday from 12pm to 2pm! \nLIVE music on Saturday & Sunday \n? Good Friday\, we are OPEN from 12pm to 10pm\, enjoy seafood specials for lunch and dinner.\n? Easter Saturday\, we are OPEN from 7am till late. Live music from 1pm-4pm and 8:30pm-11:30pm.\n? Easter Sunday\, we are OPEN from 7am till late. Easter Bunny Face Painting and Balloon Animals on Sunday from 12pm to 2pm. Live music from 1pm-4pm and 6pm-9pm.\n? Easter Monday\, we are OPEN from 7am till late. \nBook Now
URL:https://www.harriganshuntervalley.com.au/event/easter/2024-04-01/
LOCATION:Harrigan’s Hunter Valley\, Broke Road\, Pokolbin\, NSW\, 2320\, Australia
CATEGORIES:Special Events
ATTACH;FMTTYPE=image/jpeg:https://www.harriganshuntervalley.com.au/wp-content/uploads/2024/02/hhv_easter_web_440x300px.jpg
END:VEVENT
BEGIN:VEVENT
DTSTART;TZID=Australia/Sydney:20240331T070000
DTEND;TZID=Australia/Sydney:20240331T233000
DTSTAMP:20260423T213552
CREATED:20240214T010045Z
LAST-MODIFIED:20240214T010045Z
UID:10004135-1711868400-1711927800@www.harriganshuntervalley.com.au
SUMMARY:Easter Long Weekend
DESCRIPTION:Celebrate Easter at Harrigan’s Hunter Valley!\nJoin us at Harrigan’s Hunter Valley across the Easter long weekend for stacks of Easter fun! 29th March – 1st April. \nWe will have a special appearance from the Easter Bunny\, Face Painting and Balloon Animals on Sunday from 12pm to 2pm! \nLIVE music on Saturday & Sunday \n? Good Friday\, we are OPEN from 12pm to 10pm\, enjoy seafood specials for lunch and dinner.\n? Easter Saturday\, we are OPEN from 7am till late. Live music from 1pm-4pm and 8:30pm-11:30pm.\n? Easter Sunday\, we are OPEN from 7am till late. Easter Bunny Face Painting and Balloon Animals on Sunday from 12pm to 2pm. Live music from 1pm-4pm and 6pm-9pm.\n? Easter Monday\, we are OPEN from 7am till late. \nBook Now
URL:https://www.harriganshuntervalley.com.au/event/easter/2024-03-31/
LOCATION:Harrigan’s Hunter Valley\, Broke Road\, Pokolbin\, NSW\, 2320\, Australia
CATEGORIES:Special Events
ATTACH;FMTTYPE=image/jpeg:https://www.harriganshuntervalley.com.au/wp-content/uploads/2024/02/hhv_easter_web_440x300px.jpg
END:VEVENT
BEGIN:VEVENT
DTSTART;TZID=Australia/Sydney:20240330T150000
DTEND;TZID=Australia/Sydney:20240330T170000
DTSTAMP:20260423T213552
CREATED:20241003T012534Z
LAST-MODIFIED:20260224T043828Z
UID:10005334-1711810800-1711818000@www.harriganshuntervalley.com.au
SUMMARY:Cocktail Hour
DESCRIPTION:Cocktail Hour\nGet classic cocktails for just $18 on Fridays from 4pm-6pm and Saturdays from 3pm-5pm. \nCheck out who’s playing on Friday and Saturday nights here. \nT&C apply. Specials not available on public holidays.
URL:https://www.harriganshuntervalley.com.au/event/cocktail-hour-2/2024-03-30/
LOCATION:Harrigan’s Hunter Valley\, Broke Road\, Pokolbin\, NSW\, 2320\, Australia
CATEGORIES:Drinks Specials,Food Specials,Weekly Events
ATTACH;FMTTYPE=image/jpeg:https://www.harriganshuntervalley.com.au/wp-content/uploads/2023/11/HHV2025_123_cocktail_hour_web_800x600.jpg
END:VEVENT
BEGIN:VEVENT
DTSTART;TZID=Australia/Sydney:20240330T070000
DTEND;TZID=Australia/Sydney:20240330T233000
DTSTAMP:20260423T213552
CREATED:20240214T010045Z
LAST-MODIFIED:20240214T010045Z
UID:10004134-1711782000-1711841400@www.harriganshuntervalley.com.au
SUMMARY:Easter Long Weekend
DESCRIPTION:Celebrate Easter at Harrigan’s Hunter Valley!\nJoin us at Harrigan’s Hunter Valley across the Easter long weekend for stacks of Easter fun! 29th March – 1st April. \nWe will have a special appearance from the Easter Bunny\, Face Painting and Balloon Animals on Sunday from 12pm to 2pm! \nLIVE music on Saturday & Sunday \n? Good Friday\, we are OPEN from 12pm to 10pm\, enjoy seafood specials for lunch and dinner.\n? Easter Saturday\, we are OPEN from 7am till late. Live music from 1pm-4pm and 8:30pm-11:30pm.\n? Easter Sunday\, we are OPEN from 7am till late. Easter Bunny Face Painting and Balloon Animals on Sunday from 12pm to 2pm. Live music from 1pm-4pm and 6pm-9pm.\n? Easter Monday\, we are OPEN from 7am till late. \nBook Now
URL:https://www.harriganshuntervalley.com.au/event/easter/2024-03-30/
LOCATION:Harrigan’s Hunter Valley\, Broke Road\, Pokolbin\, NSW\, 2320\, Australia
CATEGORIES:Special Events
ATTACH;FMTTYPE=image/jpeg:https://www.harriganshuntervalley.com.au/wp-content/uploads/2024/02/hhv_easter_web_440x300px.jpg
END:VEVENT
BEGIN:VEVENT
DTSTART;TZID=Australia/Sydney:20240329T160000
DTEND;TZID=Australia/Sydney:20240329T180000
DTSTAMP:20260423T213552
CREATED:20231123T015034Z
LAST-MODIFIED:20260224T043714Z
UID:10003867-1711728000-1711735200@www.harriganshuntervalley.com.au
SUMMARY:Cocktail Hour
DESCRIPTION:Cocktail Hour\nGet classic cocktails for just $18 on Fridays from 4pm-6pm and Saturdays from 3pm-5pm. \nCheck out who’s playing on Friday and Saturday nights here. \nT&C apply. Specials not available on public holidays.
URL:https://www.harriganshuntervalley.com.au/event/cocktail-hour/2024-03-29/
LOCATION:Harrigan’s Hunter Valley\, Broke Road\, Pokolbin\, NSW\, 2320\, Australia
CATEGORIES:Drinks Specials,Food Specials,Weekly Events
ATTACH;FMTTYPE=image/jpeg:https://www.harriganshuntervalley.com.au/wp-content/uploads/2023/11/HHV2025_123_cocktail_hour_web_800x600.jpg
END:VEVENT
BEGIN:VEVENT
DTSTART;TZID=Australia/Sydney:20240329T150000
DTEND;TZID=Australia/Sydney:20240329T170000
DTSTAMP:20260423T213552
CREATED:20220606T025124Z
LAST-MODIFIED:20260422T084526Z
UID:10007877-1711724400-1711731600@www.harriganshuntervalley.com.au
SUMMARY:Happy Hour
DESCRIPTION:Happy Hour Weekdays\nJoin us Monday to Friday between 3pm and 5pm for Harrigan’s Happy Hour. \nWe’ve got domestic beers from $7 and premium and craft beers from $8.50! \nT&C apply. Specials not available on public holidays.
URL:https://www.harriganshuntervalley.com.au/event/happy-hour/2024-03-29/
LOCATION:Harrigan’s Hunter Valley\, Broke Road\, Pokolbin\, NSW\, 2320\, Australia
CATEGORIES:Drinks Specials,Food Specials,Weekly Events
ATTACH;FMTTYPE=image/jpeg:https://www.harriganshuntervalley.com.au/wp-content/uploads/2022/06/HHV2026_035_happy_hour_website_800x600.jpg
END:VEVENT
BEGIN:VEVENT
DTSTART;TZID=Australia/Sydney:20240329T120000
DTEND;TZID=Australia/Sydney:20240329T220000
DTSTAMP:20260423T213552
CREATED:20240214T010045Z
LAST-MODIFIED:20240214T010045Z
UID:10004133-1711713600-1711749600@www.harriganshuntervalley.com.au
SUMMARY:Easter Long Weekend
DESCRIPTION:Celebrate Easter at Harrigan’s Hunter Valley!\nJoin us at Harrigan’s Hunter Valley across the Easter long weekend for stacks of Easter fun! 29th March – 1st April. \nWe will have a special appearance from the Easter Bunny\, Face Painting and Balloon Animals on Sunday from 12pm to 2pm! \nLIVE music on Saturday & Sunday \n? Good Friday\, we are OPEN from 12pm to 10pm\, enjoy seafood specials for lunch and dinner.\n? Easter Saturday\, we are OPEN from 7am till late. Live music from 1pm-4pm and 8:30pm-11:30pm.\n? Easter Sunday\, we are OPEN from 7am till late. Easter Bunny Face Painting and Balloon Animals on Sunday from 12pm to 2pm. Live music from 1pm-4pm and 6pm-9pm.\n? Easter Monday\, we are OPEN from 7am till late. \nBook Now
URL:https://www.harriganshuntervalley.com.au/event/easter/2024-03-29/
LOCATION:Harrigan’s Hunter Valley\, Broke Road\, Pokolbin\, NSW\, 2320\, Australia
CATEGORIES:Special Events
ATTACH;FMTTYPE=image/jpeg:https://www.harriganshuntervalley.com.au/wp-content/uploads/2024/02/hhv_easter_web_440x300px.jpg
END:VEVENT
BEGIN:VEVENT
DTSTART;TZID=Australia/Sydney:20240328T173000
DTEND;TZID=Australia/Sydney:20240328T210000
DTSTAMP:20260423T213552
CREATED:20230626T012552Z
LAST-MODIFIED:20260224T050648Z
UID:10002468-1711647000-1711659600@www.harriganshuntervalley.com.au
SUMMARY:Steak Night
DESCRIPTION:Thursday Steak Night\nThursday night is Steak Night at Harrigan’s Hunter Valley! \nEvery Thursday\, between 5:30pm and 9pm\, enjoy a delicious 250g rump steak dinner for just $30. Served with chips\, salad\, and your choice of sauce. \nT&C apply. Specials not available on public holidays. \nBook Now
URL:https://www.harriganshuntervalley.com.au/event/steak-night/2024-03-28/
LOCATION:Harrigan’s Hunter Valley\, Broke Road\, Pokolbin\, NSW\, 2320\, Australia
CATEGORIES:Food Specials,Weekly Events
ATTACH;FMTTYPE=image/jpeg:https://www.harriganshuntervalley.com.au/wp-content/uploads/2023/06/HHV2025_123_thursday_steak_night_web_800x600.jpg
END:VEVENT
BEGIN:VEVENT
DTSTART;TZID=Australia/Sydney:20240328T150000
DTEND;TZID=Australia/Sydney:20240328T170000
DTSTAMP:20260423T213552
CREATED:20220606T025124Z
LAST-MODIFIED:20260422T084526Z
UID:10007876-1711638000-1711645200@www.harriganshuntervalley.com.au
SUMMARY:Happy Hour
DESCRIPTION:Happy Hour Weekdays\nJoin us Monday to Friday between 3pm and 5pm for Harrigan’s Happy Hour. \nWe’ve got domestic beers from $7 and premium and craft beers from $8.50! \nT&C apply. Specials not available on public holidays.
URL:https://www.harriganshuntervalley.com.au/event/happy-hour/2024-03-28/
LOCATION:Harrigan’s Hunter Valley\, Broke Road\, Pokolbin\, NSW\, 2320\, Australia
CATEGORIES:Drinks Specials,Food Specials,Weekly Events
ATTACH;FMTTYPE=image/jpeg:https://www.harriganshuntervalley.com.au/wp-content/uploads/2022/06/HHV2026_035_happy_hour_website_800x600.jpg
END:VEVENT
BEGIN:VEVENT
DTSTART;TZID=Australia/Sydney:20240328T120000
DTEND;TZID=Australia/Sydney:20240328T150000
DTSTAMP:20260423T213552
CREATED:20230626T013043Z
LAST-MODIFIED:20260318T082126Z
UID:10009419-1711627200-1711638000@www.harriganshuntervalley.com.au
SUMMARY:Lunch Specials
DESCRIPTION:Lunch Specials from $20\nFrom Monday to Thursday\, between 12pm and 3pm\, join us at Harrigan’s Hunter Valley for our fantastic range of lunch specials starting at just $20. \nWe’ve got everything from pizzas\, wraps and burgers to salads and fish and chips. See the bistro menu for selection. \nT&C apply. Specials not available on public holidays. \nBook Now
URL:https://www.harriganshuntervalley.com.au/event/lunch-specials/2024-03-28/
LOCATION:Harrigan’s Hunter Valley\, Broke Road\, Pokolbin\, NSW\, 2320\, Australia
CATEGORIES:Food Specials,Weekly Events
ATTACH;FMTTYPE=image/jpeg:https://www.harriganshuntervalley.com.au/wp-content/uploads/2023/06/HHV2025_123_weekdays_lunch_specials_web_800x600.jpg
END:VEVENT
BEGIN:VEVENT
DTSTART;TZID=Australia/Sydney:20240327T173000
DTEND;TZID=Australia/Sydney:20240327T210000
DTSTAMP:20260423T213552
CREATED:20230626T012249Z
LAST-MODIFIED:20260224T043742Z
UID:10002185-1711560600-1711573200@www.harriganshuntervalley.com.au
SUMMARY:Ribs Night
DESCRIPTION:Wednesday Ribs Night\nWednesday night is Ribs Night at Harrigan’s Hunter Valley! \nEvery Wednesday\, between 5:30pm and 9pm\, enjoy our 1/2 rack of pork ribs for just $30 or upsize to a full rack for $52. Served with our creamy slaw and chips. \nT&C apply. Specials not available on public holidays. \nBook Now
URL:https://www.harriganshuntervalley.com.au/event/ribs-night/2024-03-27/
LOCATION:Harrigan’s Hunter Valley\, Broke Road\, Pokolbin\, NSW\, 2320\, Australia
CATEGORIES:Food Specials,Weekly Events
ATTACH;FMTTYPE=image/jpeg:https://www.harriganshuntervalley.com.au/wp-content/uploads/2023/06/HHV2025_123_wednesday_ribs_night_web_800x600.jpg
END:VEVENT
BEGIN:VEVENT
DTSTART;TZID=Australia/Sydney:20240327T150000
DTEND;TZID=Australia/Sydney:20240327T170000
DTSTAMP:20260423T213552
CREATED:20220606T025124Z
LAST-MODIFIED:20260422T084526Z
UID:10007875-1711551600-1711558800@www.harriganshuntervalley.com.au
SUMMARY:Happy Hour
DESCRIPTION:Happy Hour Weekdays\nJoin us Monday to Friday between 3pm and 5pm for Harrigan’s Happy Hour. \nWe’ve got domestic beers from $7 and premium and craft beers from $8.50! \nT&C apply. Specials not available on public holidays.
URL:https://www.harriganshuntervalley.com.au/event/happy-hour/2024-03-27/
LOCATION:Harrigan’s Hunter Valley\, Broke Road\, Pokolbin\, NSW\, 2320\, Australia
CATEGORIES:Drinks Specials,Food Specials,Weekly Events
ATTACH;FMTTYPE=image/jpeg:https://www.harriganshuntervalley.com.au/wp-content/uploads/2022/06/HHV2026_035_happy_hour_website_800x600.jpg
END:VEVENT
BEGIN:VEVENT
DTSTART;TZID=Australia/Sydney:20240327T120000
DTEND;TZID=Australia/Sydney:20240327T150000
DTSTAMP:20260423T213552
CREATED:20230626T013043Z
LAST-MODIFIED:20260318T082126Z
UID:10009418-1711540800-1711551600@www.harriganshuntervalley.com.au
SUMMARY:Lunch Specials
DESCRIPTION:Lunch Specials from $20\nFrom Monday to Thursday\, between 12pm and 3pm\, join us at Harrigan’s Hunter Valley for our fantastic range of lunch specials starting at just $20. \nWe’ve got everything from pizzas\, wraps and burgers to salads and fish and chips. See the bistro menu for selection. \nT&C apply. Specials not available on public holidays. \nBook Now
URL:https://www.harriganshuntervalley.com.au/event/lunch-specials/2024-03-27/
LOCATION:Harrigan’s Hunter Valley\, Broke Road\, Pokolbin\, NSW\, 2320\, Australia
CATEGORIES:Food Specials,Weekly Events
ATTACH;FMTTYPE=image/jpeg:https://www.harriganshuntervalley.com.au/wp-content/uploads/2023/06/HHV2025_123_weekdays_lunch_specials_web_800x600.jpg
END:VEVENT
BEGIN:VEVENT
DTSTART;TZID=Australia/Sydney:20240326T173000
DTEND;TZID=Australia/Sydney:20240326T210000
DTSTAMP:20260423T213552
CREATED:20230626T011924Z
LAST-MODIFIED:20230626T011924Z
UID:10001902-1711474200-1711486800@www.harriganshuntervalley.com.au
SUMMARY:Tuesday - Pizza Night
DESCRIPTION:Join us at Harrigan’s every Tuesday night for a delicious Chef selection of pizzas!\nFor $20 each. From 5:30pm to 9pm. \nT&C apply. \nReserve your table today.\nBook Now
URL:https://www.harriganshuntervalley.com.au/event/tuesday-pizza-night/2024-03-26/
LOCATION:Harrigan’s Hunter Valley\, Broke Road\, Pokolbin\, NSW\, 2320\, Australia
CATEGORIES:Food Specials
ATTACH;FMTTYPE=image/jpeg:https://www.harriganshuntervalley.com.au/wp-content/uploads/2023/06/tuesday_440x300px.jpg
END:VEVENT
BEGIN:VEVENT
DTSTART;TZID=Australia/Sydney:20240326T150000
DTEND;TZID=Australia/Sydney:20240326T170000
DTSTAMP:20260423T213552
CREATED:20220606T025124Z
LAST-MODIFIED:20260422T084526Z
UID:10007874-1711465200-1711472400@www.harriganshuntervalley.com.au
SUMMARY:Happy Hour
DESCRIPTION:Happy Hour Weekdays\nJoin us Monday to Friday between 3pm and 5pm for Harrigan’s Happy Hour. \nWe’ve got domestic beers from $7 and premium and craft beers from $8.50! \nT&C apply. Specials not available on public holidays.
URL:https://www.harriganshuntervalley.com.au/event/happy-hour/2024-03-26/
LOCATION:Harrigan’s Hunter Valley\, Broke Road\, Pokolbin\, NSW\, 2320\, Australia
CATEGORIES:Drinks Specials,Food Specials,Weekly Events
ATTACH;FMTTYPE=image/jpeg:https://www.harriganshuntervalley.com.au/wp-content/uploads/2022/06/HHV2026_035_happy_hour_website_800x600.jpg
END:VEVENT
BEGIN:VEVENT
DTSTART;TZID=Australia/Sydney:20240326T120000
DTEND;TZID=Australia/Sydney:20240326T150000
DTSTAMP:20260423T213552
CREATED:20230626T013043Z
LAST-MODIFIED:20260318T082126Z
UID:10002819-1711454400-1711465200@www.harriganshuntervalley.com.au
SUMMARY:Lunch Specials
DESCRIPTION:Lunch Specials from $20\nFrom Monday to Thursday\, between 12pm and 3pm\, join us at Harrigan’s Hunter Valley for our fantastic range of lunch specials starting at just $20. \nWe’ve got everything from pizzas\, wraps and burgers to salads and fish and chips. See the bistro menu for selection. \nT&C apply. Specials not available on public holidays. \nBook Now
URL:https://www.harriganshuntervalley.com.au/event/lunch-specials/2024-03-26/
LOCATION:Harrigan’s Hunter Valley\, Broke Road\, Pokolbin\, NSW\, 2320\, Australia
CATEGORIES:Food Specials,Weekly Events
ATTACH;FMTTYPE=image/jpeg:https://www.harriganshuntervalley.com.au/wp-content/uploads/2023/06/HHV2025_123_weekdays_lunch_specials_web_800x600.jpg
END:VEVENT
BEGIN:VEVENT
DTSTART;TZID=Australia/Sydney:20240325T173000
DTEND;TZID=Australia/Sydney:20240325T210000
DTSTAMP:20260423T213552
CREATED:20230626T010609Z
LAST-MODIFIED:20250409T025421Z
UID:10001623-1711387800-1711400400@www.harriganshuntervalley.com.au
SUMMARY:$24 Roast Special
DESCRIPTION:$24 ROAST SPECIAL (Chef’s Selection)\nSunday 5:30pm-9pm. Served with chef’s selection of sides.\nT&C apply. Specials not available on public holidays. \nBook Now
URL:https://www.harriganshuntervalley.com.au/event/monday-roast/2024-03-25/
LOCATION:Harrigan’s Hunter Valley\, Broke Road\, Pokolbin\, NSW\, 2320\, Australia
CATEGORIES:Food Specials
ATTACH;FMTTYPE=image/jpeg:https://www.harriganshuntervalley.com.au/wp-content/uploads/2023/06/HHV2025_029_specials-update_web_440x300px2.jpg
END:VEVENT
BEGIN:VEVENT
DTSTART;TZID=Australia/Sydney:20240325T150000
DTEND;TZID=Australia/Sydney:20240325T170000
DTSTAMP:20260423T213552
CREATED:20220606T025124Z
LAST-MODIFIED:20260422T084526Z
UID:10001341-1711378800-1711386000@www.harriganshuntervalley.com.au
SUMMARY:Happy Hour
DESCRIPTION:Happy Hour Weekdays\nJoin us Monday to Friday between 3pm and 5pm for Harrigan’s Happy Hour. \nWe’ve got domestic beers from $7 and premium and craft beers from $8.50! \nT&C apply. Specials not available on public holidays.
URL:https://www.harriganshuntervalley.com.au/event/happy-hour/2024-03-25/
LOCATION:Harrigan’s Hunter Valley\, Broke Road\, Pokolbin\, NSW\, 2320\, Australia
CATEGORIES:Drinks Specials,Food Specials,Weekly Events
ATTACH;FMTTYPE=image/jpeg:https://www.harriganshuntervalley.com.au/wp-content/uploads/2022/06/HHV2026_035_happy_hour_website_800x600.jpg
END:VEVENT
BEGIN:VEVENT
DTSTART;TZID=Australia/Sydney:20240325T120000
DTEND;TZID=Australia/Sydney:20240325T150000
DTSTAMP:20260423T213552
CREATED:20230626T013043Z
LAST-MODIFIED:20260318T082126Z
UID:10009417-1711368000-1711378800@www.harriganshuntervalley.com.au
SUMMARY:Lunch Specials
DESCRIPTION:Lunch Specials from $20\nFrom Monday to Thursday\, between 12pm and 3pm\, join us at Harrigan’s Hunter Valley for our fantastic range of lunch specials starting at just $20. \nWe’ve got everything from pizzas\, wraps and burgers to salads and fish and chips. See the bistro menu for selection. \nT&C apply. Specials not available on public holidays. \nBook Now
URL:https://www.harriganshuntervalley.com.au/event/lunch-specials/2024-03-25/
LOCATION:Harrigan’s Hunter Valley\, Broke Road\, Pokolbin\, NSW\, 2320\, Australia
CATEGORIES:Food Specials,Weekly Events
ATTACH;FMTTYPE=image/jpeg:https://www.harriganshuntervalley.com.au/wp-content/uploads/2023/06/HHV2025_123_weekdays_lunch_specials_web_800x600.jpg
END:VEVENT
BEGIN:VEVENT
DTSTART;TZID=Australia/Sydney:20240324T073000
DTEND;TZID=Australia/Sydney:20240324T073000
DTSTAMP:20260423T213552
CREATED:20240226T054334Z
LAST-MODIFIED:20240226T054334Z
UID:10004139-1711265400-1711265400@www.harriganshuntervalley.com.au
SUMMARY:Auldberry
DESCRIPTION:Live music every weekend at Harrigan’s Hunter Valley
URL:https://www.harriganshuntervalley.com.au/event/auldberry-2/
LOCATION:ac\, Broke Road\, Pokolbin\, NSW\, 2320\, Australia
CATEGORIES:Live Music
ATTACH;FMTTYPE=image/jpeg:https://www.harriganshuntervalley.com.au/wp-content/uploads/2024/02/Auldberry.jpg
END:VEVENT
BEGIN:VEVENT
DTSTART;TZID=Australia/Sydney:20240323T150000
DTEND;TZID=Australia/Sydney:20240323T170000
DTSTAMP:20260423T213552
CREATED:20241003T012534Z
LAST-MODIFIED:20260224T043828Z
UID:10005333-1711206000-1711213200@www.harriganshuntervalley.com.au
SUMMARY:Cocktail Hour
DESCRIPTION:Cocktail Hour\nGet classic cocktails for just $18 on Fridays from 4pm-6pm and Saturdays from 3pm-5pm. \nCheck out who’s playing on Friday and Saturday nights here. \nT&C apply. Specials not available on public holidays.
URL:https://www.harriganshuntervalley.com.au/event/cocktail-hour-2/2024-03-23/
LOCATION:Harrigan’s Hunter Valley\, Broke Road\, Pokolbin\, NSW\, 2320\, Australia
CATEGORIES:Drinks Specials,Food Specials,Weekly Events
ATTACH;FMTTYPE=image/jpeg:https://www.harriganshuntervalley.com.au/wp-content/uploads/2023/11/HHV2025_123_cocktail_hour_web_800x600.jpg
END:VEVENT
BEGIN:VEVENT
DTSTART;TZID=Australia/Sydney:20240323T073000
DTEND;TZID=Australia/Sydney:20240323T073000
DTSTAMP:20260423T213552
CREATED:20240226T054134Z
LAST-MODIFIED:20240226T054134Z
UID:10004138-1711179000-1711179000@www.harriganshuntervalley.com.au
SUMMARY:CC Lee & The Groove
DESCRIPTION:Live music every weekend at Harrigan’s Hunter Valley
URL:https://www.harriganshuntervalley.com.au/event/cc-lee-the-groove/
LOCATION:ac\, Broke Road\, Pokolbin\, NSW\, 2320\, Australia
CATEGORIES:Live Music
ATTACH;FMTTYPE=image/jpeg:https://www.harriganshuntervalley.com.au/wp-content/uploads/2024/02/CC-Lee-and-the-Groove.jpg
END:VEVENT
BEGIN:VEVENT
DTSTART;TZID=Australia/Sydney:20240322T160000
DTEND;TZID=Australia/Sydney:20240322T180000
DTSTAMP:20260423T213552
CREATED:20231123T015034Z
LAST-MODIFIED:20260224T043714Z
UID:10003866-1711123200-1711130400@www.harriganshuntervalley.com.au
SUMMARY:Cocktail Hour
DESCRIPTION:Cocktail Hour\nGet classic cocktails for just $18 on Fridays from 4pm-6pm and Saturdays from 3pm-5pm. \nCheck out who’s playing on Friday and Saturday nights here. \nT&C apply. Specials not available on public holidays.
URL:https://www.harriganshuntervalley.com.au/event/cocktail-hour/2024-03-22/
LOCATION:Harrigan’s Hunter Valley\, Broke Road\, Pokolbin\, NSW\, 2320\, Australia
CATEGORIES:Drinks Specials,Food Specials,Weekly Events
ATTACH;FMTTYPE=image/jpeg:https://www.harriganshuntervalley.com.au/wp-content/uploads/2023/11/HHV2025_123_cocktail_hour_web_800x600.jpg
END:VEVENT
END:VCALENDAR