BEGIN:VCALENDAR
VERSION:2.0
PRODID:-//Harrigan&#039;s Hunter Valley - ECPv6.15.7//NONSGML v1.0//EN
CALSCALE:GREGORIAN
METHOD:PUBLISH
X-WR-CALNAME:Harrigan&#039;s Hunter Valley
X-ORIGINAL-URL:https://www.harriganshuntervalley.com.au
X-WR-CALDESC:Events for Harrigan&#039;s Hunter Valley
REFRESH-INTERVAL;VALUE=DURATION:PT1H
X-Robots-Tag:noindex
X-PUBLISHED-TTL:PT1H
BEGIN:VTIMEZONE
TZID:Australia/Sydney
BEGIN:STANDARD
TZOFFSETFROM:+1100
TZOFFSETTO:+1000
TZNAME:AEST
DTSTART:20250405T160000
END:STANDARD
BEGIN:DAYLIGHT
TZOFFSETFROM:+1000
TZOFFSETTO:+1100
TZNAME:AEDT
DTSTART:20251004T160000
END:DAYLIGHT
BEGIN:STANDARD
TZOFFSETFROM:+1100
TZOFFSETTO:+1000
TZNAME:AEST
DTSTART:20260404T160000
END:STANDARD
BEGIN:DAYLIGHT
TZOFFSETFROM:+1000
TZOFFSETTO:+1100
TZNAME:AEDT
DTSTART:20261003T160000
END:DAYLIGHT
BEGIN:STANDARD
TZOFFSETFROM:+1100
TZOFFSETTO:+1000
TZNAME:AEST
DTSTART:20270403T160000
END:STANDARD
BEGIN:DAYLIGHT
TZOFFSETFROM:+1000
TZOFFSETTO:+1100
TZNAME:AEDT
DTSTART:20271002T160000
END:DAYLIGHT
END:VTIMEZONE
BEGIN:VEVENT
DTSTART;TZID=Australia/Sydney:20260101T150000
DTEND;TZID=Australia/Sydney:20260101T170000
DTSTAMP:20260421T160217
CREATED:20220606T025124Z
LAST-MODIFIED:20260224T043800Z
UID:10008244-1767279600-1767286800@www.harriganshuntervalley.com.au
SUMMARY:Happy Hour
DESCRIPTION:Happy Hour Weekdays\nJoin us Monday to Friday between 3pm and 5pm for Harrigan’s Happy Hour\, when we serve pints at schooner prices. \nT&C apply. Specials not available on public holidays.
URL:https://www.harriganshuntervalley.com.au/event/happy-hour/2026-01-01/
LOCATION:Harrigan’s Hunter Valley\, Broke Road\, Pokolbin\, NSW\, 2320\, Australia
CATEGORIES:Drinks Specials,Food Specials,Weekly Events
ATTACH;FMTTYPE=image/jpeg:https://www.harriganshuntervalley.com.au/wp-content/uploads/2022/06/HHV2025_123_weekdays_happy_hour_web_800x600.jpg
END:VEVENT
BEGIN:VEVENT
DTSTART;TZID=Australia/Sydney:20260101T173000
DTEND;TZID=Australia/Sydney:20260101T210000
DTSTAMP:20260421T160217
CREATED:20230626T012552Z
LAST-MODIFIED:20260224T050648Z
UID:10002559-1767288600-1767301200@www.harriganshuntervalley.com.au
SUMMARY:Steak Night
DESCRIPTION:Thursday Steak Night\nThursday night is Steak Night at Harrigan’s Hunter Valley! \nEvery Thursday\, between 5:30pm and 9pm\, enjoy a delicious 250g rump steak dinner for just $30. Served with chips\, salad\, and your choice of sauce. \nT&C apply. Specials not available on public holidays. \nBook Now
URL:https://www.harriganshuntervalley.com.au/event/steak-night/2026-01-01/
LOCATION:Harrigan’s Hunter Valley\, Broke Road\, Pokolbin\, NSW\, 2320\, Australia
CATEGORIES:Food Specials,Weekly Events
ATTACH;FMTTYPE=image/jpeg:https://www.harriganshuntervalley.com.au/wp-content/uploads/2023/06/HHV2025_123_thursday_steak_night_web_800x600.jpg
END:VEVENT
BEGIN:VEVENT
DTSTART;TZID=Australia/Sydney:20260102T150000
DTEND;TZID=Australia/Sydney:20260102T170000
DTSTAMP:20260421T160217
CREATED:20220606T025124Z
LAST-MODIFIED:20260224T043800Z
UID:10008245-1767366000-1767373200@www.harriganshuntervalley.com.au
SUMMARY:Happy Hour
DESCRIPTION:Happy Hour Weekdays\nJoin us Monday to Friday between 3pm and 5pm for Harrigan’s Happy Hour\, when we serve pints at schooner prices. \nT&C apply. Specials not available on public holidays.
URL:https://www.harriganshuntervalley.com.au/event/happy-hour/2026-01-02/
LOCATION:Harrigan’s Hunter Valley\, Broke Road\, Pokolbin\, NSW\, 2320\, Australia
CATEGORIES:Drinks Specials,Food Specials,Weekly Events
ATTACH;FMTTYPE=image/jpeg:https://www.harriganshuntervalley.com.au/wp-content/uploads/2022/06/HHV2025_123_weekdays_happy_hour_web_800x600.jpg
END:VEVENT
BEGIN:VEVENT
DTSTART;TZID=Australia/Sydney:20260102T160000
DTEND;TZID=Australia/Sydney:20260102T180000
DTSTAMP:20260421T160217
CREATED:20231123T015034Z
LAST-MODIFIED:20260224T043714Z
UID:10003959-1767369600-1767376800@www.harriganshuntervalley.com.au
SUMMARY:Cocktail Hour
DESCRIPTION:Cocktail Hour\nGet classic cocktails for just $18 on Fridays from 4pm-6pm and Saturdays from 3pm-5pm. \nCheck out who’s playing on Friday and Saturday nights here. \nT&C apply. Specials not available on public holidays.
URL:https://www.harriganshuntervalley.com.au/event/cocktail-hour/2026-01-02/
LOCATION:Harrigan’s Hunter Valley\, Broke Road\, Pokolbin\, NSW\, 2320\, Australia
CATEGORIES:Drinks Specials,Food Specials,Weekly Events
ATTACH;FMTTYPE=image/jpeg:https://www.harriganshuntervalley.com.au/wp-content/uploads/2023/11/HHV2025_123_cocktail_hour_web_800x600.jpg
END:VEVENT
BEGIN:VEVENT
DTSTART;TZID=Australia/Sydney:20260102T203000
DTEND;TZID=Australia/Sydney:20260102T233000
DTSTAMP:20260421T160217
CREATED:20260102T071737Z
LAST-MODIFIED:20260102T071737Z
UID:10007271-1767385800-1767396600@www.harriganshuntervalley.com.au
SUMMARY:Wez Thompson Band
DESCRIPTION:Live music every weekend at Harrigan’s Hunter Valley
URL:https://www.harriganshuntervalley.com.au/event/wez-thompson-band/
LOCATION:NSW
CATEGORIES:Live Music
ATTACH;FMTTYPE=image/jpeg:https://www.harriganshuntervalley.com.au/wp-content/uploads/2025/09/Wez-Thompson-Trio.jpeg
END:VEVENT
BEGIN:VEVENT
DTSTART;TZID=Australia/Sydney:20260103T123000
DTEND;TZID=Australia/Sydney:20260103T153000
DTSTAMP:20260421T160217
CREATED:20260102T072006Z
LAST-MODIFIED:20260102T072006Z
UID:10007272-1767443400-1767454200@www.harriganshuntervalley.com.au
SUMMARY:Jarrod Grant
DESCRIPTION:Live music every weekend at Harrigan’s Hunter Valley
URL:https://www.harriganshuntervalley.com.au/event/jarrod-grant/
LOCATION:NSW
CATEGORIES:Live Music
ATTACH;FMTTYPE=image/jpeg:https://www.harriganshuntervalley.com.au/wp-content/uploads/2026/01/Jarrod-Grant.jpg
END:VEVENT
BEGIN:VEVENT
DTSTART;TZID=Australia/Sydney:20260103T150000
DTEND;TZID=Australia/Sydney:20260103T170000
DTSTAMP:20260421T160217
CREATED:20241003T012534Z
LAST-MODIFIED:20260224T043828Z
UID:10005426-1767452400-1767459600@www.harriganshuntervalley.com.au
SUMMARY:Cocktail Hour
DESCRIPTION:Cocktail Hour\nGet classic cocktails for just $18 on Fridays from 4pm-6pm and Saturdays from 3pm-5pm. \nCheck out who’s playing on Friday and Saturday nights here. \nT&C apply. Specials not available on public holidays.
URL:https://www.harriganshuntervalley.com.au/event/cocktail-hour-2/2026-01-03/
LOCATION:Harrigan’s Hunter Valley\, Broke Road\, Pokolbin\, NSW\, 2320\, Australia
CATEGORIES:Drinks Specials,Food Specials,Weekly Events
ATTACH;FMTTYPE=image/jpeg:https://www.harriganshuntervalley.com.au/wp-content/uploads/2023/11/HHV2025_123_cocktail_hour_web_800x600.jpg
END:VEVENT
BEGIN:VEVENT
DTSTART;TZID=Australia/Sydney:20260103T163000
DTEND;TZID=Australia/Sydney:20260103T193000
DTSTAMP:20260421T160217
CREATED:20260102T072121Z
LAST-MODIFIED:20260102T072311Z
UID:10007273-1767457800-1767468600@www.harriganshuntervalley.com.au
SUMMARY:DJ Marco
DESCRIPTION:Live music every weekend at Harrigan’s Hunter Valley
URL:https://www.harriganshuntervalley.com.au/event/dj-marco/
LOCATION:NSW
CATEGORIES:Live Music
ATTACH;FMTTYPE=image/jpeg:https://www.harriganshuntervalley.com.au/wp-content/uploads/2026/01/DJ-Marco.jpg
END:VEVENT
BEGIN:VEVENT
DTSTART;TZID=Australia/Sydney:20260103T203000
DTEND;TZID=Australia/Sydney:20260103T233000
DTSTAMP:20260421T160217
CREATED:20260102T072408Z
LAST-MODIFIED:20260102T072408Z
UID:10007274-1767472200-1767483000@www.harriganshuntervalley.com.au
SUMMARY:Felix Quinn
DESCRIPTION:Live music every weekend at Harrigan’s Hunter Valley
URL:https://www.harriganshuntervalley.com.au/event/felix-quinn-15/
LOCATION:NSW
CATEGORIES:Live Music
ATTACH;FMTTYPE=image/jpeg:https://www.harriganshuntervalley.com.au/wp-content/uploads/2025/10/Felix-Quinn4.jpg
END:VEVENT
BEGIN:VEVENT
DTSTART;TZID=Australia/Sydney:20260104T130000
DTEND;TZID=Australia/Sydney:20260104T160000
DTSTAMP:20260421T160217
CREATED:20260102T072512Z
LAST-MODIFIED:20260102T072746Z
UID:10007275-1767531600-1767542400@www.harriganshuntervalley.com.au
SUMMARY:Luigi Brollo
DESCRIPTION:Live music every weekend at Harrigan’s Hunter Valley
URL:https://www.harriganshuntervalley.com.au/event/luigi-brollo/
LOCATION:NSW
CATEGORIES:Live Music
ATTACH;FMTTYPE=image/jpeg:https://www.harriganshuntervalley.com.au/wp-content/uploads/2026/01/Luigi-Brollo.jpg
END:VEVENT
BEGIN:VEVENT
DTSTART;TZID=Australia/Sydney:20260104T173000
DTEND;TZID=Australia/Sydney:20260104T210000
DTSTAMP:20260421T160217
CREATED:20250409T025433Z
LAST-MODIFIED:20260224T035057Z
UID:10006022-1767547800-1767560400@www.harriganshuntervalley.com.au
SUMMARY:Roast Night
DESCRIPTION:Sunday Roast Night\nSunday night is Roast Night at Harrigan’s Hunter Valley! \nEvery Sunday\, between 5:30pm and 9pm\, you can stop in for a classic roast dinner for just $24. Served with chef’s selection of sides. \nT&C apply. Specials not available on public holidays. \nBook Now
URL:https://www.harriganshuntervalley.com.au/event/roast-special/2026-01-04/
LOCATION:Harrigan’s Hunter Valley\, Broke Road\, Pokolbin\, NSW\, 2320\, Australia
CATEGORIES:Food Specials,Weekly Events
ATTACH;FMTTYPE=image/jpeg:https://www.harriganshuntervalley.com.au/wp-content/uploads/2025/04/HHV2025_123_sunday_roast_night_web_800x600.jpg
END:VEVENT
BEGIN:VEVENT
DTSTART;TZID=Australia/Sydney:20260105T120000
DTEND;TZID=Australia/Sydney:20260105T150000
DTSTAMP:20260421T160217
CREATED:20230626T013043Z
LAST-MODIFIED:20260318T082126Z
UID:10009696-1767614400-1767625200@www.harriganshuntervalley.com.au
SUMMARY:Lunch Specials
DESCRIPTION:Lunch Specials from $20\nFrom Monday to Thursday\, between 12pm and 3pm\, join us at Harrigan’s Hunter Valley for our fantastic range of lunch specials starting at just $20. \nWe’ve got everything from pizzas\, wraps and burgers to salads and fish and chips. See the bistro menu for selection. \nT&C apply. Specials not available on public holidays. \nBook Now
URL:https://www.harriganshuntervalley.com.au/event/lunch-specials/2026-01-05/
LOCATION:Harrigan’s Hunter Valley\, Broke Road\, Pokolbin\, NSW\, 2320\, Australia
CATEGORIES:Food Specials,Weekly Events
ATTACH;FMTTYPE=image/jpeg:https://www.harriganshuntervalley.com.au/wp-content/uploads/2023/06/HHV2025_123_weekdays_lunch_specials_web_800x600.jpg
END:VEVENT
BEGIN:VEVENT
DTSTART;TZID=Australia/Sydney:20260105T150000
DTEND;TZID=Australia/Sydney:20260105T170000
DTSTAMP:20260421T160217
CREATED:20220606T025124Z
LAST-MODIFIED:20260224T043800Z
UID:10001434-1767625200-1767632400@www.harriganshuntervalley.com.au
SUMMARY:Happy Hour
DESCRIPTION:Happy Hour Weekdays\nJoin us Monday to Friday between 3pm and 5pm for Harrigan’s Happy Hour\, when we serve pints at schooner prices. \nT&C apply. Specials not available on public holidays.
URL:https://www.harriganshuntervalley.com.au/event/happy-hour/2026-01-05/
LOCATION:Harrigan’s Hunter Valley\, Broke Road\, Pokolbin\, NSW\, 2320\, Australia
CATEGORIES:Drinks Specials,Food Specials,Weekly Events
ATTACH;FMTTYPE=image/jpeg:https://www.harriganshuntervalley.com.au/wp-content/uploads/2022/06/HHV2025_123_weekdays_happy_hour_web_800x600.jpg
END:VEVENT
BEGIN:VEVENT
DTSTART;TZID=Australia/Sydney:20260105T173000
DTEND;TZID=Australia/Sydney:20260105T210000
DTSTAMP:20260421T160217
CREATED:20250409T030110Z
LAST-MODIFIED:20260225T020205Z
UID:10006544-1767634200-1767646800@www.harriganshuntervalley.com.au
SUMMARY:Curry Night
DESCRIPTION:Monday Curry Night\nMonday night is Curry Night at Harrigan’s Hunter Valley! \nEvery Monday\, between 5:30pm and 9pm\, enjoy a delicious chef’s selection curry for just $20. Served with rice and papadum. \nT&C apply. Specials not available on public holidays. \nBook Now
URL:https://www.harriganshuntervalley.com.au/event/curry-special/2026-01-05/
LOCATION:Harrigan’s Hunter Valley\, Broke Road\, Pokolbin\, NSW\, 2320\, Australia
CATEGORIES:Food Specials,Weekly Events
ATTACH;FMTTYPE=image/jpeg:https://www.harriganshuntervalley.com.au/wp-content/uploads/2025/04/HHV2025_123_curry_night_web_800x600.jpg
END:VEVENT
BEGIN:VEVENT
DTSTART;TZID=Australia/Sydney:20260106T120000
DTEND;TZID=Australia/Sydney:20260106T150000
DTSTAMP:20260421T160217
CREATED:20230626T013043Z
LAST-MODIFIED:20260318T082126Z
UID:10003186-1767700800-1767711600@www.harriganshuntervalley.com.au
SUMMARY:Lunch Specials
DESCRIPTION:Lunch Specials from $20\nFrom Monday to Thursday\, between 12pm and 3pm\, join us at Harrigan’s Hunter Valley for our fantastic range of lunch specials starting at just $20. \nWe’ve got everything from pizzas\, wraps and burgers to salads and fish and chips. See the bistro menu for selection. \nT&C apply. Specials not available on public holidays. \nBook Now
URL:https://www.harriganshuntervalley.com.au/event/lunch-specials/2026-01-06/
LOCATION:Harrigan’s Hunter Valley\, Broke Road\, Pokolbin\, NSW\, 2320\, Australia
CATEGORIES:Food Specials,Weekly Events
ATTACH;FMTTYPE=image/jpeg:https://www.harriganshuntervalley.com.au/wp-content/uploads/2023/06/HHV2025_123_weekdays_lunch_specials_web_800x600.jpg
END:VEVENT
BEGIN:VEVENT
DTSTART;TZID=Australia/Sydney:20260106T150000
DTEND;TZID=Australia/Sydney:20260106T170000
DTSTAMP:20260421T160217
CREATED:20220606T025124Z
LAST-MODIFIED:20260224T043800Z
UID:10008246-1767711600-1767718800@www.harriganshuntervalley.com.au
SUMMARY:Happy Hour
DESCRIPTION:Happy Hour Weekdays\nJoin us Monday to Friday between 3pm and 5pm for Harrigan’s Happy Hour\, when we serve pints at schooner prices. \nT&C apply. Specials not available on public holidays.
URL:https://www.harriganshuntervalley.com.au/event/happy-hour/2026-01-06/
LOCATION:Harrigan’s Hunter Valley\, Broke Road\, Pokolbin\, NSW\, 2320\, Australia
CATEGORIES:Drinks Specials,Food Specials,Weekly Events
ATTACH;FMTTYPE=image/jpeg:https://www.harriganshuntervalley.com.au/wp-content/uploads/2022/06/HHV2025_123_weekdays_happy_hour_web_800x600.jpg
END:VEVENT
BEGIN:VEVENT
DTSTART;TZID=Australia/Sydney:20260106T173000
DTEND;TZID=Australia/Sydney:20260106T210000
DTSTAMP:20260421T160217
CREATED:20240508T030650Z
LAST-MODIFIED:20260224T043753Z
UID:10004255-1767720600-1767733200@www.harriganshuntervalley.com.au
SUMMARY:Schnitty Night
DESCRIPTION:Tuesday Schnitty Night\nTuesday night is Schnitty Night at Harrigan’s Hunter Valley! \nEvery Tuesday\, between 5:30pm and 9pm\, enjoy a classic schnitzel dinner for just $20. Served with chips\, salad and gravy\, or make it a parmigiana for an extra $4. \nT&C apply. Specials not available on public holidays. \nBook Now
URL:https://www.harriganshuntervalley.com.au/event/schnitty-night/2026-01-06/
LOCATION:Harrigan’s Hunter Valley\, Broke Road\, Pokolbin\, NSW\, 2320\, Australia
CATEGORIES:Food Specials,Weekly Events
ATTACH;FMTTYPE=image/jpeg:https://www.harriganshuntervalley.com.au/wp-content/uploads/2024/05/HHV2025_123_tuesday_schnitty_night_web_800x600.jpg
END:VEVENT
BEGIN:VEVENT
DTSTART;TZID=Australia/Sydney:20260107T120000
DTEND;TZID=Australia/Sydney:20260107T150000
DTSTAMP:20260421T160217
CREATED:20230626T013043Z
LAST-MODIFIED:20260318T082126Z
UID:10009697-1767787200-1767798000@www.harriganshuntervalley.com.au
SUMMARY:Lunch Specials
DESCRIPTION:Lunch Specials from $20\nFrom Monday to Thursday\, between 12pm and 3pm\, join us at Harrigan’s Hunter Valley for our fantastic range of lunch specials starting at just $20. \nWe’ve got everything from pizzas\, wraps and burgers to salads and fish and chips. See the bistro menu for selection. \nT&C apply. Specials not available on public holidays. \nBook Now
URL:https://www.harriganshuntervalley.com.au/event/lunch-specials/2026-01-07/
LOCATION:Harrigan’s Hunter Valley\, Broke Road\, Pokolbin\, NSW\, 2320\, Australia
CATEGORIES:Food Specials,Weekly Events
ATTACH;FMTTYPE=image/jpeg:https://www.harriganshuntervalley.com.au/wp-content/uploads/2023/06/HHV2025_123_weekdays_lunch_specials_web_800x600.jpg
END:VEVENT
BEGIN:VEVENT
DTSTART;TZID=Australia/Sydney:20260107T150000
DTEND;TZID=Australia/Sydney:20260107T170000
DTSTAMP:20260421T160217
CREATED:20220606T025124Z
LAST-MODIFIED:20260224T043800Z
UID:10008247-1767798000-1767805200@www.harriganshuntervalley.com.au
SUMMARY:Happy Hour
DESCRIPTION:Happy Hour Weekdays\nJoin us Monday to Friday between 3pm and 5pm for Harrigan’s Happy Hour\, when we serve pints at schooner prices. \nT&C apply. Specials not available on public holidays.
URL:https://www.harriganshuntervalley.com.au/event/happy-hour/2026-01-07/
LOCATION:Harrigan’s Hunter Valley\, Broke Road\, Pokolbin\, NSW\, 2320\, Australia
CATEGORIES:Drinks Specials,Food Specials,Weekly Events
ATTACH;FMTTYPE=image/jpeg:https://www.harriganshuntervalley.com.au/wp-content/uploads/2022/06/HHV2025_123_weekdays_happy_hour_web_800x600.jpg
END:VEVENT
BEGIN:VEVENT
DTSTART;TZID=Australia/Sydney:20260107T173000
DTEND;TZID=Australia/Sydney:20260107T210000
DTSTAMP:20260421T160217
CREATED:20230626T012249Z
LAST-MODIFIED:20260224T043742Z
UID:10002278-1767807000-1767819600@www.harriganshuntervalley.com.au
SUMMARY:Ribs Night
DESCRIPTION:Wednesday Ribs Night\nWednesday night is Ribs Night at Harrigan’s Hunter Valley! \nEvery Wednesday\, between 5:30pm and 9pm\, enjoy our 1/2 rack of pork ribs for just $30 or upsize to a full rack for $52. Served with our creamy slaw and chips. \nT&C apply. Specials not available on public holidays. \nBook Now
URL:https://www.harriganshuntervalley.com.au/event/ribs-night/2026-01-07/
LOCATION:Harrigan’s Hunter Valley\, Broke Road\, Pokolbin\, NSW\, 2320\, Australia
CATEGORIES:Food Specials,Weekly Events
ATTACH;FMTTYPE=image/jpeg:https://www.harriganshuntervalley.com.au/wp-content/uploads/2023/06/HHV2025_123_wednesday_ribs_night_web_800x600.jpg
END:VEVENT
BEGIN:VEVENT
DTSTART;TZID=Australia/Sydney:20260107T183000
DTEND;TZID=Australia/Sydney:20260107T203000
DTSTAMP:20260421T160217
CREATED:20240517T062109Z
LAST-MODIFIED:20251029T021810Z
UID:10004591-1767810600-1767817800@www.harriganshuntervalley.com.au
SUMMARY:Trivia Night
DESCRIPTION:Have you got what it takes? Grab your friends & test your knowledge! Laughs\, prizes\, and brain-bursting fun awaits. \nStarting Wednesday 12th of June\, join us weekly on Wednesdays from 6:30pm to 8:30pm. \nTriva Nights won’t be held on State of Origin game nights\, the dates impacted are 26th of June & 17th of July.
URL:https://www.harriganshuntervalley.com.au/event/trivia-night/2026-01-07/
LOCATION:Harrigan’s Hunter Valley\, Broke Road\, Pokolbin\, NSW\, 2320\, Australia
CATEGORIES:Weekly Events
ATTACH;FMTTYPE=image/jpeg:https://www.harriganshuntervalley.com.au/wp-content/uploads/2024/05/harrigans_hv_trivia_night_web_440x300.jpg
END:VEVENT
BEGIN:VEVENT
DTSTART;TZID=Australia/Sydney:20260108T120000
DTEND;TZID=Australia/Sydney:20260108T150000
DTSTAMP:20260421T160217
CREATED:20230626T013043Z
LAST-MODIFIED:20260318T082126Z
UID:10009698-1767873600-1767884400@www.harriganshuntervalley.com.au
SUMMARY:Lunch Specials
DESCRIPTION:Lunch Specials from $20\nFrom Monday to Thursday\, between 12pm and 3pm\, join us at Harrigan’s Hunter Valley for our fantastic range of lunch specials starting at just $20. \nWe’ve got everything from pizzas\, wraps and burgers to salads and fish and chips. See the bistro menu for selection. \nT&C apply. Specials not available on public holidays. \nBook Now
URL:https://www.harriganshuntervalley.com.au/event/lunch-specials/2026-01-08/
LOCATION:Harrigan’s Hunter Valley\, Broke Road\, Pokolbin\, NSW\, 2320\, Australia
CATEGORIES:Food Specials,Weekly Events
ATTACH;FMTTYPE=image/jpeg:https://www.harriganshuntervalley.com.au/wp-content/uploads/2023/06/HHV2025_123_weekdays_lunch_specials_web_800x600.jpg
END:VEVENT
BEGIN:VEVENT
DTSTART;TZID=Australia/Sydney:20260108T150000
DTEND;TZID=Australia/Sydney:20260108T170000
DTSTAMP:20260421T160217
CREATED:20220606T025124Z
LAST-MODIFIED:20260224T043800Z
UID:10008248-1767884400-1767891600@www.harriganshuntervalley.com.au
SUMMARY:Happy Hour
DESCRIPTION:Happy Hour Weekdays\nJoin us Monday to Friday between 3pm and 5pm for Harrigan’s Happy Hour\, when we serve pints at schooner prices. \nT&C apply. Specials not available on public holidays.
URL:https://www.harriganshuntervalley.com.au/event/happy-hour/2026-01-08/
LOCATION:Harrigan’s Hunter Valley\, Broke Road\, Pokolbin\, NSW\, 2320\, Australia
CATEGORIES:Drinks Specials,Food Specials,Weekly Events
ATTACH;FMTTYPE=image/jpeg:https://www.harriganshuntervalley.com.au/wp-content/uploads/2022/06/HHV2025_123_weekdays_happy_hour_web_800x600.jpg
END:VEVENT
BEGIN:VEVENT
DTSTART;TZID=Australia/Sydney:20260108T173000
DTEND;TZID=Australia/Sydney:20260108T210000
DTSTAMP:20260421T160217
CREATED:20230626T012552Z
LAST-MODIFIED:20260224T050648Z
UID:10002560-1767893400-1767906000@www.harriganshuntervalley.com.au
SUMMARY:Steak Night
DESCRIPTION:Thursday Steak Night\nThursday night is Steak Night at Harrigan’s Hunter Valley! \nEvery Thursday\, between 5:30pm and 9pm\, enjoy a delicious 250g rump steak dinner for just $30. Served with chips\, salad\, and your choice of sauce. \nT&C apply. Specials not available on public holidays. \nBook Now
URL:https://www.harriganshuntervalley.com.au/event/steak-night/2026-01-08/
LOCATION:Harrigan’s Hunter Valley\, Broke Road\, Pokolbin\, NSW\, 2320\, Australia
CATEGORIES:Food Specials,Weekly Events
ATTACH;FMTTYPE=image/jpeg:https://www.harriganshuntervalley.com.au/wp-content/uploads/2023/06/HHV2025_123_thursday_steak_night_web_800x600.jpg
END:VEVENT
BEGIN:VEVENT
DTSTART;TZID=Australia/Sydney:20260109T083000
DTEND;TZID=Australia/Sydney:20260109T233000
DTSTAMP:20260421T160217
CREATED:20260105T084437Z
LAST-MODIFIED:20260105T084437Z
UID:10007276-1767947400-1768001400@www.harriganshuntervalley.com.au
SUMMARY:Phonic
DESCRIPTION:Live music every weekend at Harrigan’s Hunter Valley
URL:https://www.harriganshuntervalley.com.au/event/phonic-6/
LOCATION:NSW
CATEGORIES:Live Music
ATTACH;FMTTYPE=image/jpeg:https://www.harriganshuntervalley.com.au/wp-content/uploads/2023/10/Phonic-1.jpg
END:VEVENT
BEGIN:VEVENT
DTSTART;TZID=Australia/Sydney:20260109T150000
DTEND;TZID=Australia/Sydney:20260109T170000
DTSTAMP:20260421T160218
CREATED:20220606T025124Z
LAST-MODIFIED:20260224T043800Z
UID:10008249-1767970800-1767978000@www.harriganshuntervalley.com.au
SUMMARY:Happy Hour
DESCRIPTION:Happy Hour Weekdays\nJoin us Monday to Friday between 3pm and 5pm for Harrigan’s Happy Hour\, when we serve pints at schooner prices. \nT&C apply. Specials not available on public holidays.
URL:https://www.harriganshuntervalley.com.au/event/happy-hour/2026-01-09/
LOCATION:Harrigan’s Hunter Valley\, Broke Road\, Pokolbin\, NSW\, 2320\, Australia
CATEGORIES:Drinks Specials,Food Specials,Weekly Events
ATTACH;FMTTYPE=image/jpeg:https://www.harriganshuntervalley.com.au/wp-content/uploads/2022/06/HHV2025_123_weekdays_happy_hour_web_800x600.jpg
END:VEVENT
BEGIN:VEVENT
DTSTART;TZID=Australia/Sydney:20260109T160000
DTEND;TZID=Australia/Sydney:20260109T180000
DTSTAMP:20260421T160218
CREATED:20231123T015034Z
LAST-MODIFIED:20260224T043714Z
UID:10003960-1767974400-1767981600@www.harriganshuntervalley.com.au
SUMMARY:Cocktail Hour
DESCRIPTION:Cocktail Hour\nGet classic cocktails for just $18 on Fridays from 4pm-6pm and Saturdays from 3pm-5pm. \nCheck out who’s playing on Friday and Saturday nights here. \nT&C apply. Specials not available on public holidays.
URL:https://www.harriganshuntervalley.com.au/event/cocktail-hour/2026-01-09/
LOCATION:Harrigan’s Hunter Valley\, Broke Road\, Pokolbin\, NSW\, 2320\, Australia
CATEGORIES:Drinks Specials,Food Specials,Weekly Events
ATTACH;FMTTYPE=image/jpeg:https://www.harriganshuntervalley.com.au/wp-content/uploads/2023/11/HHV2025_123_cocktail_hour_web_800x600.jpg
END:VEVENT
BEGIN:VEVENT
DTSTART;TZID=Australia/Sydney:20260110T123000
DTEND;TZID=Australia/Sydney:20260110T153000
DTSTAMP:20260421T160218
CREATED:20260105T084556Z
LAST-MODIFIED:20260106T222829Z
UID:10007277-1768048200-1768059000@www.harriganshuntervalley.com.au
SUMMARY:Duncan Woods
DESCRIPTION:Live music every weekend at Harrigan’s Hunter Valley
URL:https://www.harriganshuntervalley.com.au/event/cory-jones-10/
LOCATION:NSW
CATEGORIES:Live Music
ATTACH;FMTTYPE=image/jpeg:https://www.harriganshuntervalley.com.au/wp-content/uploads/2026/01/Duncan-Woods-2.jpg
END:VEVENT
BEGIN:VEVENT
DTSTART;TZID=Australia/Sydney:20260110T150000
DTEND;TZID=Australia/Sydney:20260110T170000
DTSTAMP:20260421T160218
CREATED:20241003T012534Z
LAST-MODIFIED:20260224T043828Z
UID:10005427-1768057200-1768064400@www.harriganshuntervalley.com.au
SUMMARY:Cocktail Hour
DESCRIPTION:Cocktail Hour\nGet classic cocktails for just $18 on Fridays from 4pm-6pm and Saturdays from 3pm-5pm. \nCheck out who’s playing on Friday and Saturday nights here. \nT&C apply. Specials not available on public holidays.
URL:https://www.harriganshuntervalley.com.au/event/cocktail-hour-2/2026-01-10/
LOCATION:Harrigan’s Hunter Valley\, Broke Road\, Pokolbin\, NSW\, 2320\, Australia
CATEGORIES:Drinks Specials,Food Specials,Weekly Events
ATTACH;FMTTYPE=image/jpeg:https://www.harriganshuntervalley.com.au/wp-content/uploads/2023/11/HHV2025_123_cocktail_hour_web_800x600.jpg
END:VEVENT
BEGIN:VEVENT
DTSTART;TZID=Australia/Sydney:20260110T163000
DTEND;TZID=Australia/Sydney:20260110T193000
DTSTAMP:20260421T160218
CREATED:20260105T084736Z
LAST-MODIFIED:20260105T084811Z
UID:10007278-1768062600-1768073400@www.harriganshuntervalley.com.au
SUMMARY:DJ Kiwi Decks
DESCRIPTION:Live music every weekend at Harrigan’s Hunter Valley
URL:https://www.harriganshuntervalley.com.au/event/dj-kiwi-decks/
LOCATION:NSW
CATEGORIES:Live Music
ATTACH;FMTTYPE=image/jpeg:https://www.harriganshuntervalley.com.au/wp-content/uploads/2026/01/DJ-Kiwi-Decks.jpg
END:VEVENT
END:VCALENDAR