BEGIN:VCALENDAR
VERSION:2.0
PRODID:-//Harrigan&#039;s Hunter Valley - ECPv6.15.7//NONSGML v1.0//EN
CALSCALE:GREGORIAN
METHOD:PUBLISH
X-ORIGINAL-URL:https://www.harriganshuntervalley.com.au
X-WR-CALDESC:Events for Harrigan&#039;s Hunter Valley
REFRESH-INTERVAL;VALUE=DURATION:PT1H
X-Robots-Tag:noindex
X-PUBLISHED-TTL:PT1H
BEGIN:VTIMEZONE
TZID:Australia/Sydney
BEGIN:STANDARD
TZOFFSETFROM:+1100
TZOFFSETTO:+1000
TZNAME:AEST
DTSTART:20260404T160000
END:STANDARD
BEGIN:DAYLIGHT
TZOFFSETFROM:+1000
TZOFFSETTO:+1100
TZNAME:AEDT
DTSTART:20261003T160000
END:DAYLIGHT
BEGIN:STANDARD
TZOFFSETFROM:+1100
TZOFFSETTO:+1000
TZNAME:AEST
DTSTART:20270403T160000
END:STANDARD
BEGIN:DAYLIGHT
TZOFFSETFROM:+1000
TZOFFSETTO:+1100
TZNAME:AEDT
DTSTART:20271002T160000
END:DAYLIGHT
BEGIN:STANDARD
TZOFFSETFROM:+1100
TZOFFSETTO:+1000
TZNAME:AEST
DTSTART:20280401T160000
END:STANDARD
BEGIN:DAYLIGHT
TZOFFSETFROM:+1000
TZOFFSETTO:+1100
TZNAME:AEDT
DTSTART:20280930T160000
END:DAYLIGHT
END:VTIMEZONE
BEGIN:VEVENT
DTSTART;TZID=Australia/Sydney:20271005T173000
DTEND;TZID=Australia/Sydney:20271005T210000
DTSTAMP:20260426T131020
CREATED:20240508T030650Z
LAST-MODIFIED:20260224T043753Z
UID:10004346-1822757400-1822770000@www.harriganshuntervalley.com.au
SUMMARY:Schnitty Night
DESCRIPTION:Tuesday Schnitty Night\nTuesday night is Schnitty Night at Harrigan’s Hunter Valley! \nEvery Tuesday\, between 5:30pm and 9pm\, enjoy a classic schnitzel dinner for just $20. Served with chips\, salad and gravy\, or make it a parmigiana for an extra $4. \nT&C apply. Specials not available on public holidays. \nBook Now
URL:https://www.harriganshuntervalley.com.au/event/schnitty-night/2027-10-05/
LOCATION:Harrigan’s Hunter Valley\, Broke Road\, Pokolbin\, NSW\, 2320\, Australia
CATEGORIES:Food Specials,Weekly Events
ATTACH;FMTTYPE=image/jpeg:https://www.harriganshuntervalley.com.au/wp-content/uploads/2024/05/HHV2025_123_tuesday_schnitty_night_web_800x600.jpg
END:VEVENT
BEGIN:VEVENT
DTSTART;TZID=Australia/Sydney:20271006T120000
DTEND;TZID=Australia/Sydney:20271006T150000
DTSTAMP:20260426T131020
CREATED:20230626T013043Z
LAST-MODIFIED:20260318T082126Z
UID:10009970-1822824000-1822834800@www.harriganshuntervalley.com.au
SUMMARY:Lunch Specials
DESCRIPTION:Lunch Specials from $20\nFrom Monday to Thursday\, between 12pm and 3pm\, join us at Harrigan’s Hunter Valley for our fantastic range of lunch specials starting at just $20. \nWe’ve got everything from pizzas\, wraps and burgers to salads and fish and chips. See the bistro menu for selection. \nT&C apply. Specials not available on public holidays. \nBook Now
URL:https://www.harriganshuntervalley.com.au/event/lunch-specials/2027-10-06/
LOCATION:Harrigan’s Hunter Valley\, Broke Road\, Pokolbin\, NSW\, 2320\, Australia
CATEGORIES:Food Specials,Weekly Events
ATTACH;FMTTYPE=image/jpeg:https://www.harriganshuntervalley.com.au/wp-content/uploads/2023/06/HHV2025_123_weekdays_lunch_specials_web_800x600.jpg
END:VEVENT
BEGIN:VEVENT
DTSTART;TZID=Australia/Sydney:20271006T150000
DTEND;TZID=Australia/Sydney:20271006T170000
DTSTAMP:20260426T131020
CREATED:20220606T025124Z
LAST-MODIFIED:20260422T084526Z
UID:10008611-1822834800-1822842000@www.harriganshuntervalley.com.au
SUMMARY:Happy Hour
DESCRIPTION:Happy Hour Weekdays\nJoin us Monday to Friday between 3pm and 5pm for Harrigan’s Happy Hour. \nWe’ve got domestic beers from $7 and premium and craft beers from $8.50! \nT&C apply. Specials not available on public holidays.
URL:https://www.harriganshuntervalley.com.au/event/happy-hour/2027-10-06/
LOCATION:Harrigan’s Hunter Valley\, Broke Road\, Pokolbin\, NSW\, 2320\, Australia
CATEGORIES:Drinks Specials,Food Specials,Weekly Events
ATTACH;FMTTYPE=image/jpeg:https://www.harriganshuntervalley.com.au/wp-content/uploads/2022/06/HHV2026_035_happy_hour_website_800x600.jpg
END:VEVENT
BEGIN:VEVENT
DTSTART;TZID=Australia/Sydney:20271006T173000
DTEND;TZID=Australia/Sydney:20271006T210000
DTSTAMP:20260426T131020
CREATED:20230626T012249Z
LAST-MODIFIED:20260224T043742Z
UID:10002369-1822843800-1822856400@www.harriganshuntervalley.com.au
SUMMARY:Ribs Night
DESCRIPTION:Wednesday Ribs Night\nWednesday night is Ribs Night at Harrigan’s Hunter Valley! \nEvery Wednesday\, between 5:30pm and 9pm\, enjoy our 1/2 rack of pork ribs for just $30 or upsize to a full rack for $52. Served with our creamy slaw and chips. \nT&C apply. Specials not available on public holidays. \nBook Now
URL:https://www.harriganshuntervalley.com.au/event/ribs-night/2027-10-06/
LOCATION:Harrigan’s Hunter Valley\, Broke Road\, Pokolbin\, NSW\, 2320\, Australia
CATEGORIES:Food Specials,Weekly Events
ATTACH;FMTTYPE=image/jpeg:https://www.harriganshuntervalley.com.au/wp-content/uploads/2023/06/HHV2025_123_wednesday_ribs_night_web_800x600.jpg
END:VEVENT
BEGIN:VEVENT
DTSTART;TZID=Australia/Sydney:20271006T183000
DTEND;TZID=Australia/Sydney:20271006T203000
DTSTAMP:20260426T131020
CREATED:20240517T062109Z
LAST-MODIFIED:20251029T021810Z
UID:10004682-1822847400-1822854600@www.harriganshuntervalley.com.au
SUMMARY:Trivia Night
DESCRIPTION:Have you got what it takes? Grab your friends & test your knowledge! Laughs\, prizes\, and brain-bursting fun awaits. \nStarting Wednesday 12th of June\, join us weekly on Wednesdays from 6:30pm to 8:30pm. \nTriva Nights won’t be held on State of Origin game nights\, the dates impacted are 26th of June & 17th of July.
URL:https://www.harriganshuntervalley.com.au/event/trivia-night/2027-10-06/
LOCATION:Harrigan’s Hunter Valley\, Broke Road\, Pokolbin\, NSW\, 2320\, Australia
CATEGORIES:Weekly Events
ATTACH;FMTTYPE=image/jpeg:https://www.harriganshuntervalley.com.au/wp-content/uploads/2024/05/harrigans_hv_trivia_night_web_440x300.jpg
END:VEVENT
BEGIN:VEVENT
DTSTART;TZID=Australia/Sydney:20271007T120000
DTEND;TZID=Australia/Sydney:20271007T150000
DTSTAMP:20260426T131020
CREATED:20230626T013043Z
LAST-MODIFIED:20260318T082126Z
UID:10009971-1822910400-1822921200@www.harriganshuntervalley.com.au
SUMMARY:Lunch Specials
DESCRIPTION:Lunch Specials from $20\nFrom Monday to Thursday\, between 12pm and 3pm\, join us at Harrigan’s Hunter Valley for our fantastic range of lunch specials starting at just $20. \nWe’ve got everything from pizzas\, wraps and burgers to salads and fish and chips. See the bistro menu for selection. \nT&C apply. Specials not available on public holidays. \nBook Now
URL:https://www.harriganshuntervalley.com.au/event/lunch-specials/2027-10-07/
LOCATION:Harrigan’s Hunter Valley\, Broke Road\, Pokolbin\, NSW\, 2320\, Australia
CATEGORIES:Food Specials,Weekly Events
ATTACH;FMTTYPE=image/jpeg:https://www.harriganshuntervalley.com.au/wp-content/uploads/2023/06/HHV2025_123_weekdays_lunch_specials_web_800x600.jpg
END:VEVENT
BEGIN:VEVENT
DTSTART;TZID=Australia/Sydney:20271007T150000
DTEND;TZID=Australia/Sydney:20271007T170000
DTSTAMP:20260426T131020
CREATED:20220606T025124Z
LAST-MODIFIED:20260422T084526Z
UID:10008612-1822921200-1822928400@www.harriganshuntervalley.com.au
SUMMARY:Happy Hour
DESCRIPTION:Happy Hour Weekdays\nJoin us Monday to Friday between 3pm and 5pm for Harrigan’s Happy Hour. \nWe’ve got domestic beers from $7 and premium and craft beers from $8.50! \nT&C apply. Specials not available on public holidays.
URL:https://www.harriganshuntervalley.com.au/event/happy-hour/2027-10-07/
LOCATION:Harrigan’s Hunter Valley\, Broke Road\, Pokolbin\, NSW\, 2320\, Australia
CATEGORIES:Drinks Specials,Food Specials,Weekly Events
ATTACH;FMTTYPE=image/jpeg:https://www.harriganshuntervalley.com.au/wp-content/uploads/2022/06/HHV2026_035_happy_hour_website_800x600.jpg
END:VEVENT
BEGIN:VEVENT
DTSTART;TZID=Australia/Sydney:20271007T173000
DTEND;TZID=Australia/Sydney:20271007T210000
DTSTAMP:20260426T131020
CREATED:20230626T012552Z
LAST-MODIFIED:20260224T050648Z
UID:10002651-1822930200-1822942800@www.harriganshuntervalley.com.au
SUMMARY:Steak Night
DESCRIPTION:Thursday Steak Night\nThursday night is Steak Night at Harrigan’s Hunter Valley! \nEvery Thursday\, between 5:30pm and 9pm\, enjoy a delicious 250g rump steak dinner for just $30. Served with chips\, salad\, and your choice of sauce. \nT&C apply. Specials not available on public holidays. \nBook Now
URL:https://www.harriganshuntervalley.com.au/event/steak-night/2027-10-07/
LOCATION:Harrigan’s Hunter Valley\, Broke Road\, Pokolbin\, NSW\, 2320\, Australia
CATEGORIES:Food Specials,Weekly Events
ATTACH;FMTTYPE=image/jpeg:https://www.harriganshuntervalley.com.au/wp-content/uploads/2023/06/HHV2025_123_thursday_steak_night_web_800x600.jpg
END:VEVENT
BEGIN:VEVENT
DTSTART;TZID=Australia/Sydney:20271008T150000
DTEND;TZID=Australia/Sydney:20271008T170000
DTSTAMP:20260426T131020
CREATED:20220606T025124Z
LAST-MODIFIED:20260422T084526Z
UID:10008613-1823007600-1823014800@www.harriganshuntervalley.com.au
SUMMARY:Happy Hour
DESCRIPTION:Happy Hour Weekdays\nJoin us Monday to Friday between 3pm and 5pm for Harrigan’s Happy Hour. \nWe’ve got domestic beers from $7 and premium and craft beers from $8.50! \nT&C apply. Specials not available on public holidays.
URL:https://www.harriganshuntervalley.com.au/event/happy-hour/2027-10-08/
LOCATION:Harrigan’s Hunter Valley\, Broke Road\, Pokolbin\, NSW\, 2320\, Australia
CATEGORIES:Drinks Specials,Food Specials,Weekly Events
ATTACH;FMTTYPE=image/jpeg:https://www.harriganshuntervalley.com.au/wp-content/uploads/2022/06/HHV2026_035_happy_hour_website_800x600.jpg
END:VEVENT
BEGIN:VEVENT
DTSTART;TZID=Australia/Sydney:20271008T160000
DTEND;TZID=Australia/Sydney:20271008T180000
DTSTAMP:20260426T131020
CREATED:20231123T015034Z
LAST-MODIFIED:20260224T043714Z
UID:10004051-1823011200-1823018400@www.harriganshuntervalley.com.au
SUMMARY:Cocktail Hour
DESCRIPTION:Cocktail Hour\nGet classic cocktails for just $18 on Fridays from 4pm-6pm and Saturdays from 3pm-5pm. \nCheck out who’s playing on Friday and Saturday nights here. \nT&C apply. Specials not available on public holidays.
URL:https://www.harriganshuntervalley.com.au/event/cocktail-hour/2027-10-08/
LOCATION:Harrigan’s Hunter Valley\, Broke Road\, Pokolbin\, NSW\, 2320\, Australia
CATEGORIES:Drinks Specials,Food Specials,Weekly Events
ATTACH;FMTTYPE=image/jpeg:https://www.harriganshuntervalley.com.au/wp-content/uploads/2023/11/HHV2025_123_cocktail_hour_web_800x600.jpg
END:VEVENT
BEGIN:VEVENT
DTSTART;TZID=Australia/Sydney:20271009T150000
DTEND;TZID=Australia/Sydney:20271009T170000
DTSTAMP:20260426T131020
CREATED:20241003T012534Z
LAST-MODIFIED:20260224T043828Z
UID:10005518-1823094000-1823101200@www.harriganshuntervalley.com.au
SUMMARY:Cocktail Hour
DESCRIPTION:Cocktail Hour\nGet classic cocktails for just $18 on Fridays from 4pm-6pm and Saturdays from 3pm-5pm. \nCheck out who’s playing on Friday and Saturday nights here. \nT&C apply. Specials not available on public holidays.
URL:https://www.harriganshuntervalley.com.au/event/cocktail-hour-2/2027-10-09/
LOCATION:Harrigan’s Hunter Valley\, Broke Road\, Pokolbin\, NSW\, 2320\, Australia
CATEGORIES:Drinks Specials,Food Specials,Weekly Events
ATTACH;FMTTYPE=image/jpeg:https://www.harriganshuntervalley.com.au/wp-content/uploads/2023/11/HHV2025_123_cocktail_hour_web_800x600.jpg
END:VEVENT
BEGIN:VEVENT
DTSTART;TZID=Australia/Sydney:20271010T173000
DTEND;TZID=Australia/Sydney:20271010T210000
DTSTAMP:20260426T131020
CREATED:20250409T025433Z
LAST-MODIFIED:20260224T035057Z
UID:10006114-1823189400-1823202000@www.harriganshuntervalley.com.au
SUMMARY:Roast Night
DESCRIPTION:Sunday Roast Night\nSunday night is Roast Night at Harrigan’s Hunter Valley! \nEvery Sunday\, between 5:30pm and 9pm\, you can stop in for a classic roast dinner for just $24. Served with chef’s selection of sides. \nT&C apply. Specials not available on public holidays. \nBook Now
URL:https://www.harriganshuntervalley.com.au/event/roast-special/2027-10-10/
LOCATION:Harrigan’s Hunter Valley\, Broke Road\, Pokolbin\, NSW\, 2320\, Australia
CATEGORIES:Food Specials,Weekly Events
ATTACH;FMTTYPE=image/jpeg:https://www.harriganshuntervalley.com.au/wp-content/uploads/2025/04/HHV2025_123_sunday_roast_night_web_800x600.jpg
END:VEVENT
BEGIN:VEVENT
DTSTART;TZID=Australia/Sydney:20271011T120000
DTEND;TZID=Australia/Sydney:20271011T150000
DTSTAMP:20260426T131020
CREATED:20230626T013043Z
LAST-MODIFIED:20260318T082126Z
UID:10009972-1823256000-1823266800@www.harriganshuntervalley.com.au
SUMMARY:Lunch Specials
DESCRIPTION:Lunch Specials from $20\nFrom Monday to Thursday\, between 12pm and 3pm\, join us at Harrigan’s Hunter Valley for our fantastic range of lunch specials starting at just $20. \nWe’ve got everything from pizzas\, wraps and burgers to salads and fish and chips. See the bistro menu for selection. \nT&C apply. Specials not available on public holidays. \nBook Now
URL:https://www.harriganshuntervalley.com.au/event/lunch-specials/2027-10-11/
LOCATION:Harrigan’s Hunter Valley\, Broke Road\, Pokolbin\, NSW\, 2320\, Australia
CATEGORIES:Food Specials,Weekly Events
ATTACH;FMTTYPE=image/jpeg:https://www.harriganshuntervalley.com.au/wp-content/uploads/2023/06/HHV2025_123_weekdays_lunch_specials_web_800x600.jpg
END:VEVENT
BEGIN:VEVENT
DTSTART;TZID=Australia/Sydney:20271011T150000
DTEND;TZID=Australia/Sydney:20271011T170000
DTSTAMP:20260426T131020
CREATED:20220606T025124Z
LAST-MODIFIED:20260422T084526Z
UID:10001526-1823266800-1823274000@www.harriganshuntervalley.com.au
SUMMARY:Happy Hour
DESCRIPTION:Happy Hour Weekdays\nJoin us Monday to Friday between 3pm and 5pm for Harrigan’s Happy Hour. \nWe’ve got domestic beers from $7 and premium and craft beers from $8.50! \nT&C apply. Specials not available on public holidays.
URL:https://www.harriganshuntervalley.com.au/event/happy-hour/2027-10-11/
LOCATION:Harrigan’s Hunter Valley\, Broke Road\, Pokolbin\, NSW\, 2320\, Australia
CATEGORIES:Drinks Specials,Food Specials,Weekly Events
ATTACH;FMTTYPE=image/jpeg:https://www.harriganshuntervalley.com.au/wp-content/uploads/2022/06/HHV2026_035_happy_hour_website_800x600.jpg
END:VEVENT
BEGIN:VEVENT
DTSTART;TZID=Australia/Sydney:20271011T173000
DTEND;TZID=Australia/Sydney:20271011T210000
DTSTAMP:20260426T131020
CREATED:20250409T030110Z
LAST-MODIFIED:20260225T020205Z
UID:10006636-1823275800-1823288400@www.harriganshuntervalley.com.au
SUMMARY:Curry Night
DESCRIPTION:Monday Curry Night\nMonday night is Curry Night at Harrigan’s Hunter Valley! \nEvery Monday\, between 5:30pm and 9pm\, enjoy a delicious chef’s selection curry for just $20. Served with rice and papadum. \nT&C apply. Specials not available on public holidays. \nBook Now
URL:https://www.harriganshuntervalley.com.au/event/curry-special/2027-10-11/
LOCATION:Harrigan’s Hunter Valley\, Broke Road\, Pokolbin\, NSW\, 2320\, Australia
CATEGORIES:Food Specials,Weekly Events
ATTACH;FMTTYPE=image/jpeg:https://www.harriganshuntervalley.com.au/wp-content/uploads/2025/04/HHV2025_123_curry_night_web_800x600.jpg
END:VEVENT
BEGIN:VEVENT
DTSTART;TZID=Australia/Sydney:20271012T120000
DTEND;TZID=Australia/Sydney:20271012T150000
DTSTAMP:20260426T131020
CREATED:20230626T013043Z
LAST-MODIFIED:20260318T082126Z
UID:10003554-1823342400-1823353200@www.harriganshuntervalley.com.au
SUMMARY:Lunch Specials
DESCRIPTION:Lunch Specials from $20\nFrom Monday to Thursday\, between 12pm and 3pm\, join us at Harrigan’s Hunter Valley for our fantastic range of lunch specials starting at just $20. \nWe’ve got everything from pizzas\, wraps and burgers to salads and fish and chips. See the bistro menu for selection. \nT&C apply. Specials not available on public holidays. \nBook Now
URL:https://www.harriganshuntervalley.com.au/event/lunch-specials/2027-10-12/
LOCATION:Harrigan’s Hunter Valley\, Broke Road\, Pokolbin\, NSW\, 2320\, Australia
CATEGORIES:Food Specials,Weekly Events
ATTACH;FMTTYPE=image/jpeg:https://www.harriganshuntervalley.com.au/wp-content/uploads/2023/06/HHV2025_123_weekdays_lunch_specials_web_800x600.jpg
END:VEVENT
BEGIN:VEVENT
DTSTART;TZID=Australia/Sydney:20271012T150000
DTEND;TZID=Australia/Sydney:20271012T170000
DTSTAMP:20260426T131020
CREATED:20220606T025124Z
LAST-MODIFIED:20260422T084526Z
UID:10008614-1823353200-1823360400@www.harriganshuntervalley.com.au
SUMMARY:Happy Hour
DESCRIPTION:Happy Hour Weekdays\nJoin us Monday to Friday between 3pm and 5pm for Harrigan’s Happy Hour. \nWe’ve got domestic beers from $7 and premium and craft beers from $8.50! \nT&C apply. Specials not available on public holidays.
URL:https://www.harriganshuntervalley.com.au/event/happy-hour/2027-10-12/
LOCATION:Harrigan’s Hunter Valley\, Broke Road\, Pokolbin\, NSW\, 2320\, Australia
CATEGORIES:Drinks Specials,Food Specials,Weekly Events
ATTACH;FMTTYPE=image/jpeg:https://www.harriganshuntervalley.com.au/wp-content/uploads/2022/06/HHV2026_035_happy_hour_website_800x600.jpg
END:VEVENT
BEGIN:VEVENT
DTSTART;TZID=Australia/Sydney:20271012T173000
DTEND;TZID=Australia/Sydney:20271012T210000
DTSTAMP:20260426T131020
CREATED:20240508T030650Z
LAST-MODIFIED:20260224T043753Z
UID:10004347-1823362200-1823374800@www.harriganshuntervalley.com.au
SUMMARY:Schnitty Night
DESCRIPTION:Tuesday Schnitty Night\nTuesday night is Schnitty Night at Harrigan’s Hunter Valley! \nEvery Tuesday\, between 5:30pm and 9pm\, enjoy a classic schnitzel dinner for just $20. Served with chips\, salad and gravy\, or make it a parmigiana for an extra $4. \nT&C apply. Specials not available on public holidays. \nBook Now
URL:https://www.harriganshuntervalley.com.au/event/schnitty-night/2027-10-12/
LOCATION:Harrigan’s Hunter Valley\, Broke Road\, Pokolbin\, NSW\, 2320\, Australia
CATEGORIES:Food Specials,Weekly Events
ATTACH;FMTTYPE=image/jpeg:https://www.harriganshuntervalley.com.au/wp-content/uploads/2024/05/HHV2025_123_tuesday_schnitty_night_web_800x600.jpg
END:VEVENT
BEGIN:VEVENT
DTSTART;TZID=Australia/Sydney:20271013T120000
DTEND;TZID=Australia/Sydney:20271013T150000
DTSTAMP:20260426T131020
CREATED:20230626T013043Z
LAST-MODIFIED:20260318T082126Z
UID:10009973-1823428800-1823439600@www.harriganshuntervalley.com.au
SUMMARY:Lunch Specials
DESCRIPTION:Lunch Specials from $20\nFrom Monday to Thursday\, between 12pm and 3pm\, join us at Harrigan’s Hunter Valley for our fantastic range of lunch specials starting at just $20. \nWe’ve got everything from pizzas\, wraps and burgers to salads and fish and chips. See the bistro menu for selection. \nT&C apply. Specials not available on public holidays. \nBook Now
URL:https://www.harriganshuntervalley.com.au/event/lunch-specials/2027-10-13/
LOCATION:Harrigan’s Hunter Valley\, Broke Road\, Pokolbin\, NSW\, 2320\, Australia
CATEGORIES:Food Specials,Weekly Events
ATTACH;FMTTYPE=image/jpeg:https://www.harriganshuntervalley.com.au/wp-content/uploads/2023/06/HHV2025_123_weekdays_lunch_specials_web_800x600.jpg
END:VEVENT
BEGIN:VEVENT
DTSTART;TZID=Australia/Sydney:20271013T150000
DTEND;TZID=Australia/Sydney:20271013T170000
DTSTAMP:20260426T131020
CREATED:20220606T025124Z
LAST-MODIFIED:20260422T084526Z
UID:10008615-1823439600-1823446800@www.harriganshuntervalley.com.au
SUMMARY:Happy Hour
DESCRIPTION:Happy Hour Weekdays\nJoin us Monday to Friday between 3pm and 5pm for Harrigan’s Happy Hour. \nWe’ve got domestic beers from $7 and premium and craft beers from $8.50! \nT&C apply. Specials not available on public holidays.
URL:https://www.harriganshuntervalley.com.au/event/happy-hour/2027-10-13/
LOCATION:Harrigan’s Hunter Valley\, Broke Road\, Pokolbin\, NSW\, 2320\, Australia
CATEGORIES:Drinks Specials,Food Specials,Weekly Events
ATTACH;FMTTYPE=image/jpeg:https://www.harriganshuntervalley.com.au/wp-content/uploads/2022/06/HHV2026_035_happy_hour_website_800x600.jpg
END:VEVENT
BEGIN:VEVENT
DTSTART;TZID=Australia/Sydney:20271013T173000
DTEND;TZID=Australia/Sydney:20271013T210000
DTSTAMP:20260426T131020
CREATED:20230626T012249Z
LAST-MODIFIED:20260224T043742Z
UID:10002370-1823448600-1823461200@www.harriganshuntervalley.com.au
SUMMARY:Ribs Night
DESCRIPTION:Wednesday Ribs Night\nWednesday night is Ribs Night at Harrigan’s Hunter Valley! \nEvery Wednesday\, between 5:30pm and 9pm\, enjoy our 1/2 rack of pork ribs for just $30 or upsize to a full rack for $52. Served with our creamy slaw and chips. \nT&C apply. Specials not available on public holidays. \nBook Now
URL:https://www.harriganshuntervalley.com.au/event/ribs-night/2027-10-13/
LOCATION:Harrigan’s Hunter Valley\, Broke Road\, Pokolbin\, NSW\, 2320\, Australia
CATEGORIES:Food Specials,Weekly Events
ATTACH;FMTTYPE=image/jpeg:https://www.harriganshuntervalley.com.au/wp-content/uploads/2023/06/HHV2025_123_wednesday_ribs_night_web_800x600.jpg
END:VEVENT
BEGIN:VEVENT
DTSTART;TZID=Australia/Sydney:20271013T183000
DTEND;TZID=Australia/Sydney:20271013T203000
DTSTAMP:20260426T131020
CREATED:20240517T062109Z
LAST-MODIFIED:20251029T021810Z
UID:10004683-1823452200-1823459400@www.harriganshuntervalley.com.au
SUMMARY:Trivia Night
DESCRIPTION:Have you got what it takes? Grab your friends & test your knowledge! Laughs\, prizes\, and brain-bursting fun awaits. \nStarting Wednesday 12th of June\, join us weekly on Wednesdays from 6:30pm to 8:30pm. \nTriva Nights won’t be held on State of Origin game nights\, the dates impacted are 26th of June & 17th of July.
URL:https://www.harriganshuntervalley.com.au/event/trivia-night/2027-10-13/
LOCATION:Harrigan’s Hunter Valley\, Broke Road\, Pokolbin\, NSW\, 2320\, Australia
CATEGORIES:Weekly Events
ATTACH;FMTTYPE=image/jpeg:https://www.harriganshuntervalley.com.au/wp-content/uploads/2024/05/harrigans_hv_trivia_night_web_440x300.jpg
END:VEVENT
BEGIN:VEVENT
DTSTART;TZID=Australia/Sydney:20271014T120000
DTEND;TZID=Australia/Sydney:20271014T150000
DTSTAMP:20260426T131020
CREATED:20230626T013043Z
LAST-MODIFIED:20260318T082126Z
UID:10009974-1823515200-1823526000@www.harriganshuntervalley.com.au
SUMMARY:Lunch Specials
DESCRIPTION:Lunch Specials from $20\nFrom Monday to Thursday\, between 12pm and 3pm\, join us at Harrigan’s Hunter Valley for our fantastic range of lunch specials starting at just $20. \nWe’ve got everything from pizzas\, wraps and burgers to salads and fish and chips. See the bistro menu for selection. \nT&C apply. Specials not available on public holidays. \nBook Now
URL:https://www.harriganshuntervalley.com.au/event/lunch-specials/2027-10-14/
LOCATION:Harrigan’s Hunter Valley\, Broke Road\, Pokolbin\, NSW\, 2320\, Australia
CATEGORIES:Food Specials,Weekly Events
ATTACH;FMTTYPE=image/jpeg:https://www.harriganshuntervalley.com.au/wp-content/uploads/2023/06/HHV2025_123_weekdays_lunch_specials_web_800x600.jpg
END:VEVENT
BEGIN:VEVENT
DTSTART;TZID=Australia/Sydney:20271014T150000
DTEND;TZID=Australia/Sydney:20271014T170000
DTSTAMP:20260426T131020
CREATED:20220606T025124Z
LAST-MODIFIED:20260422T084526Z
UID:10008616-1823526000-1823533200@www.harriganshuntervalley.com.au
SUMMARY:Happy Hour
DESCRIPTION:Happy Hour Weekdays\nJoin us Monday to Friday between 3pm and 5pm for Harrigan’s Happy Hour. \nWe’ve got domestic beers from $7 and premium and craft beers from $8.50! \nT&C apply. Specials not available on public holidays.
URL:https://www.harriganshuntervalley.com.au/event/happy-hour/2027-10-14/
LOCATION:Harrigan’s Hunter Valley\, Broke Road\, Pokolbin\, NSW\, 2320\, Australia
CATEGORIES:Drinks Specials,Food Specials,Weekly Events
ATTACH;FMTTYPE=image/jpeg:https://www.harriganshuntervalley.com.au/wp-content/uploads/2022/06/HHV2026_035_happy_hour_website_800x600.jpg
END:VEVENT
BEGIN:VEVENT
DTSTART;TZID=Australia/Sydney:20271014T173000
DTEND;TZID=Australia/Sydney:20271014T210000
DTSTAMP:20260426T131020
CREATED:20230626T012552Z
LAST-MODIFIED:20260224T050648Z
UID:10002652-1823535000-1823547600@www.harriganshuntervalley.com.au
SUMMARY:Steak Night
DESCRIPTION:Thursday Steak Night\nThursday night is Steak Night at Harrigan’s Hunter Valley! \nEvery Thursday\, between 5:30pm and 9pm\, enjoy a delicious 250g rump steak dinner for just $30. Served with chips\, salad\, and your choice of sauce. \nT&C apply. Specials not available on public holidays. \nBook Now
URL:https://www.harriganshuntervalley.com.au/event/steak-night/2027-10-14/
LOCATION:Harrigan’s Hunter Valley\, Broke Road\, Pokolbin\, NSW\, 2320\, Australia
CATEGORIES:Food Specials,Weekly Events
ATTACH;FMTTYPE=image/jpeg:https://www.harriganshuntervalley.com.au/wp-content/uploads/2023/06/HHV2025_123_thursday_steak_night_web_800x600.jpg
END:VEVENT
BEGIN:VEVENT
DTSTART;TZID=Australia/Sydney:20271015T150000
DTEND;TZID=Australia/Sydney:20271015T170000
DTSTAMP:20260426T131020
CREATED:20220606T025124Z
LAST-MODIFIED:20260422T084526Z
UID:10008617-1823612400-1823619600@www.harriganshuntervalley.com.au
SUMMARY:Happy Hour
DESCRIPTION:Happy Hour Weekdays\nJoin us Monday to Friday between 3pm and 5pm for Harrigan’s Happy Hour. \nWe’ve got domestic beers from $7 and premium and craft beers from $8.50! \nT&C apply. Specials not available on public holidays.
URL:https://www.harriganshuntervalley.com.au/event/happy-hour/2027-10-15/
LOCATION:Harrigan’s Hunter Valley\, Broke Road\, Pokolbin\, NSW\, 2320\, Australia
CATEGORIES:Drinks Specials,Food Specials,Weekly Events
ATTACH;FMTTYPE=image/jpeg:https://www.harriganshuntervalley.com.au/wp-content/uploads/2022/06/HHV2026_035_happy_hour_website_800x600.jpg
END:VEVENT
BEGIN:VEVENT
DTSTART;TZID=Australia/Sydney:20271015T160000
DTEND;TZID=Australia/Sydney:20271015T180000
DTSTAMP:20260426T131020
CREATED:20231123T015034Z
LAST-MODIFIED:20260224T043714Z
UID:10004052-1823616000-1823623200@www.harriganshuntervalley.com.au
SUMMARY:Cocktail Hour
DESCRIPTION:Cocktail Hour\nGet classic cocktails for just $18 on Fridays from 4pm-6pm and Saturdays from 3pm-5pm. \nCheck out who’s playing on Friday and Saturday nights here. \nT&C apply. Specials not available on public holidays.
URL:https://www.harriganshuntervalley.com.au/event/cocktail-hour/2027-10-15/
LOCATION:Harrigan’s Hunter Valley\, Broke Road\, Pokolbin\, NSW\, 2320\, Australia
CATEGORIES:Drinks Specials,Food Specials,Weekly Events
ATTACH;FMTTYPE=image/jpeg:https://www.harriganshuntervalley.com.au/wp-content/uploads/2023/11/HHV2025_123_cocktail_hour_web_800x600.jpg
END:VEVENT
BEGIN:VEVENT
DTSTART;TZID=Australia/Sydney:20271016T150000
DTEND;TZID=Australia/Sydney:20271016T170000
DTSTAMP:20260426T131020
CREATED:20241003T012534Z
LAST-MODIFIED:20260224T043828Z
UID:10005519-1823698800-1823706000@www.harriganshuntervalley.com.au
SUMMARY:Cocktail Hour
DESCRIPTION:Cocktail Hour\nGet classic cocktails for just $18 on Fridays from 4pm-6pm and Saturdays from 3pm-5pm. \nCheck out who’s playing on Friday and Saturday nights here. \nT&C apply. Specials not available on public holidays.
URL:https://www.harriganshuntervalley.com.au/event/cocktail-hour-2/2027-10-16/
LOCATION:Harrigan’s Hunter Valley\, Broke Road\, Pokolbin\, NSW\, 2320\, Australia
CATEGORIES:Drinks Specials,Food Specials,Weekly Events
ATTACH;FMTTYPE=image/jpeg:https://www.harriganshuntervalley.com.au/wp-content/uploads/2023/11/HHV2025_123_cocktail_hour_web_800x600.jpg
END:VEVENT
BEGIN:VEVENT
DTSTART;TZID=Australia/Sydney:20271017T173000
DTEND;TZID=Australia/Sydney:20271017T210000
DTSTAMP:20260426T131020
CREATED:20250409T025433Z
LAST-MODIFIED:20260224T035057Z
UID:10006115-1823794200-1823806800@www.harriganshuntervalley.com.au
SUMMARY:Roast Night
DESCRIPTION:Sunday Roast Night\nSunday night is Roast Night at Harrigan’s Hunter Valley! \nEvery Sunday\, between 5:30pm and 9pm\, you can stop in for a classic roast dinner for just $24. Served with chef’s selection of sides. \nT&C apply. Specials not available on public holidays. \nBook Now
URL:https://www.harriganshuntervalley.com.au/event/roast-special/2027-10-17/
LOCATION:Harrigan’s Hunter Valley\, Broke Road\, Pokolbin\, NSW\, 2320\, Australia
CATEGORIES:Food Specials,Weekly Events
ATTACH;FMTTYPE=image/jpeg:https://www.harriganshuntervalley.com.au/wp-content/uploads/2025/04/HHV2025_123_sunday_roast_night_web_800x600.jpg
END:VEVENT
BEGIN:VEVENT
DTSTART;TZID=Australia/Sydney:20271018T120000
DTEND;TZID=Australia/Sydney:20271018T150000
DTSTAMP:20260426T131020
CREATED:20230626T013043Z
LAST-MODIFIED:20260318T082126Z
UID:10009975-1823860800-1823871600@www.harriganshuntervalley.com.au
SUMMARY:Lunch Specials
DESCRIPTION:Lunch Specials from $20\nFrom Monday to Thursday\, between 12pm and 3pm\, join us at Harrigan’s Hunter Valley for our fantastic range of lunch specials starting at just $20. \nWe’ve got everything from pizzas\, wraps and burgers to salads and fish and chips. See the bistro menu for selection. \nT&C apply. Specials not available on public holidays. \nBook Now
URL:https://www.harriganshuntervalley.com.au/event/lunch-specials/2027-10-18/
LOCATION:Harrigan’s Hunter Valley\, Broke Road\, Pokolbin\, NSW\, 2320\, Australia
CATEGORIES:Food Specials,Weekly Events
ATTACH;FMTTYPE=image/jpeg:https://www.harriganshuntervalley.com.au/wp-content/uploads/2023/06/HHV2025_123_weekdays_lunch_specials_web_800x600.jpg
END:VEVENT
END:VCALENDAR