BEGIN:VCALENDAR
VERSION:2.0
PRODID:-//Harrigan&#039;s Hunter Valley - ECPv6.15.7//NONSGML v1.0//EN
CALSCALE:GREGORIAN
METHOD:PUBLISH
X-WR-CALNAME:Harrigan&#039;s Hunter Valley
X-ORIGINAL-URL:https://www.harriganshuntervalley.com.au
X-WR-CALDESC:Events for Harrigan&#039;s Hunter Valley
REFRESH-INTERVAL;VALUE=DURATION:PT1H
X-Robots-Tag:noindex
X-PUBLISHED-TTL:PT1H
BEGIN:VTIMEZONE
TZID:Australia/Sydney
BEGIN:STANDARD
TZOFFSETFROM:+1100
TZOFFSETTO:+1000
TZNAME:AEST
DTSTART:20230401T160000
END:STANDARD
BEGIN:DAYLIGHT
TZOFFSETFROM:+1000
TZOFFSETTO:+1100
TZNAME:AEDT
DTSTART:20230930T160000
END:DAYLIGHT
BEGIN:STANDARD
TZOFFSETFROM:+1100
TZOFFSETTO:+1000
TZNAME:AEST
DTSTART:20240406T160000
END:STANDARD
BEGIN:DAYLIGHT
TZOFFSETFROM:+1000
TZOFFSETTO:+1100
TZNAME:AEDT
DTSTART:20241005T160000
END:DAYLIGHT
BEGIN:STANDARD
TZOFFSETFROM:+1100
TZOFFSETTO:+1000
TZNAME:AEST
DTSTART:20250405T160000
END:STANDARD
BEGIN:DAYLIGHT
TZOFFSETFROM:+1000
TZOFFSETTO:+1100
TZNAME:AEDT
DTSTART:20251004T160000
END:DAYLIGHT
END:VTIMEZONE
BEGIN:VEVENT
DTSTART;TZID=Australia/Sydney:20240216T160000
DTEND;TZID=Australia/Sydney:20240216T180000
DTSTAMP:20260424T115046
CREATED:20231123T015034Z
LAST-MODIFIED:20260224T043714Z
UID:10003861-1708099200-1708106400@www.harriganshuntervalley.com.au
SUMMARY:Cocktail Hour
DESCRIPTION:Cocktail Hour\nGet classic cocktails for just $18 on Fridays from 4pm-6pm and Saturdays from 3pm-5pm. \nCheck out who’s playing on Friday and Saturday nights here. \nT&C apply. Specials not available on public holidays.
URL:https://www.harriganshuntervalley.com.au/event/cocktail-hour/2024-02-16/
LOCATION:Harrigan’s Hunter Valley\, Broke Road\, Pokolbin\, NSW\, 2320\, Australia
CATEGORIES:Drinks Specials,Food Specials,Weekly Events
ATTACH;FMTTYPE=image/jpeg:https://www.harriganshuntervalley.com.au/wp-content/uploads/2023/11/HHV2025_123_cocktail_hour_web_800x600.jpg
END:VEVENT
BEGIN:VEVENT
DTSTART;TZID=Australia/Sydney:20240216T150000
DTEND;TZID=Australia/Sydney:20240216T170000
DTSTAMP:20260424T115046
CREATED:20220606T025124Z
LAST-MODIFIED:20260422T084526Z
UID:10007853-1708095600-1708102800@www.harriganshuntervalley.com.au
SUMMARY:Happy Hour
DESCRIPTION:Happy Hour Weekdays\nJoin us Monday to Friday between 3pm and 5pm for Harrigan’s Happy Hour. \nWe’ve got domestic beers from $7 and premium and craft beers from $8.50! \nT&C apply. Specials not available on public holidays.
URL:https://www.harriganshuntervalley.com.au/event/happy-hour/2024-02-16/
LOCATION:Harrigan’s Hunter Valley\, Broke Road\, Pokolbin\, NSW\, 2320\, Australia
CATEGORIES:Drinks Specials,Food Specials,Weekly Events
ATTACH;FMTTYPE=image/jpeg:https://www.harriganshuntervalley.com.au/wp-content/uploads/2022/06/HHV2026_035_happy_hour_website_800x600.jpg
END:VEVENT
BEGIN:VEVENT
DTSTART;TZID=Australia/Sydney:20240215T173000
DTEND;TZID=Australia/Sydney:20240215T210000
DTSTAMP:20260424T115046
CREATED:20230626T012552Z
LAST-MODIFIED:20260224T050648Z
UID:10002462-1708018200-1708030800@www.harriganshuntervalley.com.au
SUMMARY:Steak Night
DESCRIPTION:Thursday Steak Night\nThursday night is Steak Night at Harrigan’s Hunter Valley! \nEvery Thursday\, between 5:30pm and 9pm\, enjoy a delicious 250g rump steak dinner for just $30. Served with chips\, salad\, and your choice of sauce. \nT&C apply. Specials not available on public holidays. \nBook Now
URL:https://www.harriganshuntervalley.com.au/event/steak-night/2024-02-15/
LOCATION:Harrigan’s Hunter Valley\, Broke Road\, Pokolbin\, NSW\, 2320\, Australia
CATEGORIES:Food Specials,Weekly Events
ATTACH;FMTTYPE=image/jpeg:https://www.harriganshuntervalley.com.au/wp-content/uploads/2023/06/HHV2025_123_thursday_steak_night_web_800x600.jpg
END:VEVENT
BEGIN:VEVENT
DTSTART;TZID=Australia/Sydney:20240215T150000
DTEND;TZID=Australia/Sydney:20240215T170000
DTSTAMP:20260424T115046
CREATED:20220606T025124Z
LAST-MODIFIED:20260422T084526Z
UID:10007852-1708009200-1708016400@www.harriganshuntervalley.com.au
SUMMARY:Happy Hour
DESCRIPTION:Happy Hour Weekdays\nJoin us Monday to Friday between 3pm and 5pm for Harrigan’s Happy Hour. \nWe’ve got domestic beers from $7 and premium and craft beers from $8.50! \nT&C apply. Specials not available on public holidays.
URL:https://www.harriganshuntervalley.com.au/event/happy-hour/2024-02-15/
LOCATION:Harrigan’s Hunter Valley\, Broke Road\, Pokolbin\, NSW\, 2320\, Australia
CATEGORIES:Drinks Specials,Food Specials,Weekly Events
ATTACH;FMTTYPE=image/jpeg:https://www.harriganshuntervalley.com.au/wp-content/uploads/2022/06/HHV2026_035_happy_hour_website_800x600.jpg
END:VEVENT
BEGIN:VEVENT
DTSTART;TZID=Australia/Sydney:20240215T120000
DTEND;TZID=Australia/Sydney:20240215T150000
DTSTAMP:20260424T115046
CREATED:20230626T013043Z
LAST-MODIFIED:20260318T082126Z
UID:10009401-1707998400-1708009200@www.harriganshuntervalley.com.au
SUMMARY:Lunch Specials
DESCRIPTION:Lunch Specials from $20\nFrom Monday to Thursday\, between 12pm and 3pm\, join us at Harrigan’s Hunter Valley for our fantastic range of lunch specials starting at just $20. \nWe’ve got everything from pizzas\, wraps and burgers to salads and fish and chips. See the bistro menu for selection. \nT&C apply. Specials not available on public holidays. \nBook Now
URL:https://www.harriganshuntervalley.com.au/event/lunch-specials/2024-02-15/
LOCATION:Harrigan’s Hunter Valley\, Broke Road\, Pokolbin\, NSW\, 2320\, Australia
CATEGORIES:Food Specials,Weekly Events
ATTACH;FMTTYPE=image/jpeg:https://www.harriganshuntervalley.com.au/wp-content/uploads/2023/06/HHV2025_123_weekdays_lunch_specials_web_800x600.jpg
END:VEVENT
BEGIN:VEVENT
DTSTART;TZID=Australia/Sydney:20240214T173000
DTEND;TZID=Australia/Sydney:20240214T210000
DTSTAMP:20260424T115046
CREATED:20230626T012249Z
LAST-MODIFIED:20260224T043742Z
UID:10002179-1707931800-1707944400@www.harriganshuntervalley.com.au
SUMMARY:Ribs Night
DESCRIPTION:Wednesday Ribs Night\nWednesday night is Ribs Night at Harrigan’s Hunter Valley! \nEvery Wednesday\, between 5:30pm and 9pm\, enjoy our 1/2 rack of pork ribs for just $30 or upsize to a full rack for $52. Served with our creamy slaw and chips. \nT&C apply. Specials not available on public holidays. \nBook Now
URL:https://www.harriganshuntervalley.com.au/event/ribs-night/2024-02-14/
LOCATION:Harrigan’s Hunter Valley\, Broke Road\, Pokolbin\, NSW\, 2320\, Australia
CATEGORIES:Food Specials,Weekly Events
ATTACH;FMTTYPE=image/jpeg:https://www.harriganshuntervalley.com.au/wp-content/uploads/2023/06/HHV2025_123_wednesday_ribs_night_web_800x600.jpg
END:VEVENT
BEGIN:VEVENT
DTSTART;TZID=Australia/Sydney:20240214T150000
DTEND;TZID=Australia/Sydney:20240214T170000
DTSTAMP:20260424T115046
CREATED:20220606T025124Z
LAST-MODIFIED:20260422T084526Z
UID:10007851-1707922800-1707930000@www.harriganshuntervalley.com.au
SUMMARY:Happy Hour
DESCRIPTION:Happy Hour Weekdays\nJoin us Monday to Friday between 3pm and 5pm for Harrigan’s Happy Hour. \nWe’ve got domestic beers from $7 and premium and craft beers from $8.50! \nT&C apply. Specials not available on public holidays.
URL:https://www.harriganshuntervalley.com.au/event/happy-hour/2024-02-14/
LOCATION:Harrigan’s Hunter Valley\, Broke Road\, Pokolbin\, NSW\, 2320\, Australia
CATEGORIES:Drinks Specials,Food Specials,Weekly Events
ATTACH;FMTTYPE=image/jpeg:https://www.harriganshuntervalley.com.au/wp-content/uploads/2022/06/HHV2026_035_happy_hour_website_800x600.jpg
END:VEVENT
BEGIN:VEVENT
DTSTART;TZID=Australia/Sydney:20240214T120000
DTEND;TZID=Australia/Sydney:20240214T150000
DTSTAMP:20260424T115046
CREATED:20230626T013043Z
LAST-MODIFIED:20260318T082126Z
UID:10009400-1707912000-1707922800@www.harriganshuntervalley.com.au
SUMMARY:Lunch Specials
DESCRIPTION:Lunch Specials from $20\nFrom Monday to Thursday\, between 12pm and 3pm\, join us at Harrigan’s Hunter Valley for our fantastic range of lunch specials starting at just $20. \nWe’ve got everything from pizzas\, wraps and burgers to salads and fish and chips. See the bistro menu for selection. \nT&C apply. Specials not available on public holidays. \nBook Now
URL:https://www.harriganshuntervalley.com.au/event/lunch-specials/2024-02-14/
LOCATION:Harrigan’s Hunter Valley\, Broke Road\, Pokolbin\, NSW\, 2320\, Australia
CATEGORIES:Food Specials,Weekly Events
ATTACH;FMTTYPE=image/jpeg:https://www.harriganshuntervalley.com.au/wp-content/uploads/2023/06/HHV2025_123_weekdays_lunch_specials_web_800x600.jpg
END:VEVENT
BEGIN:VEVENT
DTSTART;TZID=Australia/Sydney:20240214T070000
DTEND;TZID=Australia/Sydney:20240214T210000
DTSTAMP:20260424T115046
CREATED:20231214T000517Z
LAST-MODIFIED:20231214T000517Z
UID:10004126-1707894000-1707944400@www.harriganshuntervalley.com.au
SUMMARY:Valentine's Day at Harrigan's Hunter Valley
DESCRIPTION:Love is in the air at Harrigan’s Hunter Valley!\nCelebrate Valentine’s Day \nRomantically themed meals.\nSpecially crafted Valentine’s Day cocktails.\nComplimentary chocolate heart for every couple. \nBook before 4th February to go in the draw to win a $150 food voucher! \nMenu \nBook Now
URL:https://www.harriganshuntervalley.com.au/event/valentines-day-at-harrigans-hunter-valley/
LOCATION:Harrigan’s Hunter Valley\, Broke Road\, Pokolbin\, NSW\, 2320\, Australia
CATEGORIES:Special Events
ATTACH;FMTTYPE=image/jpeg:https://www.harriganshuntervalley.com.au/wp-content/uploads/2023/12/hhv_valentines_440x300px.jpg
END:VEVENT
BEGIN:VEVENT
DTSTART;TZID=Australia/Sydney:20240213T173000
DTEND;TZID=Australia/Sydney:20240213T210000
DTSTAMP:20260424T115046
CREATED:20230626T011924Z
LAST-MODIFIED:20230626T011924Z
UID:10001896-1707845400-1707858000@www.harriganshuntervalley.com.au
SUMMARY:Tuesday - Pizza Night
DESCRIPTION:Join us at Harrigan’s every Tuesday night for a delicious Chef selection of pizzas!\nFor $20 each. From 5:30pm to 9pm. \nT&C apply. \nReserve your table today.\nBook Now
URL:https://www.harriganshuntervalley.com.au/event/tuesday-pizza-night/2024-02-13/
LOCATION:Harrigan’s Hunter Valley\, Broke Road\, Pokolbin\, NSW\, 2320\, Australia
CATEGORIES:Food Specials
ATTACH;FMTTYPE=image/jpeg:https://www.harriganshuntervalley.com.au/wp-content/uploads/2023/06/tuesday_440x300px.jpg
END:VEVENT
BEGIN:VEVENT
DTSTART;TZID=Australia/Sydney:20240213T150000
DTEND;TZID=Australia/Sydney:20240213T170000
DTSTAMP:20260424T115046
CREATED:20220606T025124Z
LAST-MODIFIED:20260422T084526Z
UID:10007850-1707836400-1707843600@www.harriganshuntervalley.com.au
SUMMARY:Happy Hour
DESCRIPTION:Happy Hour Weekdays\nJoin us Monday to Friday between 3pm and 5pm for Harrigan’s Happy Hour. \nWe’ve got domestic beers from $7 and premium and craft beers from $8.50! \nT&C apply. Specials not available on public holidays.
URL:https://www.harriganshuntervalley.com.au/event/happy-hour/2024-02-13/
LOCATION:Harrigan’s Hunter Valley\, Broke Road\, Pokolbin\, NSW\, 2320\, Australia
CATEGORIES:Drinks Specials,Food Specials,Weekly Events
ATTACH;FMTTYPE=image/jpeg:https://www.harriganshuntervalley.com.au/wp-content/uploads/2022/06/HHV2026_035_happy_hour_website_800x600.jpg
END:VEVENT
BEGIN:VEVENT
DTSTART;TZID=Australia/Sydney:20240213T120000
DTEND;TZID=Australia/Sydney:20240213T150000
DTSTAMP:20260424T115046
CREATED:20230626T013043Z
LAST-MODIFIED:20260318T082126Z
UID:10002795-1707825600-1707836400@www.harriganshuntervalley.com.au
SUMMARY:Lunch Specials
DESCRIPTION:Lunch Specials from $20\nFrom Monday to Thursday\, between 12pm and 3pm\, join us at Harrigan’s Hunter Valley for our fantastic range of lunch specials starting at just $20. \nWe’ve got everything from pizzas\, wraps and burgers to salads and fish and chips. See the bistro menu for selection. \nT&C apply. Specials not available on public holidays. \nBook Now
URL:https://www.harriganshuntervalley.com.au/event/lunch-specials/2024-02-13/
LOCATION:Harrigan’s Hunter Valley\, Broke Road\, Pokolbin\, NSW\, 2320\, Australia
CATEGORIES:Food Specials,Weekly Events
ATTACH;FMTTYPE=image/jpeg:https://www.harriganshuntervalley.com.au/wp-content/uploads/2023/06/HHV2025_123_weekdays_lunch_specials_web_800x600.jpg
END:VEVENT
BEGIN:VEVENT
DTSTART;TZID=Australia/Sydney:20240212T173000
DTEND;TZID=Australia/Sydney:20240212T210000
DTSTAMP:20260424T115046
CREATED:20230626T010609Z
LAST-MODIFIED:20250409T025421Z
UID:10001617-1707759000-1707771600@www.harriganshuntervalley.com.au
SUMMARY:$24 Roast Special
DESCRIPTION:$24 ROAST SPECIAL (Chef’s Selection)\nSunday 5:30pm-9pm. Served with chef’s selection of sides.\nT&C apply. Specials not available on public holidays. \nBook Now
URL:https://www.harriganshuntervalley.com.au/event/monday-roast/2024-02-12/
LOCATION:Harrigan’s Hunter Valley\, Broke Road\, Pokolbin\, NSW\, 2320\, Australia
CATEGORIES:Food Specials
ATTACH;FMTTYPE=image/jpeg:https://www.harriganshuntervalley.com.au/wp-content/uploads/2023/06/HHV2025_029_specials-update_web_440x300px2.jpg
END:VEVENT
BEGIN:VEVENT
DTSTART;TZID=Australia/Sydney:20240212T150000
DTEND;TZID=Australia/Sydney:20240212T170000
DTSTAMP:20260424T115046
CREATED:20220606T025124Z
LAST-MODIFIED:20260422T084526Z
UID:10001335-1707750000-1707757200@www.harriganshuntervalley.com.au
SUMMARY:Happy Hour
DESCRIPTION:Happy Hour Weekdays\nJoin us Monday to Friday between 3pm and 5pm for Harrigan’s Happy Hour. \nWe’ve got domestic beers from $7 and premium and craft beers from $8.50! \nT&C apply. Specials not available on public holidays.
URL:https://www.harriganshuntervalley.com.au/event/happy-hour/2024-02-12/
LOCATION:Harrigan’s Hunter Valley\, Broke Road\, Pokolbin\, NSW\, 2320\, Australia
CATEGORIES:Drinks Specials,Food Specials,Weekly Events
ATTACH;FMTTYPE=image/jpeg:https://www.harriganshuntervalley.com.au/wp-content/uploads/2022/06/HHV2026_035_happy_hour_website_800x600.jpg
END:VEVENT
BEGIN:VEVENT
DTSTART;TZID=Australia/Sydney:20240212T120000
DTEND;TZID=Australia/Sydney:20240212T150000
DTSTAMP:20260424T115046
CREATED:20230626T013043Z
LAST-MODIFIED:20260318T082126Z
UID:10009399-1707739200-1707750000@www.harriganshuntervalley.com.au
SUMMARY:Lunch Specials
DESCRIPTION:Lunch Specials from $20\nFrom Monday to Thursday\, between 12pm and 3pm\, join us at Harrigan’s Hunter Valley for our fantastic range of lunch specials starting at just $20. \nWe’ve got everything from pizzas\, wraps and burgers to salads and fish and chips. See the bistro menu for selection. \nT&C apply. Specials not available on public holidays. \nBook Now
URL:https://www.harriganshuntervalley.com.au/event/lunch-specials/2024-02-12/
LOCATION:Harrigan’s Hunter Valley\, Broke Road\, Pokolbin\, NSW\, 2320\, Australia
CATEGORIES:Food Specials,Weekly Events
ATTACH;FMTTYPE=image/jpeg:https://www.harriganshuntervalley.com.au/wp-content/uploads/2023/06/HHV2025_123_weekdays_lunch_specials_web_800x600.jpg
END:VEVENT
BEGIN:VEVENT
DTSTART;TZID=Australia/Sydney:20240212T070000
DTEND;TZID=Australia/Sydney:20240212T210000
DTSTAMP:20260424T115046
CREATED:20231121T041926Z
LAST-MODIFIED:20231121T041926Z
UID:10003848-1707721200-1707771600@www.harriganshuntervalley.com.au
SUMMARY:Super Bowl LVIII
DESCRIPTION:Super Bowl LVIII\nWatch the game live and enjoy our food & drink specials! \nAmerican breakfast from 7am to 10:30pm. \nLunch and dinner specials from 11am to 3pm and 5:30pm to 9pm. \nHalf time challenge – Gridiron target toss. \nMenu \nBook Now
URL:https://www.harriganshuntervalley.com.au/event/super-bowl-lviii/
LOCATION:Harrigan’s Hunter Valley\, Broke Road\, Pokolbin\, NSW\, 2320\, Australia
CATEGORIES:Special Events
END:VEVENT
BEGIN:VEVENT
DTSTART;TZID=Australia/Sydney:20240211T203000
DTEND;TZID=Australia/Sydney:20240211T233000
DTSTAMP:20260424T115046
CREATED:20241029T011347Z
LAST-MODIFIED:20241029T013046Z
UID:10005710-1707683400-1707694200@www.harriganshuntervalley.com.au
SUMMARY:Auldberry
DESCRIPTION:Live music every weekend at Harrigan’s Hunter Valley
URL:https://www.harriganshuntervalley.com.au/event/auldberry-4/
CATEGORIES:Live Music
ATTACH;FMTTYPE=image/jpeg:https://www.harriganshuntervalley.com.au/wp-content/uploads/2023/08/Auldberry.jpg
END:VEVENT
BEGIN:VEVENT
DTSTART;TZID=Australia/Sydney:20240211T130000
DTEND;TZID=Australia/Sydney:20240211T160000
DTSTAMP:20260424T115046
CREATED:20241029T011340Z
LAST-MODIFIED:20241029T013046Z
UID:10005709-1707656400-1707667200@www.harriganshuntervalley.com.au
SUMMARY:Glen Harrison
DESCRIPTION:Live music every weekend at Harrigan’s Hunter Valley
URL:https://www.harriganshuntervalley.com.au/event/glen-harrison-5/
CATEGORIES:Live Music
ATTACH;FMTTYPE=image/jpeg:https://www.harriganshuntervalley.com.au/wp-content/uploads/2023/09/Glen-Harrison.jpg
END:VEVENT
BEGIN:VEVENT
DTSTART;TZID=Australia/Sydney:20240210T150000
DTEND;TZID=Australia/Sydney:20240210T170000
DTSTAMP:20260424T115046
CREATED:20241003T012534Z
LAST-MODIFIED:20260224T043828Z
UID:10005327-1707577200-1707584400@www.harriganshuntervalley.com.au
SUMMARY:Cocktail Hour
DESCRIPTION:Cocktail Hour\nGet classic cocktails for just $18 on Fridays from 4pm-6pm and Saturdays from 3pm-5pm. \nCheck out who’s playing on Friday and Saturday nights here. \nT&C apply. Specials not available on public holidays.
URL:https://www.harriganshuntervalley.com.au/event/cocktail-hour-2/2024-02-10/
LOCATION:Harrigan’s Hunter Valley\, Broke Road\, Pokolbin\, NSW\, 2320\, Australia
CATEGORIES:Drinks Specials,Food Specials,Weekly Events
ATTACH;FMTTYPE=image/jpeg:https://www.harriganshuntervalley.com.au/wp-content/uploads/2023/11/HHV2025_123_cocktail_hour_web_800x600.jpg
END:VEVENT
BEGIN:VEVENT
DTSTART;TZID=Australia/Sydney:20240209T160000
DTEND;TZID=Australia/Sydney:20240209T180000
DTSTAMP:20260424T115046
CREATED:20231123T015034Z
LAST-MODIFIED:20260224T043714Z
UID:10003860-1707494400-1707501600@www.harriganshuntervalley.com.au
SUMMARY:Cocktail Hour
DESCRIPTION:Cocktail Hour\nGet classic cocktails for just $18 on Fridays from 4pm-6pm and Saturdays from 3pm-5pm. \nCheck out who’s playing on Friday and Saturday nights here. \nT&C apply. Specials not available on public holidays.
URL:https://www.harriganshuntervalley.com.au/event/cocktail-hour/2024-02-09/
LOCATION:Harrigan’s Hunter Valley\, Broke Road\, Pokolbin\, NSW\, 2320\, Australia
CATEGORIES:Drinks Specials,Food Specials,Weekly Events
ATTACH;FMTTYPE=image/jpeg:https://www.harriganshuntervalley.com.au/wp-content/uploads/2023/11/HHV2025_123_cocktail_hour_web_800x600.jpg
END:VEVENT
BEGIN:VEVENT
DTSTART;TZID=Australia/Sydney:20240209T150000
DTEND;TZID=Australia/Sydney:20240209T170000
DTSTAMP:20260424T115046
CREATED:20220606T025124Z
LAST-MODIFIED:20260422T084526Z
UID:10007849-1707490800-1707498000@www.harriganshuntervalley.com.au
SUMMARY:Happy Hour
DESCRIPTION:Happy Hour Weekdays\nJoin us Monday to Friday between 3pm and 5pm for Harrigan’s Happy Hour. \nWe’ve got domestic beers from $7 and premium and craft beers from $8.50! \nT&C apply. Specials not available on public holidays.
URL:https://www.harriganshuntervalley.com.au/event/happy-hour/2024-02-09/
LOCATION:Harrigan’s Hunter Valley\, Broke Road\, Pokolbin\, NSW\, 2320\, Australia
CATEGORIES:Drinks Specials,Food Specials,Weekly Events
ATTACH;FMTTYPE=image/jpeg:https://www.harriganshuntervalley.com.au/wp-content/uploads/2022/06/HHV2026_035_happy_hour_website_800x600.jpg
END:VEVENT
BEGIN:VEVENT
DTSTART;TZID=Australia/Sydney:20240208T173000
DTEND;TZID=Australia/Sydney:20240208T210000
DTSTAMP:20260424T115046
CREATED:20230626T012552Z
LAST-MODIFIED:20260224T050648Z
UID:10002461-1707413400-1707426000@www.harriganshuntervalley.com.au
SUMMARY:Steak Night
DESCRIPTION:Thursday Steak Night\nThursday night is Steak Night at Harrigan’s Hunter Valley! \nEvery Thursday\, between 5:30pm and 9pm\, enjoy a delicious 250g rump steak dinner for just $30. Served with chips\, salad\, and your choice of sauce. \nT&C apply. Specials not available on public holidays. \nBook Now
URL:https://www.harriganshuntervalley.com.au/event/steak-night/2024-02-08/
LOCATION:Harrigan’s Hunter Valley\, Broke Road\, Pokolbin\, NSW\, 2320\, Australia
CATEGORIES:Food Specials,Weekly Events
ATTACH;FMTTYPE=image/jpeg:https://www.harriganshuntervalley.com.au/wp-content/uploads/2023/06/HHV2025_123_thursday_steak_night_web_800x600.jpg
END:VEVENT
BEGIN:VEVENT
DTSTART;TZID=Australia/Sydney:20240208T150000
DTEND;TZID=Australia/Sydney:20240208T170000
DTSTAMP:20260424T115046
CREATED:20220606T025124Z
LAST-MODIFIED:20260422T084526Z
UID:10007848-1707404400-1707411600@www.harriganshuntervalley.com.au
SUMMARY:Happy Hour
DESCRIPTION:Happy Hour Weekdays\nJoin us Monday to Friday between 3pm and 5pm for Harrigan’s Happy Hour. \nWe’ve got domestic beers from $7 and premium and craft beers from $8.50! \nT&C apply. Specials not available on public holidays.
URL:https://www.harriganshuntervalley.com.au/event/happy-hour/2024-02-08/
LOCATION:Harrigan’s Hunter Valley\, Broke Road\, Pokolbin\, NSW\, 2320\, Australia
CATEGORIES:Drinks Specials,Food Specials,Weekly Events
ATTACH;FMTTYPE=image/jpeg:https://www.harriganshuntervalley.com.au/wp-content/uploads/2022/06/HHV2026_035_happy_hour_website_800x600.jpg
END:VEVENT
BEGIN:VEVENT
DTSTART;TZID=Australia/Sydney:20240208T120000
DTEND;TZID=Australia/Sydney:20240208T150000
DTSTAMP:20260424T115047
CREATED:20230626T013043Z
LAST-MODIFIED:20260318T082126Z
UID:10009398-1707393600-1707404400@www.harriganshuntervalley.com.au
SUMMARY:Lunch Specials
DESCRIPTION:Lunch Specials from $20\nFrom Monday to Thursday\, between 12pm and 3pm\, join us at Harrigan’s Hunter Valley for our fantastic range of lunch specials starting at just $20. \nWe’ve got everything from pizzas\, wraps and burgers to salads and fish and chips. See the bistro menu for selection. \nT&C apply. Specials not available on public holidays. \nBook Now
URL:https://www.harriganshuntervalley.com.au/event/lunch-specials/2024-02-08/
LOCATION:Harrigan’s Hunter Valley\, Broke Road\, Pokolbin\, NSW\, 2320\, Australia
CATEGORIES:Food Specials,Weekly Events
ATTACH;FMTTYPE=image/jpeg:https://www.harriganshuntervalley.com.au/wp-content/uploads/2023/06/HHV2025_123_weekdays_lunch_specials_web_800x600.jpg
END:VEVENT
BEGIN:VEVENT
DTSTART;TZID=Australia/Sydney:20240207T173000
DTEND;TZID=Australia/Sydney:20240207T210000
DTSTAMP:20260424T115047
CREATED:20230626T012249Z
LAST-MODIFIED:20260224T043742Z
UID:10002178-1707327000-1707339600@www.harriganshuntervalley.com.au
SUMMARY:Ribs Night
DESCRIPTION:Wednesday Ribs Night\nWednesday night is Ribs Night at Harrigan’s Hunter Valley! \nEvery Wednesday\, between 5:30pm and 9pm\, enjoy our 1/2 rack of pork ribs for just $30 or upsize to a full rack for $52. Served with our creamy slaw and chips. \nT&C apply. Specials not available on public holidays. \nBook Now
URL:https://www.harriganshuntervalley.com.au/event/ribs-night/2024-02-07/
LOCATION:Harrigan’s Hunter Valley\, Broke Road\, Pokolbin\, NSW\, 2320\, Australia
CATEGORIES:Food Specials,Weekly Events
ATTACH;FMTTYPE=image/jpeg:https://www.harriganshuntervalley.com.au/wp-content/uploads/2023/06/HHV2025_123_wednesday_ribs_night_web_800x600.jpg
END:VEVENT
BEGIN:VEVENT
DTSTART;TZID=Australia/Sydney:20240207T150000
DTEND;TZID=Australia/Sydney:20240207T170000
DTSTAMP:20260424T115047
CREATED:20220606T025124Z
LAST-MODIFIED:20260422T084526Z
UID:10007847-1707318000-1707325200@www.harriganshuntervalley.com.au
SUMMARY:Happy Hour
DESCRIPTION:Happy Hour Weekdays\nJoin us Monday to Friday between 3pm and 5pm for Harrigan’s Happy Hour. \nWe’ve got domestic beers from $7 and premium and craft beers from $8.50! \nT&C apply. Specials not available on public holidays.
URL:https://www.harriganshuntervalley.com.au/event/happy-hour/2024-02-07/
LOCATION:Harrigan’s Hunter Valley\, Broke Road\, Pokolbin\, NSW\, 2320\, Australia
CATEGORIES:Drinks Specials,Food Specials,Weekly Events
ATTACH;FMTTYPE=image/jpeg:https://www.harriganshuntervalley.com.au/wp-content/uploads/2022/06/HHV2026_035_happy_hour_website_800x600.jpg
END:VEVENT
BEGIN:VEVENT
DTSTART;TZID=Australia/Sydney:20240207T120000
DTEND;TZID=Australia/Sydney:20240207T150000
DTSTAMP:20260424T115047
CREATED:20230626T013043Z
LAST-MODIFIED:20260318T082126Z
UID:10009397-1707307200-1707318000@www.harriganshuntervalley.com.au
SUMMARY:Lunch Specials
DESCRIPTION:Lunch Specials from $20\nFrom Monday to Thursday\, between 12pm and 3pm\, join us at Harrigan’s Hunter Valley for our fantastic range of lunch specials starting at just $20. \nWe’ve got everything from pizzas\, wraps and burgers to salads and fish and chips. See the bistro menu for selection. \nT&C apply. Specials not available on public holidays. \nBook Now
URL:https://www.harriganshuntervalley.com.au/event/lunch-specials/2024-02-07/
LOCATION:Harrigan’s Hunter Valley\, Broke Road\, Pokolbin\, NSW\, 2320\, Australia
CATEGORIES:Food Specials,Weekly Events
ATTACH;FMTTYPE=image/jpeg:https://www.harriganshuntervalley.com.au/wp-content/uploads/2023/06/HHV2025_123_weekdays_lunch_specials_web_800x600.jpg
END:VEVENT
BEGIN:VEVENT
DTSTART;TZID=Australia/Sydney:20240206T173000
DTEND;TZID=Australia/Sydney:20240206T210000
DTSTAMP:20260424T115047
CREATED:20230626T011924Z
LAST-MODIFIED:20230626T011924Z
UID:10001895-1707240600-1707253200@www.harriganshuntervalley.com.au
SUMMARY:Tuesday - Pizza Night
DESCRIPTION:Join us at Harrigan’s every Tuesday night for a delicious Chef selection of pizzas!\nFor $20 each. From 5:30pm to 9pm. \nT&C apply. \nReserve your table today.\nBook Now
URL:https://www.harriganshuntervalley.com.au/event/tuesday-pizza-night/2024-02-06/
LOCATION:Harrigan’s Hunter Valley\, Broke Road\, Pokolbin\, NSW\, 2320\, Australia
CATEGORIES:Food Specials
ATTACH;FMTTYPE=image/jpeg:https://www.harriganshuntervalley.com.au/wp-content/uploads/2023/06/tuesday_440x300px.jpg
END:VEVENT
BEGIN:VEVENT
DTSTART;TZID=Australia/Sydney:20240206T150000
DTEND;TZID=Australia/Sydney:20240206T170000
DTSTAMP:20260424T115047
CREATED:20220606T025124Z
LAST-MODIFIED:20260422T084526Z
UID:10007846-1707231600-1707238800@www.harriganshuntervalley.com.au
SUMMARY:Happy Hour
DESCRIPTION:Happy Hour Weekdays\nJoin us Monday to Friday between 3pm and 5pm for Harrigan’s Happy Hour. \nWe’ve got domestic beers from $7 and premium and craft beers from $8.50! \nT&C apply. Specials not available on public holidays.
URL:https://www.harriganshuntervalley.com.au/event/happy-hour/2024-02-06/
LOCATION:Harrigan’s Hunter Valley\, Broke Road\, Pokolbin\, NSW\, 2320\, Australia
CATEGORIES:Drinks Specials,Food Specials,Weekly Events
ATTACH;FMTTYPE=image/jpeg:https://www.harriganshuntervalley.com.au/wp-content/uploads/2022/06/HHV2026_035_happy_hour_website_800x600.jpg
END:VEVENT
BEGIN:VEVENT
DTSTART;TZID=Australia/Sydney:20240206T120000
DTEND;TZID=Australia/Sydney:20240206T150000
DTSTAMP:20260424T115047
CREATED:20230626T013043Z
LAST-MODIFIED:20260318T082126Z
UID:10002791-1707220800-1707231600@www.harriganshuntervalley.com.au
SUMMARY:Lunch Specials
DESCRIPTION:Lunch Specials from $20\nFrom Monday to Thursday\, between 12pm and 3pm\, join us at Harrigan’s Hunter Valley for our fantastic range of lunch specials starting at just $20. \nWe’ve got everything from pizzas\, wraps and burgers to salads and fish and chips. See the bistro menu for selection. \nT&C apply. Specials not available on public holidays. \nBook Now
URL:https://www.harriganshuntervalley.com.au/event/lunch-specials/2024-02-06/
LOCATION:Harrigan’s Hunter Valley\, Broke Road\, Pokolbin\, NSW\, 2320\, Australia
CATEGORIES:Food Specials,Weekly Events
ATTACH;FMTTYPE=image/jpeg:https://www.harriganshuntervalley.com.au/wp-content/uploads/2023/06/HHV2025_123_weekdays_lunch_specials_web_800x600.jpg
END:VEVENT
END:VCALENDAR