BEGIN:VCALENDAR
VERSION:2.0
PRODID:-//Harrigan&#039;s Hunter Valley - ECPv6.15.7//NONSGML v1.0//EN
CALSCALE:GREGORIAN
METHOD:PUBLISH
X-ORIGINAL-URL:https://www.harriganshuntervalley.com.au
X-WR-CALDESC:Events for Harrigan&#039;s Hunter Valley
REFRESH-INTERVAL;VALUE=DURATION:PT1H
X-Robots-Tag:noindex
X-PUBLISHED-TTL:PT1H
BEGIN:VTIMEZONE
TZID:Australia/Sydney
BEGIN:STANDARD
TZOFFSETFROM:+1100
TZOFFSETTO:+1000
TZNAME:AEST
DTSTART:20260404T160000
END:STANDARD
BEGIN:DAYLIGHT
TZOFFSETFROM:+1000
TZOFFSETTO:+1100
TZNAME:AEDT
DTSTART:20261003T160000
END:DAYLIGHT
BEGIN:STANDARD
TZOFFSETFROM:+1100
TZOFFSETTO:+1000
TZNAME:AEST
DTSTART:20270403T160000
END:STANDARD
BEGIN:DAYLIGHT
TZOFFSETFROM:+1000
TZOFFSETTO:+1100
TZNAME:AEDT
DTSTART:20271002T160000
END:DAYLIGHT
BEGIN:STANDARD
TZOFFSETFROM:+1100
TZOFFSETTO:+1000
TZNAME:AEST
DTSTART:20280401T160000
END:STANDARD
BEGIN:DAYLIGHT
TZOFFSETFROM:+1000
TZOFFSETTO:+1100
TZNAME:AEDT
DTSTART:20280930T160000
END:DAYLIGHT
END:VTIMEZONE
BEGIN:VEVENT
DTSTART;TZID=Australia/Sydney:20271020T173000
DTEND;TZID=Australia/Sydney:20271020T210000
DTSTAMP:20260425T122245
CREATED:20230626T012249Z
LAST-MODIFIED:20260224T043742Z
UID:10002371-1824053400-1824066000@www.harriganshuntervalley.com.au
SUMMARY:Ribs Night
DESCRIPTION:Wednesday Ribs Night\nWednesday night is Ribs Night at Harrigan’s Hunter Valley! \nEvery Wednesday\, between 5:30pm and 9pm\, enjoy our 1/2 rack of pork ribs for just $30 or upsize to a full rack for $52. Served with our creamy slaw and chips. \nT&C apply. Specials not available on public holidays. \nBook Now
URL:https://www.harriganshuntervalley.com.au/event/ribs-night/2027-10-20/
LOCATION:Harrigan’s Hunter Valley\, Broke Road\, Pokolbin\, NSW\, 2320\, Australia
CATEGORIES:Food Specials,Weekly Events
ATTACH;FMTTYPE=image/jpeg:https://www.harriganshuntervalley.com.au/wp-content/uploads/2023/06/HHV2025_123_wednesday_ribs_night_web_800x600.jpg
END:VEVENT
BEGIN:VEVENT
DTSTART;TZID=Australia/Sydney:20271021T120000
DTEND;TZID=Australia/Sydney:20271021T150000
DTSTAMP:20260425T122245
CREATED:20230626T013043Z
LAST-MODIFIED:20260318T082126Z
UID:10009977-1824120000-1824130800@www.harriganshuntervalley.com.au
SUMMARY:Lunch Specials
DESCRIPTION:Lunch Specials from $20\nFrom Monday to Thursday\, between 12pm and 3pm\, join us at Harrigan’s Hunter Valley for our fantastic range of lunch specials starting at just $20. \nWe’ve got everything from pizzas\, wraps and burgers to salads and fish and chips. See the bistro menu for selection. \nT&C apply. Specials not available on public holidays. \nBook Now
URL:https://www.harriganshuntervalley.com.au/event/lunch-specials/2027-10-21/
LOCATION:Harrigan’s Hunter Valley\, Broke Road\, Pokolbin\, NSW\, 2320\, Australia
CATEGORIES:Food Specials,Weekly Events
ATTACH;FMTTYPE=image/jpeg:https://www.harriganshuntervalley.com.au/wp-content/uploads/2023/06/HHV2025_123_weekdays_lunch_specials_web_800x600.jpg
END:VEVENT
BEGIN:VEVENT
DTSTART;TZID=Australia/Sydney:20271021T150000
DTEND;TZID=Australia/Sydney:20271021T170000
DTSTAMP:20260425T122245
CREATED:20220606T025124Z
LAST-MODIFIED:20260422T084526Z
UID:10008620-1824130800-1824138000@www.harriganshuntervalley.com.au
SUMMARY:Happy Hour
DESCRIPTION:Happy Hour Weekdays\nJoin us Monday to Friday between 3pm and 5pm for Harrigan’s Happy Hour. \nWe’ve got domestic beers from $7 and premium and craft beers from $8.50! \nT&C apply. Specials not available on public holidays.
URL:https://www.harriganshuntervalley.com.au/event/happy-hour/2027-10-21/
LOCATION:Harrigan’s Hunter Valley\, Broke Road\, Pokolbin\, NSW\, 2320\, Australia
CATEGORIES:Drinks Specials,Food Specials,Weekly Events
ATTACH;FMTTYPE=image/jpeg:https://www.harriganshuntervalley.com.au/wp-content/uploads/2022/06/HHV2026_035_happy_hour_website_800x600.jpg
END:VEVENT
BEGIN:VEVENT
DTSTART;TZID=Australia/Sydney:20271021T173000
DTEND;TZID=Australia/Sydney:20271021T210000
DTSTAMP:20260425T122245
CREATED:20230626T012552Z
LAST-MODIFIED:20260224T050648Z
UID:10002653-1824139800-1824152400@www.harriganshuntervalley.com.au
SUMMARY:Steak Night
DESCRIPTION:Thursday Steak Night\nThursday night is Steak Night at Harrigan’s Hunter Valley! \nEvery Thursday\, between 5:30pm and 9pm\, enjoy a delicious 250g rump steak dinner for just $30. Served with chips\, salad\, and your choice of sauce. \nT&C apply. Specials not available on public holidays. \nBook Now
URL:https://www.harriganshuntervalley.com.au/event/steak-night/2027-10-21/
LOCATION:Harrigan’s Hunter Valley\, Broke Road\, Pokolbin\, NSW\, 2320\, Australia
CATEGORIES:Food Specials,Weekly Events
ATTACH;FMTTYPE=image/jpeg:https://www.harriganshuntervalley.com.au/wp-content/uploads/2023/06/HHV2025_123_thursday_steak_night_web_800x600.jpg
END:VEVENT
BEGIN:VEVENT
DTSTART;TZID=Australia/Sydney:20271022T150000
DTEND;TZID=Australia/Sydney:20271022T170000
DTSTAMP:20260425T122245
CREATED:20220606T025124Z
LAST-MODIFIED:20260422T084526Z
UID:10008621-1824217200-1824224400@www.harriganshuntervalley.com.au
SUMMARY:Happy Hour
DESCRIPTION:Happy Hour Weekdays\nJoin us Monday to Friday between 3pm and 5pm for Harrigan’s Happy Hour. \nWe’ve got domestic beers from $7 and premium and craft beers from $8.50! \nT&C apply. Specials not available on public holidays.
URL:https://www.harriganshuntervalley.com.au/event/happy-hour/2027-10-22/
LOCATION:Harrigan’s Hunter Valley\, Broke Road\, Pokolbin\, NSW\, 2320\, Australia
CATEGORIES:Drinks Specials,Food Specials,Weekly Events
ATTACH;FMTTYPE=image/jpeg:https://www.harriganshuntervalley.com.au/wp-content/uploads/2022/06/HHV2026_035_happy_hour_website_800x600.jpg
END:VEVENT
BEGIN:VEVENT
DTSTART;TZID=Australia/Sydney:20271022T160000
DTEND;TZID=Australia/Sydney:20271022T180000
DTSTAMP:20260425T122245
CREATED:20231123T015034Z
LAST-MODIFIED:20260224T043714Z
UID:10004053-1824220800-1824228000@www.harriganshuntervalley.com.au
SUMMARY:Cocktail Hour
DESCRIPTION:Cocktail Hour\nGet classic cocktails for just $18 on Fridays from 4pm-6pm and Saturdays from 3pm-5pm. \nCheck out who’s playing on Friday and Saturday nights here. \nT&C apply. Specials not available on public holidays.
URL:https://www.harriganshuntervalley.com.au/event/cocktail-hour/2027-10-22/
LOCATION:Harrigan’s Hunter Valley\, Broke Road\, Pokolbin\, NSW\, 2320\, Australia
CATEGORIES:Drinks Specials,Food Specials,Weekly Events
ATTACH;FMTTYPE=image/jpeg:https://www.harriganshuntervalley.com.au/wp-content/uploads/2023/11/HHV2025_123_cocktail_hour_web_800x600.jpg
END:VEVENT
BEGIN:VEVENT
DTSTART;TZID=Australia/Sydney:20271023T150000
DTEND;TZID=Australia/Sydney:20271023T170000
DTSTAMP:20260425T122245
CREATED:20241003T012534Z
LAST-MODIFIED:20260224T043828Z
UID:10005520-1824303600-1824310800@www.harriganshuntervalley.com.au
SUMMARY:Cocktail Hour
DESCRIPTION:Cocktail Hour\nGet classic cocktails for just $18 on Fridays from 4pm-6pm and Saturdays from 3pm-5pm. \nCheck out who’s playing on Friday and Saturday nights here. \nT&C apply. Specials not available on public holidays.
URL:https://www.harriganshuntervalley.com.au/event/cocktail-hour-2/2027-10-23/
LOCATION:Harrigan’s Hunter Valley\, Broke Road\, Pokolbin\, NSW\, 2320\, Australia
CATEGORIES:Drinks Specials,Food Specials,Weekly Events
ATTACH;FMTTYPE=image/jpeg:https://www.harriganshuntervalley.com.au/wp-content/uploads/2023/11/HHV2025_123_cocktail_hour_web_800x600.jpg
END:VEVENT
BEGIN:VEVENT
DTSTART;TZID=Australia/Sydney:20271024T173000
DTEND;TZID=Australia/Sydney:20271024T210000
DTSTAMP:20260425T122245
CREATED:20250409T025433Z
LAST-MODIFIED:20260224T035057Z
UID:10006116-1824399000-1824411600@www.harriganshuntervalley.com.au
SUMMARY:Roast Night
DESCRIPTION:Sunday Roast Night\nSunday night is Roast Night at Harrigan’s Hunter Valley! \nEvery Sunday\, between 5:30pm and 9pm\, you can stop in for a classic roast dinner for just $24. Served with chef’s selection of sides. \nT&C apply. Specials not available on public holidays. \nBook Now
URL:https://www.harriganshuntervalley.com.au/event/roast-special/2027-10-24/
LOCATION:Harrigan’s Hunter Valley\, Broke Road\, Pokolbin\, NSW\, 2320\, Australia
CATEGORIES:Food Specials,Weekly Events
ATTACH;FMTTYPE=image/jpeg:https://www.harriganshuntervalley.com.au/wp-content/uploads/2025/04/HHV2025_123_sunday_roast_night_web_800x600.jpg
END:VEVENT
BEGIN:VEVENT
DTSTART;TZID=Australia/Sydney:20271025T120000
DTEND;TZID=Australia/Sydney:20271025T150000
DTSTAMP:20260425T122245
CREATED:20230626T013043Z
LAST-MODIFIED:20260318T082126Z
UID:10009978-1824465600-1824476400@www.harriganshuntervalley.com.au
SUMMARY:Lunch Specials
DESCRIPTION:Lunch Specials from $20\nFrom Monday to Thursday\, between 12pm and 3pm\, join us at Harrigan’s Hunter Valley for our fantastic range of lunch specials starting at just $20. \nWe’ve got everything from pizzas\, wraps and burgers to salads and fish and chips. See the bistro menu for selection. \nT&C apply. Specials not available on public holidays. \nBook Now
URL:https://www.harriganshuntervalley.com.au/event/lunch-specials/2027-10-25/
LOCATION:Harrigan’s Hunter Valley\, Broke Road\, Pokolbin\, NSW\, 2320\, Australia
CATEGORIES:Food Specials,Weekly Events
ATTACH;FMTTYPE=image/jpeg:https://www.harriganshuntervalley.com.au/wp-content/uploads/2023/06/HHV2025_123_weekdays_lunch_specials_web_800x600.jpg
END:VEVENT
BEGIN:VEVENT
DTSTART;TZID=Australia/Sydney:20271025T150000
DTEND;TZID=Australia/Sydney:20271025T170000
DTSTAMP:20260425T122245
CREATED:20220606T025124Z
LAST-MODIFIED:20260422T084526Z
UID:10001528-1824476400-1824483600@www.harriganshuntervalley.com.au
SUMMARY:Happy Hour
DESCRIPTION:Happy Hour Weekdays\nJoin us Monday to Friday between 3pm and 5pm for Harrigan’s Happy Hour. \nWe’ve got domestic beers from $7 and premium and craft beers from $8.50! \nT&C apply. Specials not available on public holidays.
URL:https://www.harriganshuntervalley.com.au/event/happy-hour/2027-10-25/
LOCATION:Harrigan’s Hunter Valley\, Broke Road\, Pokolbin\, NSW\, 2320\, Australia
CATEGORIES:Drinks Specials,Food Specials,Weekly Events
ATTACH;FMTTYPE=image/jpeg:https://www.harriganshuntervalley.com.au/wp-content/uploads/2022/06/HHV2026_035_happy_hour_website_800x600.jpg
END:VEVENT
BEGIN:VEVENT
DTSTART;TZID=Australia/Sydney:20271025T173000
DTEND;TZID=Australia/Sydney:20271025T210000
DTSTAMP:20260425T122245
CREATED:20250409T030110Z
LAST-MODIFIED:20260225T020205Z
UID:10006638-1824485400-1824498000@www.harriganshuntervalley.com.au
SUMMARY:Curry Night
DESCRIPTION:Monday Curry Night\nMonday night is Curry Night at Harrigan’s Hunter Valley! \nEvery Monday\, between 5:30pm and 9pm\, enjoy a delicious chef’s selection curry for just $20. Served with rice and papadum. \nT&C apply. Specials not available on public holidays. \nBook Now
URL:https://www.harriganshuntervalley.com.au/event/curry-special/2027-10-25/
LOCATION:Harrigan’s Hunter Valley\, Broke Road\, Pokolbin\, NSW\, 2320\, Australia
CATEGORIES:Food Specials,Weekly Events
ATTACH;FMTTYPE=image/jpeg:https://www.harriganshuntervalley.com.au/wp-content/uploads/2025/04/HHV2025_123_curry_night_web_800x600.jpg
END:VEVENT
BEGIN:VEVENT
DTSTART;TZID=Australia/Sydney:20271026T120000
DTEND;TZID=Australia/Sydney:20271026T150000
DTSTAMP:20260425T122245
CREATED:20230626T013043Z
LAST-MODIFIED:20260318T082126Z
UID:10003562-1824552000-1824562800@www.harriganshuntervalley.com.au
SUMMARY:Lunch Specials
DESCRIPTION:Lunch Specials from $20\nFrom Monday to Thursday\, between 12pm and 3pm\, join us at Harrigan’s Hunter Valley for our fantastic range of lunch specials starting at just $20. \nWe’ve got everything from pizzas\, wraps and burgers to salads and fish and chips. See the bistro menu for selection. \nT&C apply. Specials not available on public holidays. \nBook Now
URL:https://www.harriganshuntervalley.com.au/event/lunch-specials/2027-10-26/
LOCATION:Harrigan’s Hunter Valley\, Broke Road\, Pokolbin\, NSW\, 2320\, Australia
CATEGORIES:Food Specials,Weekly Events
ATTACH;FMTTYPE=image/jpeg:https://www.harriganshuntervalley.com.au/wp-content/uploads/2023/06/HHV2025_123_weekdays_lunch_specials_web_800x600.jpg
END:VEVENT
BEGIN:VEVENT
DTSTART;TZID=Australia/Sydney:20271026T150000
DTEND;TZID=Australia/Sydney:20271026T170000
DTSTAMP:20260425T122245
CREATED:20220606T025124Z
LAST-MODIFIED:20260422T084526Z
UID:10008622-1824562800-1824570000@www.harriganshuntervalley.com.au
SUMMARY:Happy Hour
DESCRIPTION:Happy Hour Weekdays\nJoin us Monday to Friday between 3pm and 5pm for Harrigan’s Happy Hour. \nWe’ve got domestic beers from $7 and premium and craft beers from $8.50! \nT&C apply. Specials not available on public holidays.
URL:https://www.harriganshuntervalley.com.au/event/happy-hour/2027-10-26/
LOCATION:Harrigan’s Hunter Valley\, Broke Road\, Pokolbin\, NSW\, 2320\, Australia
CATEGORIES:Drinks Specials,Food Specials,Weekly Events
ATTACH;FMTTYPE=image/jpeg:https://www.harriganshuntervalley.com.au/wp-content/uploads/2022/06/HHV2026_035_happy_hour_website_800x600.jpg
END:VEVENT
BEGIN:VEVENT
DTSTART;TZID=Australia/Sydney:20271026T173000
DTEND;TZID=Australia/Sydney:20271026T210000
DTSTAMP:20260425T122245
CREATED:20240508T030650Z
LAST-MODIFIED:20260224T043753Z
UID:10004349-1824571800-1824584400@www.harriganshuntervalley.com.au
SUMMARY:Schnitty Night
DESCRIPTION:Tuesday Schnitty Night\nTuesday night is Schnitty Night at Harrigan’s Hunter Valley! \nEvery Tuesday\, between 5:30pm and 9pm\, enjoy a classic schnitzel dinner for just $20. Served with chips\, salad and gravy\, or make it a parmigiana for an extra $4. \nT&C apply. Specials not available on public holidays. \nBook Now
URL:https://www.harriganshuntervalley.com.au/event/schnitty-night/2027-10-26/
LOCATION:Harrigan’s Hunter Valley\, Broke Road\, Pokolbin\, NSW\, 2320\, Australia
CATEGORIES:Food Specials,Weekly Events
ATTACH;FMTTYPE=image/jpeg:https://www.harriganshuntervalley.com.au/wp-content/uploads/2024/05/HHV2025_123_tuesday_schnitty_night_web_800x600.jpg
END:VEVENT
BEGIN:VEVENT
DTSTART;TZID=Australia/Sydney:20271027T120000
DTEND;TZID=Australia/Sydney:20271027T150000
DTSTAMP:20260425T122245
CREATED:20230626T013043Z
LAST-MODIFIED:20260318T082126Z
UID:10009979-1824638400-1824649200@www.harriganshuntervalley.com.au
SUMMARY:Lunch Specials
DESCRIPTION:Lunch Specials from $20\nFrom Monday to Thursday\, between 12pm and 3pm\, join us at Harrigan’s Hunter Valley for our fantastic range of lunch specials starting at just $20. \nWe’ve got everything from pizzas\, wraps and burgers to salads and fish and chips. See the bistro menu for selection. \nT&C apply. Specials not available on public holidays. \nBook Now
URL:https://www.harriganshuntervalley.com.au/event/lunch-specials/2027-10-27/
LOCATION:Harrigan’s Hunter Valley\, Broke Road\, Pokolbin\, NSW\, 2320\, Australia
CATEGORIES:Food Specials,Weekly Events
ATTACH;FMTTYPE=image/jpeg:https://www.harriganshuntervalley.com.au/wp-content/uploads/2023/06/HHV2025_123_weekdays_lunch_specials_web_800x600.jpg
END:VEVENT
BEGIN:VEVENT
DTSTART;TZID=Australia/Sydney:20271027T150000
DTEND;TZID=Australia/Sydney:20271027T170000
DTSTAMP:20260425T122245
CREATED:20220606T025124Z
LAST-MODIFIED:20260422T084526Z
UID:10008623-1824649200-1824656400@www.harriganshuntervalley.com.au
SUMMARY:Happy Hour
DESCRIPTION:Happy Hour Weekdays\nJoin us Monday to Friday between 3pm and 5pm for Harrigan’s Happy Hour. \nWe’ve got domestic beers from $7 and premium and craft beers from $8.50! \nT&C apply. Specials not available on public holidays.
URL:https://www.harriganshuntervalley.com.au/event/happy-hour/2027-10-27/
LOCATION:Harrigan’s Hunter Valley\, Broke Road\, Pokolbin\, NSW\, 2320\, Australia
CATEGORIES:Drinks Specials,Food Specials,Weekly Events
ATTACH;FMTTYPE=image/jpeg:https://www.harriganshuntervalley.com.au/wp-content/uploads/2022/06/HHV2026_035_happy_hour_website_800x600.jpg
END:VEVENT
BEGIN:VEVENT
DTSTART;TZID=Australia/Sydney:20271027T173000
DTEND;TZID=Australia/Sydney:20271027T210000
DTSTAMP:20260425T122245
CREATED:20230626T012249Z
LAST-MODIFIED:20260224T043742Z
UID:10002372-1824658200-1824670800@www.harriganshuntervalley.com.au
SUMMARY:Ribs Night
DESCRIPTION:Wednesday Ribs Night\nWednesday night is Ribs Night at Harrigan’s Hunter Valley! \nEvery Wednesday\, between 5:30pm and 9pm\, enjoy our 1/2 rack of pork ribs for just $30 or upsize to a full rack for $52. Served with our creamy slaw and chips. \nT&C apply. Specials not available on public holidays. \nBook Now
URL:https://www.harriganshuntervalley.com.au/event/ribs-night/2027-10-27/
LOCATION:Harrigan’s Hunter Valley\, Broke Road\, Pokolbin\, NSW\, 2320\, Australia
CATEGORIES:Food Specials,Weekly Events
ATTACH;FMTTYPE=image/jpeg:https://www.harriganshuntervalley.com.au/wp-content/uploads/2023/06/HHV2025_123_wednesday_ribs_night_web_800x600.jpg
END:VEVENT
BEGIN:VEVENT
DTSTART;TZID=Australia/Sydney:20271028T120000
DTEND;TZID=Australia/Sydney:20271028T150000
DTSTAMP:20260425T122245
CREATED:20230626T013043Z
LAST-MODIFIED:20260318T082126Z
UID:10009980-1824724800-1824735600@www.harriganshuntervalley.com.au
SUMMARY:Lunch Specials
DESCRIPTION:Lunch Specials from $20\nFrom Monday to Thursday\, between 12pm and 3pm\, join us at Harrigan’s Hunter Valley for our fantastic range of lunch specials starting at just $20. \nWe’ve got everything from pizzas\, wraps and burgers to salads and fish and chips. See the bistro menu for selection. \nT&C apply. Specials not available on public holidays. \nBook Now
URL:https://www.harriganshuntervalley.com.au/event/lunch-specials/2027-10-28/
LOCATION:Harrigan’s Hunter Valley\, Broke Road\, Pokolbin\, NSW\, 2320\, Australia
CATEGORIES:Food Specials,Weekly Events
ATTACH;FMTTYPE=image/jpeg:https://www.harriganshuntervalley.com.au/wp-content/uploads/2023/06/HHV2025_123_weekdays_lunch_specials_web_800x600.jpg
END:VEVENT
BEGIN:VEVENT
DTSTART;TZID=Australia/Sydney:20271028T150000
DTEND;TZID=Australia/Sydney:20271028T170000
DTSTAMP:20260425T122245
CREATED:20220606T025124Z
LAST-MODIFIED:20260422T084526Z
UID:10008624-1824735600-1824742800@www.harriganshuntervalley.com.au
SUMMARY:Happy Hour
DESCRIPTION:Happy Hour Weekdays\nJoin us Monday to Friday between 3pm and 5pm for Harrigan’s Happy Hour. \nWe’ve got domestic beers from $7 and premium and craft beers from $8.50! \nT&C apply. Specials not available on public holidays.
URL:https://www.harriganshuntervalley.com.au/event/happy-hour/2027-10-28/
LOCATION:Harrigan’s Hunter Valley\, Broke Road\, Pokolbin\, NSW\, 2320\, Australia
CATEGORIES:Drinks Specials,Food Specials,Weekly Events
ATTACH;FMTTYPE=image/jpeg:https://www.harriganshuntervalley.com.au/wp-content/uploads/2022/06/HHV2026_035_happy_hour_website_800x600.jpg
END:VEVENT
BEGIN:VEVENT
DTSTART;TZID=Australia/Sydney:20271028T173000
DTEND;TZID=Australia/Sydney:20271028T210000
DTSTAMP:20260425T122245
CREATED:20230626T012552Z
LAST-MODIFIED:20260224T050648Z
UID:10002654-1824744600-1824757200@www.harriganshuntervalley.com.au
SUMMARY:Steak Night
DESCRIPTION:Thursday Steak Night\nThursday night is Steak Night at Harrigan’s Hunter Valley! \nEvery Thursday\, between 5:30pm and 9pm\, enjoy a delicious 250g rump steak dinner for just $30. Served with chips\, salad\, and your choice of sauce. \nT&C apply. Specials not available on public holidays. \nBook Now
URL:https://www.harriganshuntervalley.com.au/event/steak-night/2027-10-28/
LOCATION:Harrigan’s Hunter Valley\, Broke Road\, Pokolbin\, NSW\, 2320\, Australia
CATEGORIES:Food Specials,Weekly Events
ATTACH;FMTTYPE=image/jpeg:https://www.harriganshuntervalley.com.au/wp-content/uploads/2023/06/HHV2025_123_thursday_steak_night_web_800x600.jpg
END:VEVENT
BEGIN:VEVENT
DTSTART;TZID=Australia/Sydney:20271029T150000
DTEND;TZID=Australia/Sydney:20271029T170000
DTSTAMP:20260425T122245
CREATED:20220606T025124Z
LAST-MODIFIED:20260422T084526Z
UID:10008625-1824822000-1824829200@www.harriganshuntervalley.com.au
SUMMARY:Happy Hour
DESCRIPTION:Happy Hour Weekdays\nJoin us Monday to Friday between 3pm and 5pm for Harrigan’s Happy Hour. \nWe’ve got domestic beers from $7 and premium and craft beers from $8.50! \nT&C apply. Specials not available on public holidays.
URL:https://www.harriganshuntervalley.com.au/event/happy-hour/2027-10-29/
LOCATION:Harrigan’s Hunter Valley\, Broke Road\, Pokolbin\, NSW\, 2320\, Australia
CATEGORIES:Drinks Specials,Food Specials,Weekly Events
ATTACH;FMTTYPE=image/jpeg:https://www.harriganshuntervalley.com.au/wp-content/uploads/2022/06/HHV2026_035_happy_hour_website_800x600.jpg
END:VEVENT
BEGIN:VEVENT
DTSTART;TZID=Australia/Sydney:20271029T160000
DTEND;TZID=Australia/Sydney:20271029T180000
DTSTAMP:20260425T122245
CREATED:20231123T015034Z
LAST-MODIFIED:20260224T043714Z
UID:10004054-1824825600-1824832800@www.harriganshuntervalley.com.au
SUMMARY:Cocktail Hour
DESCRIPTION:Cocktail Hour\nGet classic cocktails for just $18 on Fridays from 4pm-6pm and Saturdays from 3pm-5pm. \nCheck out who’s playing on Friday and Saturday nights here. \nT&C apply. Specials not available on public holidays.
URL:https://www.harriganshuntervalley.com.au/event/cocktail-hour/2027-10-29/
LOCATION:Harrigan’s Hunter Valley\, Broke Road\, Pokolbin\, NSW\, 2320\, Australia
CATEGORIES:Drinks Specials,Food Specials,Weekly Events
ATTACH;FMTTYPE=image/jpeg:https://www.harriganshuntervalley.com.au/wp-content/uploads/2023/11/HHV2025_123_cocktail_hour_web_800x600.jpg
END:VEVENT
BEGIN:VEVENT
DTSTART;TZID=Australia/Sydney:20271030T150000
DTEND;TZID=Australia/Sydney:20271030T170000
DTSTAMP:20260425T122245
CREATED:20241003T012534Z
LAST-MODIFIED:20260224T043828Z
UID:10005521-1824908400-1824915600@www.harriganshuntervalley.com.au
SUMMARY:Cocktail Hour
DESCRIPTION:Cocktail Hour\nGet classic cocktails for just $18 on Fridays from 4pm-6pm and Saturdays from 3pm-5pm. \nCheck out who’s playing on Friday and Saturday nights here. \nT&C apply. Specials not available on public holidays.
URL:https://www.harriganshuntervalley.com.au/event/cocktail-hour-2/2027-10-30/
LOCATION:Harrigan’s Hunter Valley\, Broke Road\, Pokolbin\, NSW\, 2320\, Australia
CATEGORIES:Drinks Specials,Food Specials,Weekly Events
ATTACH;FMTTYPE=image/jpeg:https://www.harriganshuntervalley.com.au/wp-content/uploads/2023/11/HHV2025_123_cocktail_hour_web_800x600.jpg
END:VEVENT
BEGIN:VEVENT
DTSTART;TZID=Australia/Sydney:20271031T173000
DTEND;TZID=Australia/Sydney:20271031T210000
DTSTAMP:20260425T122245
CREATED:20250409T025433Z
LAST-MODIFIED:20260224T035057Z
UID:10006117-1825003800-1825016400@www.harriganshuntervalley.com.au
SUMMARY:Roast Night
DESCRIPTION:Sunday Roast Night\nSunday night is Roast Night at Harrigan’s Hunter Valley! \nEvery Sunday\, between 5:30pm and 9pm\, you can stop in for a classic roast dinner for just $24. Served with chef’s selection of sides. \nT&C apply. Specials not available on public holidays. \nBook Now
URL:https://www.harriganshuntervalley.com.au/event/roast-special/2027-10-31/
LOCATION:Harrigan’s Hunter Valley\, Broke Road\, Pokolbin\, NSW\, 2320\, Australia
CATEGORIES:Food Specials,Weekly Events
ATTACH;FMTTYPE=image/jpeg:https://www.harriganshuntervalley.com.au/wp-content/uploads/2025/04/HHV2025_123_sunday_roast_night_web_800x600.jpg
END:VEVENT
BEGIN:VEVENT
DTSTART;TZID=Australia/Sydney:20271101T120000
DTEND;TZID=Australia/Sydney:20271101T150000
DTSTAMP:20260425T122245
CREATED:20230626T013043Z
LAST-MODIFIED:20260318T082126Z
UID:10009981-1825070400-1825081200@www.harriganshuntervalley.com.au
SUMMARY:Lunch Specials
DESCRIPTION:Lunch Specials from $20\nFrom Monday to Thursday\, between 12pm and 3pm\, join us at Harrigan’s Hunter Valley for our fantastic range of lunch specials starting at just $20. \nWe’ve got everything from pizzas\, wraps and burgers to salads and fish and chips. See the bistro menu for selection. \nT&C apply. Specials not available on public holidays. \nBook Now
URL:https://www.harriganshuntervalley.com.au/event/lunch-specials/2027-11-01/
LOCATION:Harrigan’s Hunter Valley\, Broke Road\, Pokolbin\, NSW\, 2320\, Australia
CATEGORIES:Food Specials,Weekly Events
ATTACH;FMTTYPE=image/jpeg:https://www.harriganshuntervalley.com.au/wp-content/uploads/2023/06/HHV2025_123_weekdays_lunch_specials_web_800x600.jpg
END:VEVENT
BEGIN:VEVENT
DTSTART;TZID=Australia/Sydney:20271101T150000
DTEND;TZID=Australia/Sydney:20271101T170000
DTSTAMP:20260425T122245
CREATED:20220606T025124Z
LAST-MODIFIED:20260422T084526Z
UID:10001529-1825081200-1825088400@www.harriganshuntervalley.com.au
SUMMARY:Happy Hour
DESCRIPTION:Happy Hour Weekdays\nJoin us Monday to Friday between 3pm and 5pm for Harrigan’s Happy Hour. \nWe’ve got domestic beers from $7 and premium and craft beers from $8.50! \nT&C apply. Specials not available on public holidays.
URL:https://www.harriganshuntervalley.com.au/event/happy-hour/2027-11-01/
LOCATION:Harrigan’s Hunter Valley\, Broke Road\, Pokolbin\, NSW\, 2320\, Australia
CATEGORIES:Drinks Specials,Food Specials,Weekly Events
ATTACH;FMTTYPE=image/jpeg:https://www.harriganshuntervalley.com.au/wp-content/uploads/2022/06/HHV2026_035_happy_hour_website_800x600.jpg
END:VEVENT
BEGIN:VEVENT
DTSTART;TZID=Australia/Sydney:20271101T173000
DTEND;TZID=Australia/Sydney:20271101T210000
DTSTAMP:20260425T122245
CREATED:20250409T030110Z
LAST-MODIFIED:20260225T020205Z
UID:10006639-1825090200-1825102800@www.harriganshuntervalley.com.au
SUMMARY:Curry Night
DESCRIPTION:Monday Curry Night\nMonday night is Curry Night at Harrigan’s Hunter Valley! \nEvery Monday\, between 5:30pm and 9pm\, enjoy a delicious chef’s selection curry for just $20. Served with rice and papadum. \nT&C apply. Specials not available on public holidays. \nBook Now
URL:https://www.harriganshuntervalley.com.au/event/curry-special/2027-11-01/
LOCATION:Harrigan’s Hunter Valley\, Broke Road\, Pokolbin\, NSW\, 2320\, Australia
CATEGORIES:Food Specials,Weekly Events
ATTACH;FMTTYPE=image/jpeg:https://www.harriganshuntervalley.com.au/wp-content/uploads/2025/04/HHV2025_123_curry_night_web_800x600.jpg
END:VEVENT
BEGIN:VEVENT
DTSTART;TZID=Australia/Sydney:20271102T120000
DTEND;TZID=Australia/Sydney:20271102T150000
DTSTAMP:20260425T122245
CREATED:20230626T013043Z
LAST-MODIFIED:20260318T082126Z
UID:10003566-1825156800-1825167600@www.harriganshuntervalley.com.au
SUMMARY:Lunch Specials
DESCRIPTION:Lunch Specials from $20\nFrom Monday to Thursday\, between 12pm and 3pm\, join us at Harrigan’s Hunter Valley for our fantastic range of lunch specials starting at just $20. \nWe’ve got everything from pizzas\, wraps and burgers to salads and fish and chips. See the bistro menu for selection. \nT&C apply. Specials not available on public holidays. \nBook Now
URL:https://www.harriganshuntervalley.com.au/event/lunch-specials/2027-11-02/
LOCATION:Harrigan’s Hunter Valley\, Broke Road\, Pokolbin\, NSW\, 2320\, Australia
CATEGORIES:Food Specials,Weekly Events
ATTACH;FMTTYPE=image/jpeg:https://www.harriganshuntervalley.com.au/wp-content/uploads/2023/06/HHV2025_123_weekdays_lunch_specials_web_800x600.jpg
END:VEVENT
BEGIN:VEVENT
DTSTART;TZID=Australia/Sydney:20271102T150000
DTEND;TZID=Australia/Sydney:20271102T170000
DTSTAMP:20260425T122245
CREATED:20220606T025124Z
LAST-MODIFIED:20260422T084526Z
UID:10008626-1825167600-1825174800@www.harriganshuntervalley.com.au
SUMMARY:Happy Hour
DESCRIPTION:Happy Hour Weekdays\nJoin us Monday to Friday between 3pm and 5pm for Harrigan’s Happy Hour. \nWe’ve got domestic beers from $7 and premium and craft beers from $8.50! \nT&C apply. Specials not available on public holidays.
URL:https://www.harriganshuntervalley.com.au/event/happy-hour/2027-11-02/
LOCATION:Harrigan’s Hunter Valley\, Broke Road\, Pokolbin\, NSW\, 2320\, Australia
CATEGORIES:Drinks Specials,Food Specials,Weekly Events
ATTACH;FMTTYPE=image/jpeg:https://www.harriganshuntervalley.com.au/wp-content/uploads/2022/06/HHV2026_035_happy_hour_website_800x600.jpg
END:VEVENT
BEGIN:VEVENT
DTSTART;TZID=Australia/Sydney:20271102T173000
DTEND;TZID=Australia/Sydney:20271102T210000
DTSTAMP:20260425T122245
CREATED:20240508T030650Z
LAST-MODIFIED:20260224T043753Z
UID:10004350-1825176600-1825189200@www.harriganshuntervalley.com.au
SUMMARY:Schnitty Night
DESCRIPTION:Tuesday Schnitty Night\nTuesday night is Schnitty Night at Harrigan’s Hunter Valley! \nEvery Tuesday\, between 5:30pm and 9pm\, enjoy a classic schnitzel dinner for just $20. Served with chips\, salad and gravy\, or make it a parmigiana for an extra $4. \nT&C apply. Specials not available on public holidays. \nBook Now
URL:https://www.harriganshuntervalley.com.au/event/schnitty-night/2027-11-02/
LOCATION:Harrigan’s Hunter Valley\, Broke Road\, Pokolbin\, NSW\, 2320\, Australia
CATEGORIES:Food Specials,Weekly Events
ATTACH;FMTTYPE=image/jpeg:https://www.harriganshuntervalley.com.au/wp-content/uploads/2024/05/HHV2025_123_tuesday_schnitty_night_web_800x600.jpg
END:VEVENT
END:VCALENDAR