BEGIN:VCALENDAR
VERSION:2.0
PRODID:-//Harrigan&#039;s Hunter Valley - ECPv6.15.7//NONSGML v1.0//EN
CALSCALE:GREGORIAN
METHOD:PUBLISH
X-ORIGINAL-URL:https://www.harriganshuntervalley.com.au
X-WR-CALDESC:Events for Harrigan&#039;s Hunter Valley
REFRESH-INTERVAL;VALUE=DURATION:PT1H
X-Robots-Tag:noindex
X-PUBLISHED-TTL:PT1H
BEGIN:VTIMEZONE
TZID:Australia/Sydney
BEGIN:STANDARD
TZOFFSETFROM:+1100
TZOFFSETTO:+1000
TZNAME:AEST
DTSTART:20250405T160000
END:STANDARD
BEGIN:DAYLIGHT
TZOFFSETFROM:+1000
TZOFFSETTO:+1100
TZNAME:AEDT
DTSTART:20251004T160000
END:DAYLIGHT
BEGIN:STANDARD
TZOFFSETFROM:+1100
TZOFFSETTO:+1000
TZNAME:AEST
DTSTART:20260404T160000
END:STANDARD
BEGIN:DAYLIGHT
TZOFFSETFROM:+1000
TZOFFSETTO:+1100
TZNAME:AEDT
DTSTART:20261003T160000
END:DAYLIGHT
BEGIN:STANDARD
TZOFFSETFROM:+1100
TZOFFSETTO:+1000
TZNAME:AEST
DTSTART:20270403T160000
END:STANDARD
BEGIN:DAYLIGHT
TZOFFSETFROM:+1000
TZOFFSETTO:+1100
TZNAME:AEDT
DTSTART:20271002T160000
END:DAYLIGHT
END:VTIMEZONE
BEGIN:VEVENT
DTSTART;TZID=Australia/Sydney:20260425T100000
DTEND;TZID=Australia/Sydney:20260427T233000
DTSTAMP:20260424T084306
CREATED:20260415T052953Z
LAST-MODIFIED:20260415T054320Z
UID:10010532-1777111200-1777332600@www.harriganshuntervalley.com.au
SUMMARY:ANZAC Day 2026
DESCRIPTION:ANZAC Day 2026\nAfter the morning’s commemorations\, join us at Harrigan’s Hunter Valley. Gather with friends and family over great food and atmosphere\, and enjoy live music into the evening. \nWe have live entertainment by DJ Kiwi Decks from 4:30pm to 7:30pm\, followed by Tre Soul from 8:30pm to 11:30pm. \nOur ANZAC long weekend specials menu will be available for lunch and dinner from Saturday 25 April through to Monday 27 April. \nBookings are recommended for lunch and dinner. \nLest we forget. \nBook Now
URL:https://www.harriganshuntervalley.com.au/event/anzac-day-2026/
CATEGORIES:Special Events
ATTACH;FMTTYPE=image/jpeg:https://www.harriganshuntervalley.com.au/wp-content/uploads/2026/04/HHV2026_022_anzac_day_web_800x600.jpg
END:VEVENT
BEGIN:VEVENT
DTSTART;TZID=Australia/Sydney:20260426T130000
DTEND;TZID=Australia/Sydney:20260426T160000
DTSTAMP:20260424T084306
CREATED:20260401T033836Z
LAST-MODIFIED:20260401T033836Z
UID:10010531-1777208400-1777219200@www.harriganshuntervalley.com.au
SUMMARY:Harrison Hoven
DESCRIPTION:Live music every weekend at Harrigan’s Hunter Valley
URL:https://www.harriganshuntervalley.com.au/event/harrison-hoven-15/
CATEGORIES:Live Music
ATTACH;FMTTYPE=image/jpeg:https://www.harriganshuntervalley.com.au/wp-content/uploads/2024/07/202408_harrison-hoven_440x300px.jpg
END:VEVENT
BEGIN:VEVENT
DTSTART;TZID=Australia/Sydney:20260426T173000
DTEND;TZID=Australia/Sydney:20260426T210000
DTSTAMP:20260424T084306
CREATED:20250409T025433Z
LAST-MODIFIED:20260224T035057Z
UID:10006038-1777224600-1777237200@www.harriganshuntervalley.com.au
SUMMARY:Roast Night
DESCRIPTION:Sunday Roast Night\nSunday night is Roast Night at Harrigan’s Hunter Valley! \nEvery Sunday\, between 5:30pm and 9pm\, you can stop in for a classic roast dinner for just $24. Served with chef’s selection of sides. \nT&C apply. Specials not available on public holidays. \nBook Now
URL:https://www.harriganshuntervalley.com.au/event/roast-special/2026-04-26/
LOCATION:Harrigan’s Hunter Valley\, Broke Road\, Pokolbin\, NSW\, 2320\, Australia
CATEGORIES:Food Specials,Weekly Events
ATTACH;FMTTYPE=image/jpeg:https://www.harriganshuntervalley.com.au/wp-content/uploads/2025/04/HHV2025_123_sunday_roast_night_web_800x600.jpg
END:VEVENT
END:VCALENDAR