BEGIN:VCALENDAR
VERSION:2.0
PRODID:-//Harrigan&#039;s Hunter Valley - ECPv6.15.7//NONSGML v1.0//EN
CALSCALE:GREGORIAN
METHOD:PUBLISH
X-ORIGINAL-URL:https://www.harriganshuntervalley.com.au
X-WR-CALDESC:Events for Harrigan&#039;s Hunter Valley
REFRESH-INTERVAL;VALUE=DURATION:PT1H
X-Robots-Tag:noindex
X-PUBLISHED-TTL:PT1H
BEGIN:VTIMEZONE
TZID:Australia/Sydney
BEGIN:STANDARD
TZOFFSETFROM:+1100
TZOFFSETTO:+1000
TZNAME:AEST
DTSTART:20250405T160000
END:STANDARD
BEGIN:DAYLIGHT
TZOFFSETFROM:+1000
TZOFFSETTO:+1100
TZNAME:AEDT
DTSTART:20251004T160000
END:DAYLIGHT
BEGIN:STANDARD
TZOFFSETFROM:+1100
TZOFFSETTO:+1000
TZNAME:AEST
DTSTART:20260404T160000
END:STANDARD
BEGIN:DAYLIGHT
TZOFFSETFROM:+1000
TZOFFSETTO:+1100
TZNAME:AEDT
DTSTART:20261003T160000
END:DAYLIGHT
BEGIN:STANDARD
TZOFFSETFROM:+1100
TZOFFSETTO:+1000
TZNAME:AEST
DTSTART:20270403T160000
END:STANDARD
BEGIN:DAYLIGHT
TZOFFSETFROM:+1000
TZOFFSETTO:+1100
TZNAME:AEDT
DTSTART:20271002T160000
END:DAYLIGHT
END:VTIMEZONE
BEGIN:VEVENT
DTSTART;TZID=Australia/Sydney:20260403T100000
DTEND;TZID=Australia/Sydney:20260406T220000
DTSTAMP:20260424T095024
CREATED:20260331T050735Z
LAST-MODIFIED:20260331T055940Z
UID:10010514-1775210400-1775512800@www.harriganshuntervalley.com.au
SUMMARY:Easter Weekend
DESCRIPTION:Easter Weekend at Harrigan’s Hunter Valley\nCelebrate the Easter long weekend at Harrigan’s Hunter Valley with four days of live entertainment\, food specials and yummy drinks in the heart of wine country. \nEntertainment\nSaturday 4 AprilDJ Lily Anna | 4:30pm – 7:30pmHouseband | 8:30pm – 11:30pm \nSunday 5 AprilVelvet Moon | 1pm – 4pmCircus Duo | 7pm – 10pm \nMonday 6 AprilRebecca Henry | 1pm – 4pm \nEaster Specials (3 – 6 April) \nSeafood platter | $56\nBeer battered fish fillets\, prawns\, calamari\, barramundi fillet and baby octopus served with fresh garden salad\, chips and lemon wedges \nLamb + rosemary sausages | $30\nServed with creamy mash potato\, green peas and red wine jus \nFish burger | $20\nCrispy battered fish fillet\, cos lettuce\, tomato\, lemon garlic mayonnaise and side of chips \nCobia fish curry | $24\nCobia fish coconut milk curry served with jasmine rice and fresh coriander \nEaster Cocktail \nToblerone | $18\nFrangelico\, Kahlua\, Baileys\, cream and chocolate syrup \nBook Now
URL:https://www.harriganshuntervalley.com.au/event/easter-weekend-2026/
CATEGORIES:Special Events
ATTACH;FMTTYPE=image/jpeg:https://www.harriganshuntervalley.com.au/wp-content/uploads/2026/03/HHV2026_021_easter_weekend_web_800x600.jpg
END:VEVENT
BEGIN:VEVENT
DTSTART;TZID=Australia/Sydney:20260406T120000
DTEND;TZID=Australia/Sydney:20260406T150000
DTSTAMP:20260424T095024
CREATED:20230626T013043Z
LAST-MODIFIED:20260318T082126Z
UID:10009735-1775476800-1775487600@www.harriganshuntervalley.com.au
SUMMARY:Lunch Specials
DESCRIPTION:Lunch Specials from $20\nFrom Monday to Thursday\, between 12pm and 3pm\, join us at Harrigan’s Hunter Valley for our fantastic range of lunch specials starting at just $20. \nWe’ve got everything from pizzas\, wraps and burgers to salads and fish and chips. See the bistro menu for selection. \nT&C apply. Specials not available on public holidays. \nBook Now
URL:https://www.harriganshuntervalley.com.au/event/lunch-specials/2026-04-06/
LOCATION:Harrigan’s Hunter Valley\, Broke Road\, Pokolbin\, NSW\, 2320\, Australia
CATEGORIES:Food Specials,Weekly Events
ATTACH;FMTTYPE=image/jpeg:https://www.harriganshuntervalley.com.au/wp-content/uploads/2023/06/HHV2025_123_weekdays_lunch_specials_web_800x600.jpg
END:VEVENT
BEGIN:VEVENT
DTSTART;TZID=Australia/Sydney:20260406T130000
DTEND;TZID=Australia/Sydney:20260406T160000
DTSTAMP:20260424T095024
CREATED:20260401T032536Z
LAST-MODIFIED:20260401T032536Z
UID:10010519-1775480400-1775491200@www.harriganshuntervalley.com.au
SUMMARY:Rebecca Henry
DESCRIPTION:Live music every weekend at Harrigan’s Hunter Valley
URL:https://www.harriganshuntervalley.com.au/event/rebecca-henry-13/
CATEGORIES:Live Music
ATTACH;FMTTYPE=image/jpeg:https://www.harriganshuntervalley.com.au/wp-content/uploads/2026/04/Rebecca-Henry3.jpg
END:VEVENT
BEGIN:VEVENT
DTSTART;TZID=Australia/Sydney:20260406T150000
DTEND;TZID=Australia/Sydney:20260406T170000
DTSTAMP:20260424T095024
CREATED:20220606T025124Z
LAST-MODIFIED:20260422T084526Z
UID:10001447-1775487600-1775494800@www.harriganshuntervalley.com.au
SUMMARY:Happy Hour
DESCRIPTION:Happy Hour Weekdays\nJoin us Monday to Friday between 3pm and 5pm for Harrigan’s Happy Hour. \nWe’ve got domestic beers from $7 and premium and craft beers from $8.50! \nT&C apply. Specials not available on public holidays.
URL:https://www.harriganshuntervalley.com.au/event/happy-hour/2026-04-06/
LOCATION:Harrigan’s Hunter Valley\, Broke Road\, Pokolbin\, NSW\, 2320\, Australia
CATEGORIES:Drinks Specials,Food Specials,Weekly Events
ATTACH;FMTTYPE=image/jpeg:https://www.harriganshuntervalley.com.au/wp-content/uploads/2022/06/HHV2026_035_happy_hour_website_800x600.jpg
END:VEVENT
BEGIN:VEVENT
DTSTART;TZID=Australia/Sydney:20260406T173000
DTEND;TZID=Australia/Sydney:20260406T210000
DTSTAMP:20260424T095024
CREATED:20250409T030110Z
LAST-MODIFIED:20260225T020205Z
UID:10006557-1775496600-1775509200@www.harriganshuntervalley.com.au
SUMMARY:Curry Night
DESCRIPTION:Monday Curry Night\nMonday night is Curry Night at Harrigan’s Hunter Valley! \nEvery Monday\, between 5:30pm and 9pm\, enjoy a delicious chef’s selection curry for just $20. Served with rice and papadum. \nT&C apply. Specials not available on public holidays. \nBook Now
URL:https://www.harriganshuntervalley.com.au/event/curry-special/2026-04-06/
LOCATION:Harrigan’s Hunter Valley\, Broke Road\, Pokolbin\, NSW\, 2320\, Australia
CATEGORIES:Food Specials,Weekly Events
ATTACH;FMTTYPE=image/jpeg:https://www.harriganshuntervalley.com.au/wp-content/uploads/2025/04/HHV2025_123_curry_night_web_800x600.jpg
END:VEVENT
END:VCALENDAR