BEGIN:VCALENDAR
VERSION:2.0
PRODID:-//Harrigan&#039;s Hunter Valley - ECPv6.15.7//NONSGML v1.0//EN
CALSCALE:GREGORIAN
METHOD:PUBLISH
X-WR-CALNAME:Harrigan&#039;s Hunter Valley
X-ORIGINAL-URL:https://www.harriganshuntervalley.com.au
X-WR-CALDESC:Events for Harrigan&#039;s Hunter Valley
REFRESH-INTERVAL;VALUE=DURATION:PT1H
X-Robots-Tag:noindex
X-PUBLISHED-TTL:PT1H
BEGIN:VTIMEZONE
TZID:Australia/Sydney
BEGIN:STANDARD
TZOFFSETFROM:+1100
TZOFFSETTO:+1000
TZNAME:AEST
DTSTART:20250405T160000
END:STANDARD
BEGIN:DAYLIGHT
TZOFFSETFROM:+1000
TZOFFSETTO:+1100
TZNAME:AEDT
DTSTART:20251004T160000
END:DAYLIGHT
BEGIN:STANDARD
TZOFFSETFROM:+1100
TZOFFSETTO:+1000
TZNAME:AEST
DTSTART:20260404T160000
END:STANDARD
BEGIN:DAYLIGHT
TZOFFSETFROM:+1000
TZOFFSETTO:+1100
TZNAME:AEDT
DTSTART:20261003T160000
END:DAYLIGHT
BEGIN:STANDARD
TZOFFSETFROM:+1100
TZOFFSETTO:+1000
TZNAME:AEST
DTSTART:20270403T160000
END:STANDARD
BEGIN:DAYLIGHT
TZOFFSETFROM:+1000
TZOFFSETTO:+1100
TZNAME:AEDT
DTSTART:20271002T160000
END:DAYLIGHT
END:VTIMEZONE
BEGIN:VEVENT
DTSTART;TZID=Australia/Sydney:20260403T100000
DTEND;TZID=Australia/Sydney:20260406T220000
DTSTAMP:20260424T094402
CREATED:20260331T050735Z
LAST-MODIFIED:20260331T055940Z
UID:10010514-1775210400-1775512800@www.harriganshuntervalley.com.au
SUMMARY:Easter Weekend
DESCRIPTION:Easter Weekend at Harrigan’s Hunter Valley\nCelebrate the Easter long weekend at Harrigan’s Hunter Valley with four days of live entertainment\, food specials and yummy drinks in the heart of wine country. \nEntertainment\nSaturday 4 AprilDJ Lily Anna | 4:30pm – 7:30pmHouseband | 8:30pm – 11:30pm \nSunday 5 AprilVelvet Moon | 1pm – 4pmCircus Duo | 7pm – 10pm \nMonday 6 AprilRebecca Henry | 1pm – 4pm \nEaster Specials (3 – 6 April) \nSeafood platter | $56\nBeer battered fish fillets\, prawns\, calamari\, barramundi fillet and baby octopus served with fresh garden salad\, chips and lemon wedges \nLamb + rosemary sausages | $30\nServed with creamy mash potato\, green peas and red wine jus \nFish burger | $20\nCrispy battered fish fillet\, cos lettuce\, tomato\, lemon garlic mayonnaise and side of chips \nCobia fish curry | $24\nCobia fish coconut milk curry served with jasmine rice and fresh coriander \nEaster Cocktail \nToblerone | $18\nFrangelico\, Kahlua\, Baileys\, cream and chocolate syrup \nBook Now
URL:https://www.harriganshuntervalley.com.au/event/easter-weekend-2026/
CATEGORIES:Special Events
ATTACH;FMTTYPE=image/jpeg:https://www.harriganshuntervalley.com.au/wp-content/uploads/2026/03/HHV2026_021_easter_weekend_web_800x600.jpg
END:VEVENT
BEGIN:VEVENT
DTSTART;TZID=Australia/Sydney:20260404T150000
DTEND;TZID=Australia/Sydney:20260404T170000
DTSTAMP:20260424T094402
CREATED:20241003T012534Z
LAST-MODIFIED:20260224T043828Z
UID:10005439-1775314800-1775322000@www.harriganshuntervalley.com.au
SUMMARY:Cocktail Hour
DESCRIPTION:Cocktail Hour\nGet classic cocktails for just $18 on Fridays from 4pm-6pm and Saturdays from 3pm-5pm. \nCheck out who’s playing on Friday and Saturday nights here. \nT&C apply. Specials not available on public holidays.
URL:https://www.harriganshuntervalley.com.au/event/cocktail-hour-2/2026-04-04/
LOCATION:Harrigan’s Hunter Valley\, Broke Road\, Pokolbin\, NSW\, 2320\, Australia
CATEGORIES:Drinks Specials,Food Specials,Weekly Events
ATTACH;FMTTYPE=image/jpeg:https://www.harriganshuntervalley.com.au/wp-content/uploads/2023/11/HHV2025_123_cocktail_hour_web_800x600.jpg
END:VEVENT
BEGIN:VEVENT
DTSTART;TZID=Australia/Sydney:20260404T163000
DTEND;TZID=Australia/Sydney:20260404T193000
DTSTAMP:20260424T094402
CREATED:20260331T061402Z
LAST-MODIFIED:20260331T061402Z
UID:10010515-1775320200-1775331000@www.harriganshuntervalley.com.au
SUMMARY:DJ Lily Anna
DESCRIPTION:Live music every weekend at Harrigan’s Hunter Valley
URL:https://www.harriganshuntervalley.com.au/event/dj-lily-anna-2/
CATEGORIES:Live Music
ATTACH;FMTTYPE=image/jpeg:https://www.harriganshuntervalley.com.au/wp-content/uploads/2026/03/DJ-Lily-Anna-2.jpg
END:VEVENT
BEGIN:VEVENT
DTSTART;TZID=Australia/Sydney:20260404T203000
DTEND;TZID=Australia/Sydney:20260404T233000
DTSTAMP:20260424T094402
CREATED:20260401T032214Z
LAST-MODIFIED:20260401T032214Z
UID:10010516-1775334600-1775345400@www.harriganshuntervalley.com.au
SUMMARY:Houseband
DESCRIPTION:Live music every weekend at Harrigan’s Hunter Valley
URL:https://www.harriganshuntervalley.com.au/event/houseband-13/
CATEGORIES:Live Music
ATTACH;FMTTYPE=image/jpeg:https://www.harriganshuntervalley.com.au/wp-content/uploads/2024/01/Houseband.jpg
END:VEVENT
END:VCALENDAR